BEGIN:VCALENDAR
VERSION:2.0
PRODID:-//»wirundjetzt« - ECPv6.15.17.1//NONSGML v1.0//EN
CALSCALE:GREGORIAN
METHOD:PUBLISH
X-WR-CALNAME:»wirundjetzt«
X-ORIGINAL-URL:https://wirundjetzt.org
X-WR-CALDESC:Veranstaltungen für »wirundjetzt«
REFRESH-INTERVAL;VALUE=DURATION:PT1H
X-Robots-Tag:noindex
X-PUBLISHED-TTL:PT1H
BEGIN:VTIMEZONE
TZID:Europe/Berlin
BEGIN:DAYLIGHT
TZOFFSETFROM:+0100
TZOFFSETTO:+0200
TZNAME:CEST
DTSTART:20230326T010000
END:DAYLIGHT
BEGIN:STANDARD
TZOFFSETFROM:+0200
TZOFFSETTO:+0100
TZNAME:CET
DTSTART:20231029T010000
END:STANDARD
BEGIN:DAYLIGHT
TZOFFSETFROM:+0100
TZOFFSETTO:+0200
TZNAME:CEST
DTSTART:20240331T010000
END:DAYLIGHT
BEGIN:STANDARD
TZOFFSETFROM:+0200
TZOFFSETTO:+0100
TZNAME:CET
DTSTART:20241027T010000
END:STANDARD
BEGIN:DAYLIGHT
TZOFFSETFROM:+0100
TZOFFSETTO:+0200
TZNAME:CEST
DTSTART:20250330T010000
END:DAYLIGHT
BEGIN:STANDARD
TZOFFSETFROM:+0200
TZOFFSETTO:+0100
TZNAME:CET
DTSTART:20251026T010000
END:STANDARD
END:VTIMEZONE
BEGIN:VEVENT
DTSTART;TZID=Europe/Berlin:20241130T130000
DTEND;TZID=Europe/Berlin:20241130T220000
DTSTAMP:20260422T034202
CREATED:20241120T102251Z
LAST-MODIFIED:20241120T102251Z
UID:10001320-1732971600-1733004000@wirundjetzt.org
SUMMARY:Nikolausmarkt in Wittenhofen
DESCRIPTION:Nikolausmarkt in Wittenhofen\nWann: Sa\, 30. November 2024\, 13:00 – 22:00 Uhr\nWo: Vor der Grundschule in Wittenhofen\n  \nEin Artikel von Andrea Wolter: \nSehen wir uns auf dem Nikolausmarkt? \nJedes Jahr wieder verwandelt sich das Gelände vor der Grundschule in Wittenhofen am ersten Adventswochenende auf zauberhafte Weise. \nAm Samstag\, den 30.11. ist wieder Nikolausmarkt im D-Tal und auch die Mitmach-Region ist gemeinsam mit dem Verein „wirundjetzt“ dabei.\nWer auf der Suche nach Geschenken oder festlicher Dekoration für Zuhause ist\, findet unter Adventskränzen\, Kerzen und schönem Baumschmuck sicher das Richtige. Handgemachtes und weihnachtliche Leckereien wie heißen Apfelpunsch und veganen Gulasch bei uns am Stand oder Met\, Backwerk\, Waffeln\, Würstchen und vieles mehr an den Ständen von all den anderen aktiven Vereinen und Vereinigungen laden zum Verweilen und Plaudern ein. Eine schöne Gelegenheit mit uns ins Gespräch zu kommen. Wir freuen uns auf Ihren Besuch. \nTermin: Samstag\, 30. November 2024\, 13:00 – 22:00 Uhr
URL:https://wirundjetzt.org/event/nikolausmarkt-in-wittenhofen/
LOCATION:Vor der Grundschule in Wittenhofen\, Deggenhausertal\, Wittenhofen\, Germany
CATEGORIES:»wirundjetzt«-Veranstaltung
END:VEVENT
END:VCALENDAR