BEGIN:VCALENDAR
VERSION:2.0
PRODID:-//»wirundjetzt« - ECPv6.15.17.1//NONSGML v1.0//EN
CALSCALE:GREGORIAN
METHOD:PUBLISH
X-ORIGINAL-URL:https://wirundjetzt.org
X-WR-CALDESC:Veranstaltungen für »wirundjetzt«
REFRESH-INTERVAL;VALUE=DURATION:PT1H
X-Robots-Tag:noindex
X-PUBLISHED-TTL:PT1H
BEGIN:VTIMEZONE
TZID:Europe/Berlin
BEGIN:DAYLIGHT
TZOFFSETFROM:+0100
TZOFFSETTO:+0200
TZNAME:CEST
DTSTART:20170326T010000
END:DAYLIGHT
BEGIN:STANDARD
TZOFFSETFROM:+0200
TZOFFSETTO:+0100
TZNAME:CET
DTSTART:20171029T010000
END:STANDARD
BEGIN:DAYLIGHT
TZOFFSETFROM:+0100
TZOFFSETTO:+0200
TZNAME:CEST
DTSTART:20180325T010000
END:DAYLIGHT
BEGIN:STANDARD
TZOFFSETFROM:+0200
TZOFFSETTO:+0100
TZNAME:CET
DTSTART:20181028T010000
END:STANDARD
BEGIN:DAYLIGHT
TZOFFSETFROM:+0100
TZOFFSETTO:+0200
TZNAME:CEST
DTSTART:20190331T010000
END:DAYLIGHT
BEGIN:STANDARD
TZOFFSETFROM:+0200
TZOFFSETTO:+0100
TZNAME:CET
DTSTART:20191027T010000
END:STANDARD
BEGIN:DAYLIGHT
TZOFFSETFROM:+0100
TZOFFSETTO:+0200
TZNAME:CEST
DTSTART:20200329T010000
END:DAYLIGHT
BEGIN:STANDARD
TZOFFSETFROM:+0200
TZOFFSETTO:+0100
TZNAME:CET
DTSTART:20201025T010000
END:STANDARD
END:VTIMEZONE
BEGIN:VEVENT
DTSTART;TZID=Europe/Berlin:20190204T170000
DTEND;TZID=Europe/Berlin:20190204T210000
DTSTAMP:20260423T053400
CREATED:20190127T161621Z
LAST-MODIFIED:20190127T161839Z
UID:10000430-1549299600-1549314000@wirundjetzt.org
SUMMARY:wirundjetzt - erreichBar
DESCRIPTION:Von 19.00 Uhr bis 21.00 Uhr wollen wir mit euch zusammen planen\, Ideen schmieden und Projekte umsetzen. Wir wollen regelmäßig zusammen sein und konkret an den Projekten und Ideen Arbeiten und uns austauschen. Dazu laden wir euch herzlich ein.
URL:https://wirundjetzt.org/event/wirundjetzt-erreichbar/
LOCATION:Sedat\, Rathausplatz 3\, Bermatingen\, Deutschland
GEO:47.7295086;9.3495026
X-APPLE-STRUCTURED-LOCATION;VALUE=URI;X-ADDRESS=Sedat Rathausplatz 3 Bermatingen Deutschland;X-APPLE-RADIUS=500;X-TITLE=Rathausplatz 3:geo:9.3495026,47.7295086
END:VEVENT
BEGIN:VEVENT
DTSTART;TZID=Europe/Berlin:20181203T190000
DTEND;TZID=Europe/Berlin:20181203T210000
DTSTAMP:20260423T053400
CREATED:20180910T160127Z
LAST-MODIFIED:20180910T160127Z
UID:10000087-1543863600-1543870800@wirundjetzt.org
SUMMARY:erreichbar dezember 2018
DESCRIPTION:erreichbar\n\n\n\nwirundjetzt treffen der aktiven\n\n\n\n\n\n\nVon 19.00 Uhr bis 21.00 Uhr wollen wir mit euch zusammen planen\, Ideen schmieden und Projekte umsetzen. Wir wollen regelmäßig zusammen sein und konkret an den Projekten und Ideen Arbeiten und uns austauschen. Dazu laden wir euch herzlich ein.\nWir sind in 88697 Bermatingen\, Rathausplatz 3\, im Büro von Oliver Endrikat (Sedat GmbH). \n\n\n\n\n\n\n\n\n\n\n\n\n\n 
URL:https://wirundjetzt.org/event/erreichbar-dezember-2018/
LOCATION:Sedat\, Rathausplatz 3\, Bermatingen\, Deutschland
CATEGORIES:Vernetzungstreffen,»wirundjetzt«-Veranstaltung
ATTACH;FMTTYPE=image/jpeg:https://wirundjetzt.org/wp-content/uploads/2017/07/Hackschnitzel-Jump-DSC_3103-1-1.jpg
GEO:47.7295086;9.3495026
X-APPLE-STRUCTURED-LOCATION;VALUE=URI;X-ADDRESS=Sedat Rathausplatz 3 Bermatingen Deutschland;X-APPLE-RADIUS=500;X-TITLE=Rathausplatz 3:geo:9.3495026,47.7295086
END:VEVENT
BEGIN:VEVENT
DTSTART;TZID=Europe/Berlin:20181105T190000
DTEND;TZID=Europe/Berlin:20181105T210000
DTSTAMP:20260423T053400
CREATED:20180910T160004Z
LAST-MODIFIED:20180910T160004Z
UID:10000084-1541444400-1541451600@wirundjetzt.org
SUMMARY:erreichbar november 2018
DESCRIPTION:erreichbar\n\n\n\nwirundjetzt treffen der aktiven\n\n\n\n\n\n\nVon 19.00 Uhr bis 21.00 Uhr wollen wir mit euch zusammen planen\, Ideen schmieden und Projekte umsetzen. Wir wollen regelmäßig zusammen sein und konkret an den Projekten und Ideen Arbeiten und uns austauschen. Dazu laden wir euch herzlich ein.\nWir sind in 88697 Bermatingen\, Rathausplatz 3\, im Büro von Oliver Endrikat (Sedat GmbH). \n\n\n\n\n\n\n\n\n\n\n\n\n\n 
URL:https://wirundjetzt.org/event/erreichbar-november-2018/
LOCATION:Sedat\, Rathausplatz 3\, Bermatingen\, Deutschland
CATEGORIES:Vernetzungstreffen,»wirundjetzt«-Veranstaltung
ATTACH;FMTTYPE=image/jpeg:https://wirundjetzt.org/wp-content/uploads/2017/07/Hackschnitzel-Jump-DSC_3103-1-1.jpg
GEO:47.7295086;9.3495026
X-APPLE-STRUCTURED-LOCATION;VALUE=URI;X-ADDRESS=Sedat Rathausplatz 3 Bermatingen Deutschland;X-APPLE-RADIUS=500;X-TITLE=Rathausplatz 3:geo:9.3495026,47.7295086
END:VEVENT
BEGIN:VEVENT
DTSTART;TZID=Europe/Berlin:20181001T190000
DTEND;TZID=Europe/Berlin:20181001T210000
DTSTAMP:20260423T053400
CREATED:20180910T155858Z
LAST-MODIFIED:20180910T155858Z
UID:10000082-1538420400-1538427600@wirundjetzt.org
SUMMARY:erreichbar oktober 2018
DESCRIPTION:erreichbar\n\n\n\nwirundjetzt treffen der aktiven\n\n\n\n\n\n\nVon 19.00 Uhr bis 21.00 Uhr wollen wir mit euch zusammen planen\, Ideen schmieden und Projekte umsetzen. Wir wollen regelmäßig zusammen sein und konkret an den Projekten und Ideen Arbeiten und uns austauschen. Dazu laden wir euch herzlich ein.\nWir sind in 88697 Bermatingen\, Rathausplatz 3\, im Büro von Oliver Endrikat (Sedat GmbH). \n\n\n\n\n\n\n\n\n\n\n\n\n\n 
URL:https://wirundjetzt.org/event/erreichbar-oktober-2018/
LOCATION:Sedat\, Rathausplatz 3\, Bermatingen\, Deutschland
CATEGORIES:Vernetzungstreffen,»wirundjetzt«-Veranstaltung
ATTACH;FMTTYPE=image/jpeg:https://wirundjetzt.org/wp-content/uploads/2017/07/Hackschnitzel-Jump-DSC_3103-1-1.jpg
GEO:47.7295086;9.3495026
X-APPLE-STRUCTURED-LOCATION;VALUE=URI;X-ADDRESS=Sedat Rathausplatz 3 Bermatingen Deutschland;X-APPLE-RADIUS=500;X-TITLE=Rathausplatz 3:geo:9.3495026,47.7295086
END:VEVENT
BEGIN:VEVENT
DTSTART;TZID=Europe/Berlin:20180910T190000
DTEND;TZID=Europe/Berlin:20180910T210000
DTSTAMP:20260423T053400
CREATED:20180910T160306Z
LAST-MODIFIED:20180910T160306Z
UID:10000090-1536606000-1536613200@wirundjetzt.org
SUMMARY:erreichbar september 2018
DESCRIPTION:erreichbar\n\n\n\nwirundjetzt treffen der aktiven\n\n\n\n\n\n\nVon 19.00 Uhr bis 21.00 Uhr wollen wir mit euch zusammen planen\, Ideen schmieden und Projekte umsetzen. Wir wollen regelmäßig zusammen sein und konkret an den Projekten und Ideen Arbeiten und uns austauschen. Dazu laden wir euch herzlich ein.\nWir sind in 88697 Bermatingen\, Rathausplatz 3\, im Büro von Oliver Endrikat (Sedat GmbH). \n\n\n\n\n\n\n\n\n\n\n\n\n\n 
URL:https://wirundjetzt.org/event/erreichbar-september-2018/
LOCATION:Sedat\, Rathausplatz 3\, Bermatingen\, Deutschland
CATEGORIES:Vernetzungstreffen,»wirundjetzt«-Veranstaltung
ATTACH;FMTTYPE=image/jpeg:https://wirundjetzt.org/wp-content/uploads/2017/07/Hackschnitzel-Jump-DSC_3103-1-1.jpg
GEO:47.7295086;9.3495026
X-APPLE-STRUCTURED-LOCATION;VALUE=URI;X-ADDRESS=Sedat Rathausplatz 3 Bermatingen Deutschland;X-APPLE-RADIUS=500;X-TITLE=Rathausplatz 3:geo:9.3495026,47.7295086
END:VEVENT
BEGIN:VEVENT
DTSTART;TZID=Europe/Berlin:20180507T190000
DTEND;TZID=Europe/Berlin:20180507T210000
DTSTAMP:20260423T053400
CREATED:20180503T100704Z
LAST-MODIFIED:20180503T100704Z
UID:10000282-1525719600-1525726800@wirundjetzt.org
SUMMARY:erreichbar mai 2018
DESCRIPTION:erreichbar\n\n\n\nwirundjetzt treffen der aktiven\n\n\n\n\n\n\nVon 19.00 Uhr bis 21.00 Uhr wollen wir mit euch zusammen planen\, Ideen schmieden und Projekte umsetzen. Wir wollen regelmäßig zusammen sein und konkret an den Projekten und Ideen Arbeiten und uns austauschen. Dazu laden wir euch herzlich ein.\nWir sind in 88697 Bermatingen\, Rathausplatz 3\, im Büro von Oliver Endrikat (Sedat GmbH). \n\n\n\n\n\n\n\n\n\n\n\n\n\n 
URL:https://wirundjetzt.org/event/erreichbar-maerz-18-2-2/
LOCATION:Sedat\, Rathausplatz 3\, Bermatingen\, Deutschland
CATEGORIES:Vernetzungstreffen,»wirundjetzt«-Veranstaltung
ATTACH;FMTTYPE=image/jpeg:https://wirundjetzt.org/wp-content/uploads/2017/07/Hackschnitzel-Jump-DSC_3103-1-1.jpg
GEO:47.7295086;9.3495026
X-APPLE-STRUCTURED-LOCATION;VALUE=URI;X-ADDRESS=Sedat Rathausplatz 3 Bermatingen Deutschland;X-APPLE-RADIUS=500;X-TITLE=Rathausplatz 3:geo:9.3495026,47.7295086
END:VEVENT
BEGIN:VEVENT
DTSTART;TZID=Europe/Berlin:20180305T190000
DTEND;TZID=Europe/Berlin:20180305T210000
DTSTAMP:20260423T053400
CREATED:20180109T195644Z
LAST-MODIFIED:20180110T141043Z
UID:10000040-1520276400-1520283600@wirundjetzt.org
SUMMARY:erreichbar märz 18
DESCRIPTION:erreichbar\n\n\n \nwirundjetzt treffen der aktiven\n\n\n\n\n\n\nVon 19.00 Uhr bis 21.00 Uhr wollen wir mit euch zusammen planen\, Ideen schmieden und Projekte umsetzen. Wir wollen regelmäßig zusammen sein und konkret an den Projekten und Ideen Arbeiten und uns austauschen. Dazu laden wir euch herzlich ein.Wir sind in 88697 Bermatingen\, Rathausplatz 3\, im Büro von Oliver Endrikat (Sedat GmbH). \n\n\n\n\n\n\n\neinmal im Monat erreichbar!
URL:https://wirundjetzt.org/event/erreichbar-maerz-18-2/
LOCATION:Sedat\, Rathausplatz 3\, Bermatingen\, Deutschland
CATEGORIES:Vernetzungstreffen,»wirundjetzt«-Veranstaltung
ATTACH;FMTTYPE=image/jpeg:https://wirundjetzt.org/wp-content/uploads/2017/07/Hackschnitzel-Jump-DSC_3103-1-1.jpg
GEO:47.7295086;9.3495026
X-APPLE-STRUCTURED-LOCATION;VALUE=URI;X-ADDRESS=Sedat Rathausplatz 3 Bermatingen Deutschland;X-APPLE-RADIUS=500;X-TITLE=Rathausplatz 3:geo:9.3495026,47.7295086
END:VEVENT
BEGIN:VEVENT
DTSTART;TZID=Europe/Berlin:20180205T190000
DTEND;TZID=Europe/Berlin:20180205T210000
DTSTAMP:20260423T053400
CREATED:20171221T144351Z
LAST-MODIFIED:20180129T150325Z
UID:10000033-1517857200-1517864400@wirundjetzt.org
SUMMARY:erreichbar februar 18
DESCRIPTION:erreichbar						\n											\n						\n					\n											\n						wirundjetzt treffen der aktiven						\n						\n\n\n\n\nVon 19.00 Uhr bis 21.00 Uhr wollen wir mit euch zusammen planen\, Ideen schmieden und Projekte umsetzen. Wir wollen regelmäßig zusammen sein und konkret an den Projekten und Ideen Arbeiten und uns austauschen. Dazu laden wir euch herzlich ein.Wir sind in 88697 Bermatingen\, Rathausplatz 3\, im Büro von Oliver Endrikat (Sedat GmbH). \n\n\n\n\n\n\n\neinmal im Monat erreichbar!
URL:https://wirundjetzt.org/event/erreichbar-februar-18-2/
LOCATION:Sedat\, Rathausplatz 3\, Bermatingen\, Deutschland
CATEGORIES:Vernetzungstreffen,»wirundjetzt«-Veranstaltung
ATTACH;FMTTYPE=image/jpeg:https://wirundjetzt.org/wp-content/uploads/2017/07/Hackschnitzel-Jump-DSC_3103-1-1.jpg
GEO:47.7295086;9.3495026
X-APPLE-STRUCTURED-LOCATION;VALUE=URI;X-ADDRESS=Sedat Rathausplatz 3 Bermatingen Deutschland;X-APPLE-RADIUS=500;X-TITLE=Rathausplatz 3:geo:9.3495026,47.7295086
END:VEVENT
BEGIN:VEVENT
DTSTART;TZID=Europe/Berlin:20180122T170000
DTEND;TZID=Europe/Berlin:20180122T210000
DTSTAMP:20260423T053400
CREATED:20180120T112729Z
LAST-MODIFIED:20180120T112803Z
UID:10000046-1516640400-1516654800@wirundjetzt.org
SUMMARY:erreichbar: Unsere Vision
DESCRIPTION:Von 17.00 Uhr bis 21.00 Uhr wollen wir mit euch zusammen uns über die Vision von wirundjetzt und eure eigenen Visionen unterhalten und austauschen. Was heißt „Wir möchten eine Verbindungskultur schaffen und wir befinden uns mitten drin im Wandel der Zeit. \n\n\n\nWir sind bereit von anderen zu lernen. wir schaffen eine offene Feedback-Kultur. Wir begegnen uns und der Schöpfung und den Menschen in Dankbarkeit und in einer inneren Haltung der Wertschätzung. Wir möchten uns inspirieren lassen und die Inspiration und die Freude der Begeisterungsfähigkeit weiter geben. \nWir glauben daran\, das wir etwas verändern können. Weil Veränderung kommt eben von Innen. Und wenn wir mit unserem Herzen in Verbindung stehen und in dieser Haltung in einen Austausch gehen\, dann erleben wir ein Fest der Freude und der Dankbarkeit.“ \n\n\n\nDazu laden wir euch herzlich ein.Wir sind in 88697 Bermatingen\, Rathausplatz 3\, im Büro von Oliver Endrikat (Sedat GmbH).
URL:https://wirundjetzt.org/event/erreichbar-unsere-vision/
LOCATION:Sedat\, Rathausplatz 3\, Bermatingen\, Deutschland
CATEGORIES:Vernetzungstreffen,»wirundjetzt«-Veranstaltung
ATTACH;FMTTYPE=image/jpeg:https://wirundjetzt.org/wp-content/uploads/2017/06/Hackschnitzel-Jump-DSC_3103-.jpg
GEO:47.7295086;9.3495026
X-APPLE-STRUCTURED-LOCATION;VALUE=URI;X-ADDRESS=Sedat Rathausplatz 3 Bermatingen Deutschland;X-APPLE-RADIUS=500;X-TITLE=Rathausplatz 3:geo:9.3495026,47.7295086
END:VEVENT
END:VCALENDAR