BEGIN:VCALENDAR
VERSION:2.0
PRODID:-//»wirundjetzt« - ECPv6.15.17.1//NONSGML v1.0//EN
CALSCALE:GREGORIAN
METHOD:PUBLISH
X-WR-CALNAME:»wirundjetzt«
X-ORIGINAL-URL:https://wirundjetzt.org
X-WR-CALDESC:Veranstaltungen für »wirundjetzt«
REFRESH-INTERVAL;VALUE=DURATION:PT1H
X-Robots-Tag:noindex
X-PUBLISHED-TTL:PT1H
BEGIN:VTIMEZONE
TZID:Europe/Berlin
BEGIN:DAYLIGHT
TZOFFSETFROM:+0100
TZOFFSETTO:+0200
TZNAME:CEST
DTSTART:20220327T010000
END:DAYLIGHT
BEGIN:STANDARD
TZOFFSETFROM:+0200
TZOFFSETTO:+0100
TZNAME:CET
DTSTART:20221030T010000
END:STANDARD
BEGIN:DAYLIGHT
TZOFFSETFROM:+0100
TZOFFSETTO:+0200
TZNAME:CEST
DTSTART:20230326T010000
END:DAYLIGHT
BEGIN:STANDARD
TZOFFSETFROM:+0200
TZOFFSETTO:+0100
TZNAME:CET
DTSTART:20231029T010000
END:STANDARD
BEGIN:DAYLIGHT
TZOFFSETFROM:+0100
TZOFFSETTO:+0200
TZNAME:CEST
DTSTART:20240331T010000
END:DAYLIGHT
BEGIN:STANDARD
TZOFFSETFROM:+0200
TZOFFSETTO:+0100
TZNAME:CET
DTSTART:20241027T010000
END:STANDARD
END:VTIMEZONE
BEGIN:VEVENT
DTSTART;TZID=Europe/Berlin:20230930T090000
DTEND;TZID=Europe/Berlin:20230930T130000
DTSTAMP:20260424T115402
CREATED:20230917T195438Z
LAST-MODIFIED:20230917T195438Z
UID:10000913-1696064400-1696078800@wirundjetzt.org
SUMMARY:2. Aktionstag Agenda-Eine-Welt auf dem Gespinstmarkt in Ravensburg
DESCRIPTION:Unter dem Motto „Hunger nach Leben\, Zukunft\, Gerechtigkeit – Frieden“ führt die Agenda EINE WELT Ravensburg auf dem Gespinstmarkt vor dem Weltladen ihren 2. Aktionstag durch. \nEs wird internationale Musik geben\, wie zum Beispiel die afrikanische Trommlergruppe oder das Singen der Kakadus. Außerdem gibt es einen Losverkauf\, fair gehandelten Kaffee und Informationen über unsere Partner und Projekte. Es werden Spenden gesammelt. Der Gesamterlös kommt der Hilfsorganisation „Impuls Afghanistan“ zugute. \nDie Veranstaltung findet im Rahmen der Wochen der Internationalen Nachbarschaft statt. Mehr Informationen unter : \nhttps://www.ravensburg.de/rv/veranstaltungen/?id=19707
URL:https://wirundjetzt.org/event/2-aktionstag-agenda-eine-welt-auf-dem-gespinstmarkt-in-ravensburg/
LOCATION:Ravensburg\, Gespinstmarkt\, Gespinstmarkt\, Ravensburg\, 88212
CATEGORIES:Aktionen
END:VEVENT
END:VCALENDAR