BEGIN:VCALENDAR
VERSION:2.0
PRODID:-//»wirundjetzt« - ECPv6.15.17.1//NONSGML v1.0//EN
CALSCALE:GREGORIAN
METHOD:PUBLISH
X-WR-CALNAME:»wirundjetzt«
X-ORIGINAL-URL:https://wirundjetzt.org
X-WR-CALDESC:Veranstaltungen für »wirundjetzt«
REFRESH-INTERVAL;VALUE=DURATION:PT1H
X-Robots-Tag:noindex
X-PUBLISHED-TTL:PT1H
BEGIN:VTIMEZONE
TZID:Europe/Berlin
BEGIN:DAYLIGHT
TZOFFSETFROM:+0100
TZOFFSETTO:+0200
TZNAME:CEST
DTSTART:20180325T010000
END:DAYLIGHT
BEGIN:STANDARD
TZOFFSETFROM:+0200
TZOFFSETTO:+0100
TZNAME:CET
DTSTART:20181028T010000
END:STANDARD
BEGIN:DAYLIGHT
TZOFFSETFROM:+0100
TZOFFSETTO:+0200
TZNAME:CEST
DTSTART:20190331T010000
END:DAYLIGHT
BEGIN:STANDARD
TZOFFSETFROM:+0200
TZOFFSETTO:+0100
TZNAME:CET
DTSTART:20191027T010000
END:STANDARD
BEGIN:DAYLIGHT
TZOFFSETFROM:+0100
TZOFFSETTO:+0200
TZNAME:CEST
DTSTART:20200329T010000
END:DAYLIGHT
BEGIN:STANDARD
TZOFFSETFROM:+0200
TZOFFSETTO:+0100
TZNAME:CET
DTSTART:20201025T010000
END:STANDARD
END:VTIMEZONE
BEGIN:VEVENT
DTSTART;TZID=Europe/Berlin:20190407T110000
DTEND;TZID=Europe/Berlin:20190407T170000
DTSTAMP:20260419T214731
CREATED:20190222T063717Z
LAST-MODIFIED:20190222T063717Z
UID:10000453-1554634800-1554656400@wirundjetzt.org
SUMMARY:Ehrenamt-Messe - Ravensburg
DESCRIPTION:Wir sind als Aussteller mit dabei! \nBesuchen Sie uns am Stand. \nWeitere Informationen: \neam19_flyer_dinlang_2201_final
URL:https://wirundjetzt.org/event/ehrenamt-messe-ravensburg/
LOCATION:Oberschwabenhalle\, Bleicherstraße 20\, Ravensburg\, 88212\, Deutschland
GEO:47.7903831;9.6144704
X-APPLE-STRUCTURED-LOCATION;VALUE=URI;X-ADDRESS=Oberschwabenhalle Bleicherstraße 20 Ravensburg 88212 Deutschland;X-APPLE-RADIUS=500;X-TITLE=Bleicherstraße 20:geo:9.6144704,47.7903831
END:VEVENT
END:VCALENDAR