BEGIN:VCALENDAR
VERSION:2.0
PRODID:-//»wirundjetzt« - ECPv6.15.17.1//NONSGML v1.0//EN
CALSCALE:GREGORIAN
METHOD:PUBLISH
X-ORIGINAL-URL:https://wirundjetzt.org
X-WR-CALDESC:Veranstaltungen für »wirundjetzt«
REFRESH-INTERVAL;VALUE=DURATION:PT1H
X-Robots-Tag:noindex
X-PUBLISHED-TTL:PT1H
BEGIN:VTIMEZONE
TZID:Europe/Berlin
BEGIN:DAYLIGHT
TZOFFSETFROM:+0100
TZOFFSETTO:+0200
TZNAME:CEST
DTSTART:20230326T010000
END:DAYLIGHT
BEGIN:STANDARD
TZOFFSETFROM:+0200
TZOFFSETTO:+0100
TZNAME:CET
DTSTART:20231029T010000
END:STANDARD
BEGIN:DAYLIGHT
TZOFFSETFROM:+0100
TZOFFSETTO:+0200
TZNAME:CEST
DTSTART:20240331T010000
END:DAYLIGHT
BEGIN:STANDARD
TZOFFSETFROM:+0200
TZOFFSETTO:+0100
TZNAME:CET
DTSTART:20241027T010000
END:STANDARD
BEGIN:DAYLIGHT
TZOFFSETFROM:+0100
TZOFFSETTO:+0200
TZNAME:CEST
DTSTART:20250330T010000
END:DAYLIGHT
BEGIN:STANDARD
TZOFFSETFROM:+0200
TZOFFSETTO:+0100
TZNAME:CET
DTSTART:20251026T010000
END:STANDARD
END:VTIMEZONE
BEGIN:VEVENT
DTSTART;TZID=Europe/Berlin:20240829T080000
DTEND;TZID=Europe/Berlin:20240901T170000
DTSTAMP:20260422T180902
CREATED:20240528T173316Z
LAST-MODIFIED:20240528T173606Z
UID:10001008-1724918400-1725210000@wirundjetzt.org
SUMMARY:Waldzauber & Tiefenökologie
DESCRIPTION:29. August – 1. September im Lebensbogen bei Kassel\nHier trifft die Tiefenökologie auf Wildnispädagogik.\nSchwerpunkt bei diesem Seminar sind Wahrnehmungsübungen\, Naturverbindung & Perspektivwechsel.\nAlle Infos dazu unter https://walduin.de/Veranstaltung/waldzaubertiefenoekologie/
URL:https://wirundjetzt.org/event/waldzauber-tiefenoekologie/
LOCATION:Lebensbogen\, Kassel\, Deutschland
ATTACH;FMTTYPE=image/jpeg:https://wirundjetzt.org/wp-content/uploads/2024/05/Waldzauber1.jpeg
END:VEVENT
END:VCALENDAR