BEGIN:VCALENDAR
VERSION:2.0
PRODID:-//»wirundjetzt« - ECPv6.15.17.1//NONSGML v1.0//EN
CALSCALE:GREGORIAN
METHOD:PUBLISH
X-WR-CALNAME:»wirundjetzt«
X-ORIGINAL-URL:https://wirundjetzt.org
X-WR-CALDESC:Veranstaltungen für »wirundjetzt«
REFRESH-INTERVAL;VALUE=DURATION:PT1H
X-Robots-Tag:noindex
X-PUBLISHED-TTL:PT1H
BEGIN:VTIMEZONE
TZID:Europe/Berlin
BEGIN:DAYLIGHT
TZOFFSETFROM:+0100
TZOFFSETTO:+0200
TZNAME:CEST
DTSTART:20240331T010000
END:DAYLIGHT
BEGIN:STANDARD
TZOFFSETFROM:+0200
TZOFFSETTO:+0100
TZNAME:CET
DTSTART:20241027T010000
END:STANDARD
BEGIN:DAYLIGHT
TZOFFSETFROM:+0100
TZOFFSETTO:+0200
TZNAME:CEST
DTSTART:20250330T010000
END:DAYLIGHT
BEGIN:STANDARD
TZOFFSETFROM:+0200
TZOFFSETTO:+0100
TZNAME:CET
DTSTART:20251026T010000
END:STANDARD
BEGIN:DAYLIGHT
TZOFFSETFROM:+0100
TZOFFSETTO:+0200
TZNAME:CEST
DTSTART:20260329T010000
END:DAYLIGHT
BEGIN:STANDARD
TZOFFSETFROM:+0200
TZOFFSETTO:+0100
TZNAME:CET
DTSTART:20261025T010000
END:STANDARD
END:VTIMEZONE
BEGIN:VEVENT
DTSTART;VALUE=DATE:20250703
DTEND;VALUE=DATE:20250707
DTSTAMP:20260424T110258
CREATED:20241002T162014Z
LAST-MODIFIED:20241002T162014Z
UID:10001050-1751500800-1751846399@wirundjetzt.org
SUMMARY:Festival Matriarchy for Future in Venlo in NL
DESCRIPTION:Die Welt braucht den Wandel! Lasst uns Ko-Kreativ an einer menschlichen\, friedlichen und gerechten Zukunft arbeiten\, vernetzen\, voneinander lernen\, gemeinsam träumen und feiern! \nVieles ist im Umbruch\, starke Frauen im Iran\, Afghanistan und Mexiko\, die Me Too Bewegung\, Klimastreiks\, neue Lebensformen in Gemeinschaften\, etc. Doch bisher agieren viele für sich allein. Dabei haben alle dasselbe im Kopf und im Herzen: eine freie\, fürsorgliche und friedliche Gesellschaft\, ohne Ausbeutung von Mensch und Natur\, in der die Geschlechter wirklich in Balance sind… eine matriarchale Gesellschaft also.\nDenn Matriarchate sind genau dies: Friedlich in sich selbst und mit ihrer Umwelt bieten sie ein gutes Leben für alle. Sie sind daher keine Umkehrung von Patriarchat\, sondern etwas völlig anderes. \nUm dies bekannt zu machen\, will das Matriarchy for Future Festival eine international vernetzte\, matriarchal inspirierte Community mit Vertreter*innen von Bewegungen und Initiativen aus den Bereichen Ökologie\, Permakultur\, Solidarische Landwirtschaft\, Ökonomie\, Feminismus\, Politik\, Gemeinschaften\, Spiritualität etc. zusammenführen\, um voneinander zu lernen und uns zu inspirieren.\nMatriarchy for Future ist eine Gruppe von Frauen aus Deutschland\, der Schweiz und Liechtenstein\, die als Matriarchatsreferentinnen aufzeigen können\, dass eine friedliche Welt möglich ist. \nDas Programm orientiert sich an den Eckpfeilern\, die Heide Göttner-Abendroth als grundlegend für eine menschliche Gesellschaft benannt hat: Ökonomie\, Politik\, Sozialordnung\, Spiritualität und zusätzlich Ökologie.\nAn drei Tagen soll es zu den oben genannten Themen Workshops\, Seminare\, Vorträge\, Filme und Konzerte geben.\nMehr und aktuelle Infos erhaltet ihr über : \nhttps://matriarchy-for-future.net/de/
URL:https://wirundjetzt.org/event/festival-matriarchy-for-future-in-venlo-in-nl/
LOCATION:Kasteel de Berckt\, Venlo\, Netherlands
CATEGORIES:Festival
END:VEVENT
END:VCALENDAR