BEGIN:VCALENDAR
VERSION:2.0
PRODID:-//»wirundjetzt« - ECPv6.15.17.1//NONSGML v1.0//EN
CALSCALE:GREGORIAN
METHOD:PUBLISH
X-ORIGINAL-URL:https://wirundjetzt.org
X-WR-CALDESC:Veranstaltungen für »wirundjetzt«
REFRESH-INTERVAL;VALUE=DURATION:PT1H
X-Robots-Tag:noindex
X-PUBLISHED-TTL:PT1H
BEGIN:VTIMEZONE
TZID:Europe/Berlin
BEGIN:DAYLIGHT
TZOFFSETFROM:+0100
TZOFFSETTO:+0200
TZNAME:CEST
DTSTART:20210328T010000
END:DAYLIGHT
BEGIN:STANDARD
TZOFFSETFROM:+0200
TZOFFSETTO:+0100
TZNAME:CET
DTSTART:20211031T010000
END:STANDARD
BEGIN:DAYLIGHT
TZOFFSETFROM:+0100
TZOFFSETTO:+0200
TZNAME:CEST
DTSTART:20220327T010000
END:DAYLIGHT
BEGIN:STANDARD
TZOFFSETFROM:+0200
TZOFFSETTO:+0100
TZNAME:CET
DTSTART:20221030T010000
END:STANDARD
BEGIN:DAYLIGHT
TZOFFSETFROM:+0100
TZOFFSETTO:+0200
TZNAME:CEST
DTSTART:20230326T010000
END:DAYLIGHT
BEGIN:STANDARD
TZOFFSETFROM:+0200
TZOFFSETTO:+0100
TZNAME:CET
DTSTART:20231029T010000
END:STANDARD
END:VTIMEZONE
BEGIN:VEVENT
DTSTART;TZID=Europe/Berlin:20221021T130000
DTEND;TZID=Europe/Berlin:20221021T170000
DTSTAMP:20260421T123118
CREATED:20221013T122203Z
LAST-MODIFIED:20221013T122253Z
UID:10000446-1666357200-1666371600@wirundjetzt.org
SUMMARY:Unser Boden - Unsere Zukunft!
DESCRIPTION:Einladung zum Presse-Event mit Hofführung und Podiumsgespräch u.a. mit Sarah Wiener.\n \nDie Weleda AG und der Bodenfruchtbarkeitsfonds der Bio-Stiftung Schweiz laden dich herzlich zum Event „Unser Boden – Unsere Zukunft!“ auf Gut Rheinau ein. Wir lenken den Fokus auf eine der existenziellen Menschheitsaufgaben des Jahrhunderts: Fruchtbarer Boden als Lebensgrundlage droht unwiederbringlich von der Erde zu verschwinden. Wie steht es um unsere Böden? Warum ist unser Boden in Gefahr? Ist unsere Ernährung gesichert? Welche Lösungen gibt es? Diese und weitere Fragen werden wir mit verschiedenen Expert:innen beleuchten. \nBODEN BERÜHRT UNS ALLE \nUnser Boden\, die Grundlage für mehr als 97% unserer Lebensmittel\, leidet. Nicht zuletzt die Auswirkungen des heißen Sommers 2022 wie z.B. Dürre\, Ernteausfälle\, Bodenerosion und Überschwemmungen machen global spürbar\, welche Bedeutung gesunder Boden für alle Menschen hat. Um die Zukunft unseres Bodens zu wahren\, widmen sich Expert:innen weltweit dem Boden und seiner Gesundheit. \nBLICK UNTER DIE ERDE \nBei einer kurzen Hofführung entnehmen die Fachkundigen live und vor Ort Bodenproben. Anhand der sogenannten Spatenstichproben werden die Besonderheiten des Bodens\, das komplexe Bodenleben und die vielfältigen Bodenstrukturen eindrucksvoll erklärt. Anschließend wird die Journalistin Louisa Schneider ein Podiumsgespräch mit unseren Expert:innen führen\, an dem unter anderem Sarah Wiener als Umweltpolitikerin und Botschafterin des Bodenfruchtbarkeitsfonds teilnehmen wird. \nProgramm: \nAb 13:00 Uhr \nEmpfang & Begrüssung \n13:30 – 14:30 Uhr \nHofführung und Spatenstichproben \n14:45 – 15:30 Uhr \nExpert:innenpanel «Unser Boden – Unsere Zukunft» mit\n– Sarah Wiener (Umweltpolitikerin\, Bodenbotschafterin)\n– Dr. Ulrich Hampl (Bodenfruchbarkeitsfonds) und\n– Christoph Möldner (Weleda AG)\nModeration: Journalistin Louisa Schneider \n15:30 – 15:45 Uhr \nSchlusswort von Mathias Forster (Bio-Stiftung Schweiz) \n15:45 – 17:00 Uhr \nGet-together mit Getränken und Finger Food \nWeleda und der Bodenfruchtbarkeitsfonds der Bio-Stiftung Schweiz engagieren sich gemeinsam dafür\, die Haut der Erde zu schützen. Gemeinsam wollen wir das Bewusstsein dafür schärfen\, warum unser Boden für unsere Zukunft so wichtig ist und freuen uns auf den Austausch dazu mit dir. \nWir freuen uns über dein Kommen. Aufgrund der begrenzten Platzzahl müssen wir jedoch nach dem Prinzip «First come\, first served» vorgehen. Wir geben dir umgehend Rückmeldung\, falls die Gästeliste zum Zeitpunkt deiner Anmeldung schon voll sein sollte. \nBitte sende deine Zu- oder Absage bis zum 14. Oktober 2022 via E-Mail an presse@weleda.de.
URL:https://wirundjetzt.org/event/unser-boden-unsere-zukunft/
LOCATION:Gut Rheinau\, Zum Pflug 5\, Rheinau\, ZH\, 8462\, Schweiz
CATEGORIES:Betriebsbesichtigung,Diskussion
ATTACH;FMTTYPE=image/jpeg:https://wirundjetzt.org/wp-content/uploads/2022/10/bode_email_1.jpg
END:VEVENT
END:VCALENDAR