BEGIN:VCALENDAR
VERSION:2.0
PRODID:-//»wirundjetzt« - ECPv6.15.17.1//NONSGML v1.0//EN
CALSCALE:GREGORIAN
METHOD:PUBLISH
X-WR-CALNAME:»wirundjetzt«
X-ORIGINAL-URL:https://wirundjetzt.org
X-WR-CALDESC:Veranstaltungen für »wirundjetzt«
REFRESH-INTERVAL;VALUE=DURATION:PT1H
X-Robots-Tag:noindex
X-PUBLISHED-TTL:PT1H
BEGIN:VTIMEZONE
TZID:Europe/Berlin
BEGIN:DAYLIGHT
TZOFFSETFROM:+0100
TZOFFSETTO:+0200
TZNAME:CEST
DTSTART:20230326T010000
END:DAYLIGHT
BEGIN:STANDARD
TZOFFSETFROM:+0200
TZOFFSETTO:+0100
TZNAME:CET
DTSTART:20231029T010000
END:STANDARD
BEGIN:DAYLIGHT
TZOFFSETFROM:+0100
TZOFFSETTO:+0200
TZNAME:CEST
DTSTART:20240331T010000
END:DAYLIGHT
BEGIN:STANDARD
TZOFFSETFROM:+0200
TZOFFSETTO:+0100
TZNAME:CET
DTSTART:20241027T010000
END:STANDARD
BEGIN:DAYLIGHT
TZOFFSETFROM:+0100
TZOFFSETTO:+0200
TZNAME:CEST
DTSTART:20250330T010000
END:DAYLIGHT
BEGIN:STANDARD
TZOFFSETFROM:+0200
TZOFFSETTO:+0100
TZNAME:CET
DTSTART:20251026T010000
END:STANDARD
END:VTIMEZONE
BEGIN:VEVENT
DTSTART;TZID=Europe/Berlin:20240614T190000
DTEND;TZID=Europe/Berlin:20240614T213000
DTSTAMP:20260423T071029
CREATED:20240510T132550Z
LAST-MODIFIED:20240519T185646Z
UID:10001001-1718391600-1718400600@wirundjetzt.org
SUMMARY:Filmabend "ERNTE TEILEN“
DESCRIPTION:Im Rahmen des Projektes „Mitmach-Region Deggenhausertal“ sind Filmabende und Exkursionen geplant. \nDie Exkursionen passen thematisch zu den Filmen und finden zeitnah nach dem Film statt. \n  \nFr\, 14.06.2024\, 19.00 – 21.30 Uhr \nFilm „ERNTE TEILEN“ \nOrt:   Feuerwehrgerätehaus in 88693 Deggenhausertal-Wittenhofen\, Schulweg 9 \nEinlass ab 18.30 Uhr \n  \nDer Dokumentarfilm „ERNTE TEILEN“ erzählt die Geschichte von Bäuerinnen und Bauern\, die aus den Strukturen der herkömmlichen Landwirtschaft ausbrechen wollen. Filmemacher Philipp Petruch begleitet diese Menschen auf ihrem Weg eine alternative Wirtschaftsweise zu erproben – die Solidarische Landwirtschaft. Mit Hilfe von Gemeinschaften erarbeiten sie einen lokalen Versorgungskreislauf nach den Werten der Ökologie und des Gemeinwohls. \nFür Landwirte\, die weg vom Vermarktungsdruck und -risiko\, weg von Auflagen und Bürokratie\, weg vom Hamsterrad kommen möchten\, lohnt es sich vielleicht über eine Umstellung auf „SoLawi“ nachzudenken. Der Film an sich gibt Einblick zu jenen\, die diesen Schritt gewagt haben. Die Diskussion im Anschluss an den Film gibt Raum\, um gemeinsam die Machbarkeit hier im Deggenhausertal zu prüfen. \nAb 20.30 Uhr sind Solawi-Betreiber zum Experten-Gespräch eingeladen. \nEintritt frei\,  Spenden für das Projekt „Mitmach-Region Deggenhausertal“ sind willkommen. \n  \n  \nFr\, 21.06.2024\, ab 16.00 Uhr:   Exkursion zur Solawi (Solidarische Landwirtschaft) Heiligenberg \nOrt:   Am Bühl 42\, 88633 Heiligenberg \nBei der Exkursion zur Solawi Heiligenberg ab 16.00 Uhr gibt es viel Interessantes zu lernen und zu erproben durch einen freiwilligen Arbeitseinsatz\, der von 17.00 – 18.30 Uhr stattfindet. Bei gutem Wetter findet danach ein geselliger Ausklang am Lagerfeuer statt\, um zusammen auch das Mittsommerfest zu feiern. \nGeplant sind weitere Filme und Exkursionen von Juli 2024 bis August 2025. \nKeine Teilnehmergebühr\,  Spenden für das Projekt „Mitmach-Region Deggenhausertal“ sind willkommen. \n  \nAnsprechpartner für weitere Informationen:   Timm Cebulla\, 0157-53504706\, mail@timm-cebulla.de
URL:https://wirundjetzt.org/event/filmabend-ernte-teilen/
LOCATION:Feuerwehrgerätehaus in Wittenhofen\, Deutschland
CATEGORIES:Film,Gesprächsrunde
END:VEVENT
BEGIN:VEVENT
DTSTART;TZID=Europe/Berlin:20240507T190000
DTEND;TZID=Europe/Berlin:20240507T203000
DTSTAMP:20260423T071029
CREATED:20240419T153734Z
LAST-MODIFIED:20240603T183706Z
UID:10000994-1715108400-1715113800@wirundjetzt.org
SUMMARY:Filmabend "MORE THAN HONEY"
DESCRIPTION:Filmvorführung  „MORE THAN HONEY“\nIm Rahmen des Projektes „Mitmach-Region Deggenhausertal“ sind Filmabende und Exkursionen geplant. \nDie Exkursionen passen thematisch zu den Filmen und finden zeitnah nach dem Film statt. \nDi\, 07.05.2024\, 19.00 Uhr:   Film  „MORE THAN HONEY“ \nOrt:   Feuerwehrgerätehaus in 88693 Deggenhausertal-Wittenhofen\, Schulweg 9 \nEinlass ab 18.30 Uhr. \nSo\, 12.05.2024\, ab 15.00 Uhr:      Exkursion zum Gemeinschaftsgarten Hohlenstein \nOrt:   Zum Hohlenstein\,  88693 Deggenhausertal-Lellwangen \n  \n„MORE THAN HONEY“ (Mehr als Honig) ist ein Film über die industrielle Landwirtschaft und der dazugehörigen Bienenhaltung. Der Film ist auf Deutsch. \nAb 20.30 Uhr sind Wildbienen-Experten und Imker als Experten zum Filmgespräch geladen. Der Schwerpunkt soll beim Expertengespräch auf Lösungsansätzen liegen. Was können wir z.B. tun\, um vor allem Wildbienen eine Heimat zu geben ? \nKonkrete Beispiele der Umsetzung werden dann bei der Exkursion gezeigt. Die Exkursion ist mit einem freiwilligen Arbeitseinsatz verbunden. Für den eigenen Garten gibt es zudem eine schriftliche Anleitung\, mit welchem Lebensraum und welchen Pflanzen sich die Wildbienen wohlfühlen. \nWir laden auch zu einem kleinen Wettbewerb ein: „Die Wildbienen-Ecke in meinem Garten“ \nAnmeldung und Ansprechpartner für den Wettbewerb bei dem Exkursionsleiter: \nOliver Karolius\,    Mobil:  015753513639\,    Mail: oliverkarolius@web.de
URL:https://wirundjetzt.org/event/filmabend-more-than-honey/
LOCATION:Feuerwehrgerätehaus in Wittenhofen\, Deutschland
CATEGORIES:Film,Gesprächsrunde
END:VEVENT
BEGIN:VEVENT
DTSTART;TZID=Europe/Berlin:20240503T173000
DTEND;TZID=Europe/Berlin:20240503T220000
DTSTAMP:20260423T071029
CREATED:20240319T185932Z
LAST-MODIFIED:20240418T130126Z
UID:10000976-1714757400-1714773600@wirundjetzt.org
SUMMARY:Auftaktveranstaltung Mitmach-Region Deggenhausertal
DESCRIPTION:Im Deggenhausertal was bewegen \nDeggenhausertal\nDie Auftaktveranstaltung zum Projekt „Mitmach-Region Deggenhausertal – eine ModellRegion“\n„wirundjetzt e.V.“ lädt ein: Gemeinsam das Tal zukunftfähig gestalten! \nZentrale Auftaktveranstaltung am 3. Mai 2024 ab 17:30 Uhr in Wittenhofen \nDer Frühling bringt nicht nur Wärme\, Sonne und Blüten in unser Tal\, sondern auch frischen Wind. Dank einer Förderung der Postcode-Lotterie startet das Projekt „Mitmach-Region Deggenhausertal- eine ModellRegion“. Damit wird das Deggenhausertal Teil der „100 Mitmach-Regionen“ in Deutschland\, Österreich und der Schweiz\, zu denen auch Städte wie Ravensburg\, Radolfzell\, Winterthur oder Berlin Treptow-Köpenick gehören. Ziel ist es\, gemeinsam das D-Tal in eine für die Menschen und die Umwelt positive Zukunft zu führen. Dabei steht die Verbindung zwischen den Menschen an oberster Stelle: Gemeinsam wollen wir Pläne schmieden und Projekte entwickeln\, die die Lebensvielfalt in unserem Tal weiter fördern.  Und diese Ideen auch in die Tat umzusetzen\, – zusammen mit Menschen von nebenan\, von denen wir vielleicht noch gar nichts wissen\, ist das wirklich Spannende.\nIm Deggenhausertal gibt es bereits viele gute und erfolgreiche Ideen\, Initiativen und Unternehmen\, die innovativen Wegen folgen und Zukunftsfähiges gestalten. Der Verein „wirundjetzt“ möchte Akteure sichtbar machen und vernetzen\, neue Allianzen schmieden und gemeinsame Projekte anregen. Wie das geschehen kann\, darüber informiert der Verein wirundjetzt bei der zentralen Auftaktveranstaltung am 3. Mai.2024 im Feuerwehrgerätehaus in Wittenhofen.  Die Veranstaltung startet mit einem come together ab 17:30 Uhr bei Essen und Getränken\, beginnt inhaltlich ab 18:30 Uhr und endet gegen 21:30 Uhr.\nDas Projekt wird an diesem Tag inhaltlich vorgestellt.\nAlle Interessierten sind herzlich eingeladen. \n 
URL:https://wirundjetzt.org/event/auftaktveranstaltung-mitmach-region-deggenhausertal/
LOCATION:Feuerwehrgerätehaus in Wittenhofen\, Deutschland
CATEGORIES:Infoabend,»wirundjetzt«-Veranstaltung
END:VEVENT
END:VCALENDAR