BEGIN:VCALENDAR
VERSION:2.0
PRODID:-//»wirundjetzt« - ECPv6.15.17.1//NONSGML v1.0//EN
CALSCALE:GREGORIAN
METHOD:PUBLISH
X-WR-CALNAME:»wirundjetzt«
X-ORIGINAL-URL:https://wirundjetzt.org
X-WR-CALDESC:Veranstaltungen für »wirundjetzt«
REFRESH-INTERVAL;VALUE=DURATION:PT1H
X-Robots-Tag:noindex
X-PUBLISHED-TTL:PT1H
BEGIN:VTIMEZONE
TZID:Europe/Berlin
BEGIN:DAYLIGHT
TZOFFSETFROM:+0100
TZOFFSETTO:+0200
TZNAME:CEST
DTSTART:20250330T010000
END:DAYLIGHT
BEGIN:STANDARD
TZOFFSETFROM:+0200
TZOFFSETTO:+0100
TZNAME:CET
DTSTART:20251026T010000
END:STANDARD
BEGIN:DAYLIGHT
TZOFFSETFROM:+0100
TZOFFSETTO:+0200
TZNAME:CEST
DTSTART:20260329T010000
END:DAYLIGHT
BEGIN:STANDARD
TZOFFSETFROM:+0200
TZOFFSETTO:+0100
TZNAME:CET
DTSTART:20261025T010000
END:STANDARD
BEGIN:DAYLIGHT
TZOFFSETFROM:+0100
TZOFFSETTO:+0200
TZNAME:CEST
DTSTART:20270328T010000
END:DAYLIGHT
BEGIN:STANDARD
TZOFFSETFROM:+0200
TZOFFSETTO:+0100
TZNAME:CET
DTSTART:20271031T010000
END:STANDARD
END:VTIMEZONE
BEGIN:VEVENT
DTSTART;TZID=Europe/Berlin:20260424T190000
DTEND;TZID=Europe/Berlin:20260424T213000
DTSTAMP:20260422T082734
CREATED:20260324T135652Z
LAST-MODIFIED:20260325T204413Z
UID:10001496-1777057200-1777066200@wirundjetzt.org
SUMMARY:„Gesundheit beginnt im Boden - Warum die Gesundheit allen Lebens von winzigen Mikroben abhängt“
DESCRIPTION:Stefan Schwarzer – Geograf\, langjähriger UN-Mitarbeiter\, Brückenbauer und mehrfacher Buchautor – zeigt in seinem Vortrag „Gesundheit beginnt im Boden – Warum die Gesundheit allen Lebens von winzigen Mikroben abhängt“\, wie eng das Wohlbefinden von Menschen\, Tieren\, Pflanzen und ganzen Landschaften miteinander verknüpft ist – und warum alles bei den Mikroben im Boden beginnt. \nIm Rahmen der Mitmach-Region Deggenhausertal – laden wir herzlich zur Auftaktveranstaltung der Mitmach-Konferenz ein. \nDatum: 24.4.2026  – 19-21.30 Uhr \nOrt: Feuerwehrgerätehaus in Wittenhofen\, Schulweg 9\, 88693 Deggenhausertal \nStefan Schwarzer nimmt dich mit in die verborgene Welt der Bakterien\, Pilze und anderer Kleinstlebewesen. Verständlich und lebendig zeigt er\, wie Mikroorganismen Böden fruchtbar machen\, Pflanzen widerstandsfähiger werden lassen\, Tiergesundheit stärken und letztlich auch unser eigenes Wohlbefinden beeinflussen. Die Mischung aus aktueller Forschung\, anschaulichen Beispielen und vielen Aha-Momenten macht den Vortrag gleichermaßen lehrreich wie unterhaltsam. \nWer Mikroben bisher nur aus dem Biologieunterricht oder vom Joghurtbecher kannte\, wird an diesem Abend eine völlig neue Perspektive gewinnen. \n  \nWeitere Links und Informationen zu Stefan Schwarzer: \nIn Kooperation mit:
URL:https://wirundjetzt.org/event/gesundheit-beginnt-im-boden-warum-die-gesundheit-allen-lebens-von-winzigen-mikroben-abhaengt/
LOCATION:Feuerwehrgerätehaus in Wittenhofen\, Deutschland
CATEGORIES:Veranstaltung
END:VEVENT
BEGIN:VEVENT
DTSTART;TZID=Europe/Berlin:20260425T100000
DTEND;TZID=Europe/Berlin:20260425T150000
DTSTAMP:20260422T082734
CREATED:20260206T125822Z
LAST-MODIFIED:20260415T113622Z
UID:10001470-1777111200-1777129200@wirundjetzt.org
SUMMARY:Mitmach-Konferenz Deggenhausertal - Verbindung als Humus der Zukunft
DESCRIPTION:ReGeneration – im Deggenhausertal\nMenschen – Orte – Begegnungen\nDas Team der Mitmach-Region Deggenhausertal lädt herzlich ein zur ersten Mitmach-Konferenz im Deggenhausertal. \nOrt: Feuerwehrgerätehaus in Wittenhofen\, Schulweg 9\, 88693 Deggenhausertal \nUnter dem Motto: „ReGeneration Deggenhausertal“ – Verbindung als Humus der Zukunft \nNeben Impulsen und Berichten zur Mitmach-Region Deggenhausertal erwarten Sie Thementische\, Austauschformate und Informationen rund um das Thema ReGeneration – mit dem Fokus auf das\, was unsere Region trägt und stärkt. \nBeginn: 10.00 Uhr \nFreuen Sie sich auf: \nArbeiten an Thementischen:​  \nSaatgutinitiative | Streuobstwiesen | Klimacent -regionale Wirtschaftskreisläufe | Regenerate Forum | KI & Nachhaltigkeit | Vorstellung der WIRtuellen Welt\, virtueller Rundgang durch das Deggenhausertal | Geschichten aus dem Tal \nAb ca. 14.15 Uhr Kaffee und Kuchen von den Landfrauen und Bratwürste vom Grill\, musikalische Beiträge des örtlichen Chors sowie Infostände aus der Region schaffen einen lebendigen Rahmen für Gespräche und Vernetzung. \nMarkt – und Infostand: \n\nDie Heinz Sielmann Stiftung – stellt ihre Programme und Förderungen vor\nDie Bodensee Stiftung wird eine Projektidee rund um ökologischen Tourismuss und einer möglichen Radtour durch alte Streuobstbestände und kraftvolle Orte vorstellen und mit den Teilnehmerinnen ins Gespräch gehen\nDas LEADER Projekt westlicher Bodensee stellt seine Aufgaben\, Projekte und Fördermöglichkeiten vor\nDie Marke echt Bodensee Nachhaltig ist Kooperationspartner\n\nIm Mittelpunkt stehen die Geschichten von Menschen aus dem Deggenhausertal\, Fragen von Gesundheit\, Gesellschaft und Frieden sowie ein starkes Miteinander.Denn: Land und Menschen sind untrennbar verbunden – und Regeneration beginnt in Beziehung. \nBegrüßungswort:Fabian Meschenmoser\, Bürgermeister des Deggenhausertals \nModeration:Sarina Gisa & Robert Pakleppa \nLassen Sie sich überraschen von vielfältigen Programm-Punkten\, Begegnungen und Impulsen bei der Mitmach-Konferenz. \n\nAm Vorabend wird es einen Vortrag von Stefan Schwarzer geben.\n24.4. 19-21.30 Uhr „Gesundheit beginnt im Boden – Warum die Gesundheit allen Lebens von winzigen Mikroben abhängt“ \nMehr Informationen zum Vortrag hier: \nWir freuen uns auf Sie und Euch. \nMit herzlichen Grüßen \nDas Team der Mitmach-Region Deggenhausertal \n  \nUnterstützer\, Förderer & Kooperationspartner\n \n \n  \nHier können Sie Berichte und Videos sehen von Mitmach-Konferenzen in den letzten Jahren\nMitmach-Konferenz  – Informationen  \nMiko – auf einen Blick \nMitmach-Konferenz 2017 in Ravensburg und Entstehungsgeschichte \nMiko Video-Beiträge
URL:https://wirundjetzt.org/event/mitmach-konferenz-deggenhausertal/
LOCATION:Feuerwehrgerätehaus in Wittenhofen\, Deutschland
CATEGORIES:mitmach-konferenz,Nachhaltigkeit,Veranstaltung,»wirundjetzt«-Veranstaltung
ATTACH;FMTTYPE=image/jpeg:https://wirundjetzt.org/wp-content/uploads/2026/02/25.4.2026-Miko-D´tal.jpg
END:VEVENT
END:VCALENDAR