BEGIN:VCALENDAR
VERSION:2.0
PRODID:-//»wirundjetzt« - ECPv6.15.17.1//NONSGML v1.0//EN
CALSCALE:GREGORIAN
METHOD:PUBLISH
X-ORIGINAL-URL:https://wirundjetzt.org
X-WR-CALDESC:Veranstaltungen für »wirundjetzt«
REFRESH-INTERVAL;VALUE=DURATION:PT1H
X-Robots-Tag:noindex
X-PUBLISHED-TTL:PT1H
BEGIN:VTIMEZONE
TZID:Europe/Berlin
BEGIN:DAYLIGHT
TZOFFSETFROM:+0100
TZOFFSETTO:+0200
TZNAME:CEST
DTSTART:20230326T010000
END:DAYLIGHT
BEGIN:STANDARD
TZOFFSETFROM:+0200
TZOFFSETTO:+0100
TZNAME:CET
DTSTART:20231029T010000
END:STANDARD
BEGIN:DAYLIGHT
TZOFFSETFROM:+0100
TZOFFSETTO:+0200
TZNAME:CEST
DTSTART:20240331T010000
END:DAYLIGHT
BEGIN:STANDARD
TZOFFSETFROM:+0200
TZOFFSETTO:+0100
TZNAME:CET
DTSTART:20241027T010000
END:STANDARD
BEGIN:DAYLIGHT
TZOFFSETFROM:+0100
TZOFFSETTO:+0200
TZNAME:CEST
DTSTART:20250330T010000
END:DAYLIGHT
BEGIN:STANDARD
TZOFFSETFROM:+0200
TZOFFSETTO:+0100
TZNAME:CET
DTSTART:20251026T010000
END:STANDARD
END:VTIMEZONE
BEGIN:VEVENT
DTSTART;TZID=Europe/Berlin:20241114T180000
DTEND;TZID=Europe/Berlin:20241114T200000
DTSTAMP:20260423T062124
CREATED:20241022T102609Z
LAST-MODIFIED:20241022T102609Z
UID:10001295-1731607200-1731614400@wirundjetzt.org
SUMMARY:Auftaktveranstaltung Zukunftsraum - Gemeinwohl
DESCRIPTION:Vertreter des regionalen Gemeinwohlökonomie e.V. laden zur Programmvorstellung 2024/25 im Rahmen des Zukunftraums „Westlicher Bodensee“ ein.\n\nDie Veranstaltung ist sowohl für Privatpersonen gedacht\, als auch für Vertreter*innen aus Wirtschaft und Kommunen. Es werden vorgestellt\, eine Übersicht zu Ansätzen der Gemeinwohl-Ökonomie und Impulse gegeben\, wie \n\nPrivatpersonen enkeltauglicher leben können\nUnternehmen verantwortungsvoll Nachhaltigkeit gestalten können\nKommunen den Rahmen für eine sozial-ökologische Zukunft gestalten können.\n\nMehr Infos: \n241114_Auftakt-Flyer-02 \nKontakt und Anmeldung:\nE-mailto: leader_bodensee@econgood.org\nMobil: T. Henne: 0174 7958047
URL:https://wirundjetzt.org/event/auftaktveranstaltung-zukunftsraum-gemeinwohl/
LOCATION:Dorfgemeinschaftshaus Nussdorf\,\, Zum Laugele 4\, Überlingen\, 88662
CATEGORIES:Infoabend
END:VEVENT
END:VCALENDAR