BEGIN:VCALENDAR
VERSION:2.0
PRODID:-//»wirundjetzt« - ECPv6.15.17.1//NONSGML v1.0//EN
CALSCALE:GREGORIAN
METHOD:PUBLISH
X-WR-CALNAME:»wirundjetzt«
X-ORIGINAL-URL:https://wirundjetzt.org
X-WR-CALDESC:Veranstaltungen für »wirundjetzt«
REFRESH-INTERVAL;VALUE=DURATION:PT1H
X-Robots-Tag:noindex
X-PUBLISHED-TTL:PT1H
BEGIN:VTIMEZONE
TZID:Europe/Berlin
BEGIN:DAYLIGHT
TZOFFSETFROM:+0100
TZOFFSETTO:+0200
TZNAME:CEST
DTSTART:20210328T010000
END:DAYLIGHT
BEGIN:STANDARD
TZOFFSETFROM:+0200
TZOFFSETTO:+0100
TZNAME:CET
DTSTART:20211031T010000
END:STANDARD
BEGIN:DAYLIGHT
TZOFFSETFROM:+0100
TZOFFSETTO:+0200
TZNAME:CEST
DTSTART:20220327T010000
END:DAYLIGHT
BEGIN:STANDARD
TZOFFSETFROM:+0200
TZOFFSETTO:+0100
TZNAME:CET
DTSTART:20221030T010000
END:STANDARD
BEGIN:DAYLIGHT
TZOFFSETFROM:+0100
TZOFFSETTO:+0200
TZNAME:CEST
DTSTART:20230326T010000
END:DAYLIGHT
BEGIN:STANDARD
TZOFFSETFROM:+0200
TZOFFSETTO:+0100
TZNAME:CET
DTSTART:20231029T010000
END:STANDARD
BEGIN:DAYLIGHT
TZOFFSETFROM:+0100
TZOFFSETTO:+0200
TZNAME:CEST
DTSTART:20240331T010000
END:DAYLIGHT
BEGIN:STANDARD
TZOFFSETFROM:+0200
TZOFFSETTO:+0100
TZNAME:CET
DTSTART:20241027T010000
END:STANDARD
BEGIN:DAYLIGHT
TZOFFSETFROM:+0100
TZOFFSETTO:+0200
TZNAME:CEST
DTSTART:20250330T010000
END:DAYLIGHT
BEGIN:STANDARD
TZOFFSETFROM:+0200
TZOFFSETTO:+0100
TZNAME:CET
DTSTART:20251026T010000
END:STANDARD
BEGIN:DAYLIGHT
TZOFFSETFROM:+0100
TZOFFSETTO:+0200
TZNAME:CEST
DTSTART:20260329T010000
END:DAYLIGHT
BEGIN:STANDARD
TZOFFSETFROM:+0200
TZOFFSETTO:+0100
TZNAME:CET
DTSTART:20261025T010000
END:STANDARD
END:VTIMEZONE
BEGIN:VEVENT
DTSTART;TZID=Europe/Berlin:20251011T103000
DTEND;TZID=Europe/Berlin:20251011T120000
DTSTAMP:20260421T125207
CREATED:20250401T095434Z
LAST-MODIFIED:20250401T095434Z
UID:10001374-1760178600-1760184000@wirundjetzt.org
SUMMARY:Brauereibesichtigung Clemens Härle
DESCRIPTION:Wollen Sie einem Braumeister einmal über die Schulter sehen? Dann haben Sie jetzt die Gelegenheit dazu! Die Brauerei Clemens Härle lädt Sie herzlich zu zwei exklusiven Brauereiführungen im Rahmen der Öko-Aktionswochen Baden-Württemberg ein. Lassen Sie sich von der Kunst des Bierbrauens und dem nachhaltigen\, regional ausgerichteten Unternehmenskonzept begeistern.\nAls Teil der Bio-Musterregion Ravensburg freut sich die Brauerei\, Ihnen nicht nur die besonderen Brauqualitäten zu zeigen\, sondern auch die nachhaltigen Produktionsmethoden. Sie lernen den gesamten Prozess vom Hopfen bis zum fertigen Bier kennen. \nTeilnahmegebühr: 10 € pro Person inkl. einem FreiBier oder FreiZüngle. Kinder und Jugendliche bis einschl. 16 Jahre dürfen kostenlos teilnehmen. \nAnmeldung an: besichtigung@haerle.de
URL:https://wirundjetzt.org/event/brauereibesichtigung-clemens-haerle-2/
LOCATION:Brauerei Härle\, Am Hopfengarten 5\, Leutkirch\, Baden-Württemberg\, 88299\, Deutschland
CATEGORIES:Betriebsbesichtigung,Bio
END:VEVENT
BEGIN:VEVENT
DTSTART;TZID=Europe/Berlin:20251010T180000
DTEND;TZID=Europe/Berlin:20251010T220000
DTSTAMP:20260421T125207
CREATED:20250401T094416Z
LAST-MODIFIED:20250401T094416Z
UID:10001373-1760119200-1760133600@wirundjetzt.org
SUMMARY:Bierverkostung der Brauerei Clemens Härle
DESCRIPTION:Die Brauerei Härle in Leutkirch lädt im Rahmen der Öko-Aktionswochen Baden-Württemberg am 10. Oktober 2025 um 18 Uhr alle Bierliebhaber ein\, mit Biersommelier Reiner Sonntag in die Welt der Härle Biere einzutauchen. Wie schmeckt das Härle Hopfenleicht und wie unterscheiden sich Feine und Dunkle Weiße? Jetzt haben Sie die Möglichkeit\, es herauszufinden und Ihr Wissen zu vertiefen. Dazwischen gibt es fröhliche Wirtshausmusik auf die Ohren. \nTeilnahmegebühr: 30 € pro Person im Kartenvorverkauf (keine Abendkasse!) \nAnmeldung/Kartenvorverkauf: info@haerle.de
URL:https://wirundjetzt.org/event/bierverkostung-der-brauerei-clemens-haerle/
LOCATION:Brauerei Härle\, Am Hopfengarten 5\, Leutkirch\, Baden-Württemberg\, 88299\, Deutschland
CATEGORIES:Bio,Verkostung
END:VEVENT
BEGIN:VEVENT
DTSTART;TZID=Europe/Berlin:20250919T180000
DTEND;TZID=Europe/Berlin:20250919T220000
DTSTAMP:20260421T125207
CREATED:20250401T091616Z
LAST-MODIFIED:20250401T091718Z
UID:10001372-1758304800-1758319200@wirundjetzt.org
SUMMARY:Bier & Käse-Versuchung bei der Brauerei Härle
DESCRIPTION:Am 19. September 2025 lädt die Brauerei Clemens Härle im Rahmen der Öko-Aktionswochen Baden-Württemberg zu einem außergewöhnlichen Abend ein\, der ganz im Zeichen der Geschmacksvielfalt steht. Von 18:00 bis 22:00 Uhr haben die Gäste die einmalige Gelegenheit\, verschiedene Härle Biere zu verkosten und diese mit passenden Käsesorten zu kombinieren. Natürlich sind auch sämtliche Käsesorten\, die an diesem Abend verkostet werden\, aus gutem Hause – nämlich aus der kleinen\, handwerklichen Bio-Käserei Wiggensbach. \nTeilnahmegebühr: 30 € pro Person im Kartenvorverkauf (keine Abendkasse!) \nAnmeldung/Kartenvorverkauf: info@haerle.de
URL:https://wirundjetzt.org/event/bier-kaese-versuchung-bei-der-brauerei-haerle/
LOCATION:Brauerei Härle\, Am Hopfengarten 5\, Leutkirch\, Baden-Württemberg\, 88299\, Deutschland
CATEGORIES:Bio,Verkostung
END:VEVENT
BEGIN:VEVENT
DTSTART;TZID=Europe/Berlin:20250918T170000
DTEND;TZID=Europe/Berlin:20250918T180000
DTSTAMP:20260421T125207
CREATED:20250401T091234Z
LAST-MODIFIED:20250401T091813Z
UID:10001371-1758214800-1758218400@wirundjetzt.org
SUMMARY:Brauereibesichtigung Clemens Härle
DESCRIPTION:Wollen Sie einem Braumeister einmal über die Schulter sehen? Dann haben Sie jetzt die Gelegenheit dazu! Die Brauerei Clemens Härle lädt Sie herzlich zu zwei exklusiven Brauereiführungen im Rahmen der Öko-Aktionswochen Baden-Württemberg ein. Lassen Sie sich von der Kunst des Bierbrauens und dem nachhaltigen\, regional ausgerichteten Unternehmenskonzept begeistern.\nAls Teil der Bio-Musterregion Ravensburg freut sich die Brauerei\, Ihnen nicht nur die besonderen Brauqualitäten zu zeigen\, sondern auch die nachhaltigen Produktionsmethoden. Sie lernen den gesamten Prozess vom Hopfen bis zum fertigen Bier kennen. \nTeilnahmegebühr: 10 € pro Person inkl. einem FreiBier oder FreiZüngle. Kinder und Jugendliche bis einschl. 16 Jahre dürfen kostenlos teilnehmen. \nAnmeldung an: besichtigung@haerle.de
URL:https://wirundjetzt.org/event/brauereibesichtigung-clemens-haerle/
LOCATION:Brauerei Härle\, Am Hopfengarten 5\, Leutkirch\, Baden-Württemberg\, 88299\, Deutschland
CATEGORIES:Betriebsbesichtigung,Bio
END:VEVENT
BEGIN:VEVENT
DTSTART;TZID=Europe/Berlin:20241011T180000
DTEND;TZID=Europe/Berlin:20241011T220000
DTSTAMP:20260421T125207
CREATED:20240705T103830Z
LAST-MODIFIED:20240705T103830Z
UID:10001031-1728669600-1728684000@wirundjetzt.org
SUMMARY:Verführerische Kombinationen: Bier & Partner Versuchung in der Brauerei Clemens Härle
DESCRIPTION:Am 11. Oktober 2024 lädt die Brauerei Clemens Härle im Rahmen der Öko-Aktionswochen Baden-Württemberg zu einem außergewöhnlichen Abend ein\, der ganz im Zeichen der Geschmacksvielfalt steht. Von 18:00 bis 22:00 Uhr haben die Gäste die einmalige Gelegenheit\, verschiedene Härle Biere zu verkosten und diese mit passenden Speisen zu kombinieren. Unter dem Motto „Bier & Partner Versuchung“ werden Ihre Geschmacksknospen auf die Probe gestellt. \nKarten kosten 30 € im Vorverkauf (keine Abendkasse!). \nEine Anmeldung bis 09.10.2024 per Mail an info@haerle.de ist erforderlich.
URL:https://wirundjetzt.org/event/verfuehrerische-kombinationen-bier-partner-versuchung-in-der-brauerei-clemens-haerle/
LOCATION:Brauerei Härle\, Am Hopfengarten 5\, Leutkirch\, Baden-Württemberg\, 88299\, Deutschland
CATEGORIES:Verkostung
END:VEVENT
BEGIN:VEVENT
DTSTART;TZID=Europe/Berlin:20241005T103000
DTEND;TZID=Europe/Berlin:20241005T123000
DTSTAMP:20260421T125207
CREATED:20240705T105003Z
LAST-MODIFIED:20240705T105003Z
UID:10001034-1728124200-1728131400@wirundjetzt.org
SUMMARY:Tradition und Nachhaltigkeit erleben: Brauereiführung Clemens Härle
DESCRIPTION:Wollen Sie einem Braumeister einmal über die Schulter sehen? Dann haben Sie jetzt die Gelegenheit dazu! Die Brauerei Clemens Härle lädt Sie herzlich zu zwei exklusiven Brauereiführungen im Rahmen der Öko-Aktionswochen Baden-Württemberg ein. Lassen Sie sich von der Kunst des Bierbrauens und dem nachhaltigen\, regional ausgerichteten Unternehmenskonzept begeistern. \nKosten: 10 € pro Person inkl. einem FreiBier oder FreiZüngle. Kinder und Jugendliche bis einschl. 16 Jahre dürfen kostenlos teilnehmen.
URL:https://wirundjetzt.org/event/tradition-und-nachhaltigkeit-erleben-brauereifuehrung-clemens-haerle/2024-10-05/
LOCATION:Brauerei Härle\, Am Hopfengarten 5\, Leutkirch\, Baden-Württemberg\, 88299\, Deutschland
CATEGORIES:Führung
END:VEVENT
BEGIN:VEVENT
DTSTART;TZID=Europe/Berlin:20240921T103000
DTEND;TZID=Europe/Berlin:20240921T123000
DTSTAMP:20260421T125207
CREATED:20240705T105003Z
LAST-MODIFIED:20240705T105003Z
UID:10001033-1726914600-1726921800@wirundjetzt.org
SUMMARY:Tradition und Nachhaltigkeit erleben: Brauereiführung Clemens Härle
DESCRIPTION:Wollen Sie einem Braumeister einmal über die Schulter sehen? Dann haben Sie jetzt die Gelegenheit dazu! Die Brauerei Clemens Härle lädt Sie herzlich zu zwei exklusiven Brauereiführungen im Rahmen der Öko-Aktionswochen Baden-Württemberg ein. Lassen Sie sich von der Kunst des Bierbrauens und dem nachhaltigen\, regional ausgerichteten Unternehmenskonzept begeistern. \nKosten: 10 € pro Person inkl. einem FreiBier oder FreiZüngle. Kinder und Jugendliche bis einschl. 16 Jahre dürfen kostenlos teilnehmen.
URL:https://wirundjetzt.org/event/tradition-und-nachhaltigkeit-erleben-brauereifuehrung-clemens-haerle/2024-09-21/
LOCATION:Brauerei Härle\, Am Hopfengarten 5\, Leutkirch\, Baden-Württemberg\, 88299\, Deutschland
CATEGORIES:Führung
END:VEVENT
BEGIN:VEVENT
DTSTART;TZID=Europe/Berlin:20240920T180000
DTEND;TZID=Europe/Berlin:20240920T220000
DTSTAMP:20260421T125207
CREATED:20240705T105340Z
LAST-MODIFIED:20240705T105340Z
UID:10001035-1726855200-1726869600@wirundjetzt.org
SUMMARY:BierVersuchung der Brauerei Clemens Härle
DESCRIPTION:Sind Sie schon ein Profi in der Bierverkostung? Die Brauerei Härle in Leutkirch lädt im Rahmen der Öko-Aktionswochen Baden-Württemberg am 20. September 2024 um 18 Uhr alle Bierliebhaber ein\, in die Welt der professionellen Bierbewertung einzutauchen. Seien es Schaum\, Farbe\, Geruch oder Geschmack – wie beschreiben Profis die Farbe des Härle Gold oder den Schaum und das Aroma des Böckle? Jetzt haben Sie die Möglichkeit\, es herauszufinden und Ihr Wissen zu vertiefen. Der Verkostungsbogen führt Sie durch die verschiedenen Aspekte der Verkostung und hilft Ihnen\, den Charakter und die Qualität der Härle Biere noch besser zu verstehen und zu schätzen. \nKarten kosten 30 € im Vorverkauf (keine Abendkasse!). Anmeldung bitte bis 18. September per Mail an info@haerle.de. \n 
URL:https://wirundjetzt.org/event/bierversuchung-der-brauerei-clemens-haerle/
LOCATION:Brauerei Härle\, Am Hopfengarten 5\, Leutkirch\, Baden-Württemberg\, 88299\, Deutschland
CATEGORIES:Verkostung
END:VEVENT
BEGIN:VEVENT
DTSTART;TZID=Europe/Berlin:20221022T103000
DTEND;TZID=Europe/Berlin:20221022T120000
DTSTAMP:20260421T125207
CREATED:20220922T125617Z
LAST-MODIFIED:20220922T125617Z
UID:10000830-1666434600-1666440000@wirundjetzt.org
SUMMARY:Öko-Aktionswochen: Besichtigung der Brauerei Clemens Härle
DESCRIPTION:Wollen Sie unserem Braumeister einmal über die Schulter sehen? Aber gerne. Wir zeigen Ihnen unsere Brauerei – und geben Ihnen einen Einblick in die besondere Clemens-Härle-Brauqualität und in unser nachhaltiges\, regional ausgerichtetes Unternehmenskonzept. \nSie können jeden Samstagvormittag um 10.30 Uhr an einer Führung teilnehmen. Bitte melden Sie sich dafür unter www.haerle.de kurz an. \nDer Preis pro Brauereibesichtigung beträgt pro Person 10 €\, inklusive einem Freibier oder FreiZüngle in unserem Brauereigasthof. Für Kinder bis 16 Jahre berechnen wir keine Gebühr für die Führung.
URL:https://wirundjetzt.org/event/oeko-aktionswochen-besichtigung-der-brauerei-clemens-haerle-2/
LOCATION:Brauerei Härle\, Am Hopfengarten 5\, Leutkirch\, Baden-Württemberg\, 88299\, Deutschland
CATEGORIES:Betriebsbesichtigung,Führung
END:VEVENT
BEGIN:VEVENT
DTSTART;TZID=Europe/Berlin:20221015T103000
DTEND;TZID=Europe/Berlin:20221015T120000
DTSTAMP:20260421T125207
CREATED:20220922T125315Z
LAST-MODIFIED:20220922T125315Z
UID:10000829-1665829800-1665835200@wirundjetzt.org
SUMMARY:Öko-Aktionswochen: Besichtigung der Brauerei Clemens Härle
DESCRIPTION:Wollen Sie unserem Braumeister einmal über die Schulter sehen? Aber gerne. Wir zeigen Ihnen unsere Brauerei – und geben Ihnen einen Einblick in die besondere Clemens-Härle-Brauqualität und in unser nachhaltiges\, regional ausgerichtetes Unternehmenskonzept. \nSie können jeden Samstagvormittag um 10.30 Uhr an einer Führung teilnehmen. Bitte melden Sie sich dafür unter www.haerle.de kurz an. \nDer Preis pro Brauereibesichtigung beträgt pro Person 10 €\, inklusive einem Freibier oder FreiZüngle in unserem Brauereigasthof. Für Kinder bis 16 Jahre berechnen wir keine Gebühr für die Führung.
URL:https://wirundjetzt.org/event/oeko-aktionswochen-besichtigung-der-brauerei-clemens-haerle/
LOCATION:Brauerei Härle\, Am Hopfengarten 5\, Leutkirch\, Baden-Württemberg\, 88299\, Deutschland
CATEGORIES:Betriebsbesichtigung,Führung
END:VEVENT
BEGIN:VEVENT
DTSTART;TZID=Europe/Berlin:20220924T103000
DTEND;TZID=Europe/Berlin:20220924T120000
DTSTAMP:20260421T125207
CREATED:20220922T122112Z
LAST-MODIFIED:20220922T122112Z
UID:10000441-1664015400-1664020800@wirundjetzt.org
SUMMARY:Öko-Aktionswochen BW - Besichtigung der Brauerei Clemens Härle
DESCRIPTION:Wollen Sie unserem Braumeister einmal über die Schulter sehen? Aber gerne. Wir zeigen Ihnen unsere Brauerei – und geben Ihnen einen Einblick in die besondere Clemens-Härle-Brauqualität und in unser nachhaltiges\, regional ausgerichtetes Unternehmenskonzept.
URL:https://wirundjetzt.org/event/oeko-aktionswochen-bw-besichtigung-der-brauerei-clemens-haerle/
LOCATION:Brauerei Härle\, Am Hopfengarten 5\, Leutkirch\, Baden-Württemberg\, 88299\, Deutschland
CATEGORIES:Betriebsbesichtigung,Bio,Führung
END:VEVENT
END:VCALENDAR