BEGIN:VCALENDAR
VERSION:2.0
PRODID:-//»wirundjetzt« - ECPv6.15.17.1//NONSGML v1.0//EN
CALSCALE:GREGORIAN
METHOD:PUBLISH
X-ORIGINAL-URL:https://wirundjetzt.org
X-WR-CALDESC:Veranstaltungen für »wirundjetzt«
REFRESH-INTERVAL;VALUE=DURATION:PT1H
X-Robots-Tag:noindex
X-PUBLISHED-TTL:PT1H
BEGIN:VTIMEZONE
TZID:Europe/Berlin
BEGIN:DAYLIGHT
TZOFFSETFROM:+0100
TZOFFSETTO:+0200
TZNAME:CEST
DTSTART:20220327T010000
END:DAYLIGHT
BEGIN:STANDARD
TZOFFSETFROM:+0200
TZOFFSETTO:+0100
TZNAME:CET
DTSTART:20221030T010000
END:STANDARD
BEGIN:DAYLIGHT
TZOFFSETFROM:+0100
TZOFFSETTO:+0200
TZNAME:CEST
DTSTART:20230326T010000
END:DAYLIGHT
BEGIN:STANDARD
TZOFFSETFROM:+0200
TZOFFSETTO:+0100
TZNAME:CET
DTSTART:20231029T010000
END:STANDARD
BEGIN:DAYLIGHT
TZOFFSETFROM:+0100
TZOFFSETTO:+0200
TZNAME:CEST
DTSTART:20240331T010000
END:DAYLIGHT
BEGIN:STANDARD
TZOFFSETFROM:+0200
TZOFFSETTO:+0100
TZNAME:CET
DTSTART:20241027T010000
END:STANDARD
END:VTIMEZONE
BEGIN:VEVENT
DTSTART;TZID=Europe/Berlin:20230218T160000
DTEND;TZID=Europe/Berlin:20230218T180000
DTSTAMP:20260425T022740
CREATED:20230214T135445Z
LAST-MODIFIED:20230214T175657Z
UID:10000464-1676736000-1676743200@wirundjetzt.org
SUMMARY:Kreativer Begegnungsraum
DESCRIPTION:Lebenszeichnen wird närrisch!\nWir treiben es bunt und nehmen uns die Narrenfreiheit aus der gewohnten Rolle zu fallen\n \n  \n  \n  \n  \n  \n  \n  \n  \n  \n  \n  \nIch lade dich ein zu einem kreativen Begegnungsraum zur Fasnet/Fasching/Karneval. Die Zeit vor Aschermittwoch ist bunt und schrill\, bringt Abwechslung und Fabe ins Leben. \nLasst uns die Kunstwelt auf den Kopf stellen\, frech und ausgelassen mit Farben spielen\, freie Bilder malen\, jenseits aller Vorschriften von richtig und schön!\nWir verjagen die bösen Wintergeister undGedankendämonen von „Nicht-Malen-Können“ und wecken die kreativen Frühlingsgeister mit bunten Farben und Formen. \nDu bist hier richtig\, wenn du Lust hast einmal Bilder zu malen\, die du sonst nicht malen würdest und Austausch und Begegnung auf Augenhöhe schätzt in einer kleinen Gruppe von max. 10 Menschen. \nEs wird eine Einstimmung\, Zeit zum Malen und für Austausch über das Erlebte und Erfahrene geben.\nDu brauchst keine besonderen Kenntnisse oder Begabung zum Malen. Es geht nicht um das Ergebnis\, sondern um den Prozess und deinen persönlichen Selbstausdruck\, wobei du deiner Experimentierfreude freien Lauf lassen darfst! \nMitbringen:\n2-3 Papierbögen oder Block in A3\nBuntstifte\, Wachsmalstifte\, Ölkreide …\nBitte Bescheid sagen\, falls du nichts zur Hand hast \nWann und Wo?\nSamstag\, 18. Februar 2023 von 16 – 18 Uhr im Gemeindesaal in 78476 Allensbach \nKosten:\nIch schenke dir mein Angebot\, wenn du mit Freude und Leichtigkeit etwas geben willst\, ist das willkommen! \nAnmeldung und Infos:\nPetra Lietz\npetra.lietz@posteo.de\nwww.lebenszeichnen.de
URL:https://wirundjetzt.org/event/kreativer-begegnungsraum/
LOCATION:Allensbach\, Allensbach\, 78476
END:VEVENT
END:VCALENDAR