BEGIN:VCALENDAR
VERSION:2.0
PRODID:-//»wirundjetzt« - ECPv6.15.17.1//NONSGML v1.0//EN
CALSCALE:GREGORIAN
METHOD:PUBLISH
X-WR-CALNAME:»wirundjetzt«
X-ORIGINAL-URL:https://wirundjetzt.org
X-WR-CALDESC:Veranstaltungen für »wirundjetzt«
REFRESH-INTERVAL;VALUE=DURATION:PT1H
X-Robots-Tag:noindex
X-PUBLISHED-TTL:PT1H
BEGIN:VTIMEZONE
TZID:Europe/Berlin
BEGIN:DAYLIGHT
TZOFFSETFROM:+0100
TZOFFSETTO:+0200
TZNAME:CEST
DTSTART:20180325T010000
END:DAYLIGHT
BEGIN:STANDARD
TZOFFSETFROM:+0200
TZOFFSETTO:+0100
TZNAME:CET
DTSTART:20181028T010000
END:STANDARD
BEGIN:DAYLIGHT
TZOFFSETFROM:+0100
TZOFFSETTO:+0200
TZNAME:CEST
DTSTART:20190331T010000
END:DAYLIGHT
BEGIN:STANDARD
TZOFFSETFROM:+0200
TZOFFSETTO:+0100
TZNAME:CET
DTSTART:20191027T010000
END:STANDARD
BEGIN:DAYLIGHT
TZOFFSETFROM:+0100
TZOFFSETTO:+0200
TZNAME:CEST
DTSTART:20200329T010000
END:DAYLIGHT
BEGIN:STANDARD
TZOFFSETFROM:+0200
TZOFFSETTO:+0100
TZNAME:CET
DTSTART:20201025T010000
END:STANDARD
BEGIN:DAYLIGHT
TZOFFSETFROM:+0100
TZOFFSETTO:+0200
TZNAME:CEST
DTSTART:20210328T010000
END:DAYLIGHT
BEGIN:STANDARD
TZOFFSETFROM:+0200
TZOFFSETTO:+0100
TZNAME:CET
DTSTART:20211031T010000
END:STANDARD
END:VTIMEZONE
BEGIN:VEVENT
DTSTART;TZID=Europe/Berlin:20200525T193000
DTEND;TZID=Europe/Berlin:20200525T213000
DTSTAMP:20260421T024454
CREATED:20200506T201535Z
LAST-MODIFIED:20220222T171206Z
UID:10000615-1590435000-1590442200@wirundjetzt.org
SUMMARY:wirundjetzt-Mitmach-Meeting
DESCRIPTION:Seid dabei\, beim zweiten Zoom-Meeting mit wirundjetzt!						\n											\n						\n					\n					\n\n\n\nInfos und Austausch\n\nIhr habt euch schon immer mal gefragt\, was macht wirundjetzt eigentlich? \nUnd wer steht hinter dem Projekt? \nIhr habt Lust mit zu machen\, wisst aber nicht wie? \nIhr habt eigene Ideen und Lust dabei zu sein? \nDann seid ihr hier genau richtig. \n  \nWillkommen und herzliche Einladung zur ersten öffentlichen wirundjetzt Zoom-Veranstaltung. \n  \nIhr habt Fragen\, oder Ideen? \nIhr wollt unterstützen und mitmachen? \nIhr tauscht euch gerne mit anderen über die Themen aus\, die wir in die Welt bringen? \nDann seid ihr hier genau richtig. \n  \nTeilt die Infos und den Link\, damit wir viele werden. \nIn dieser Zeit\, ist es sooo wichtig im Austausch zu sein und gemeinsam zu überlegen\, wie können wir zusammen die Zukunft gestalten und schon heute dafür die Weichen stellen? \nWie möchtest du leben? \nWie stellst du dir die Zukunft nach Corona vor? \nWas sind deine Wünsche\, Ideen und Hoffnungen? \nWir freuen uns auf euch und sind mega gespannt. \n  \nZoom Link hier: https://us02web.zoom.us/j/87377955980?pwd=bm5XR0lDYVBHUjVPa0ZmVUM4dDFyUT09 \nPasswort:  939597 \nBitte seid pünktlich und richtet es euch gemütlich für das Zoom-Meeting ein. \nWenn ihr Zoom noch nie ausprobiert habt\, dann installiert es im Vorfeld und testet den Ton und das Bild. \nAm besten mit jemand\, der schon Erfahrung damit hat. \n  \nHier ein paar Aufgaben und Ideen\, wie ihr uns unterstützen könnt: \nhttps://wirundjetzt.org/so-kannst-du-wirundjetzt-unterstuetzen-2/ \n  \n  \n  \n 
URL:https://wirundjetzt.org/event/wirundjetzt-mitmach-meeting-2/
CATEGORIES:Arbeitstreffen,Dialog,Nachhaltigkeit,Vernetzungstreffen,Wandel,»wirundjetzt«-Veranstaltung
END:VEVENT
BEGIN:VEVENT
DTSTART;TZID=Europe/Berlin:20200525T140000
DTEND;TZID=Europe/Berlin:20200525T153000
DTSTAMP:20260421T024454
CREATED:20200518T200614Z
LAST-MODIFIED:20200520T201316Z
UID:10000203-1590415200-1590420600@wirundjetzt.org
SUMMARY:Bürgerkarte Zoom Meeting für Initiativen und Interessierte
DESCRIPTION:Für alle die Fragen und Interesse an dem Projekt Bürgerkarte haben!						\n											\n						\n					\n					\n\n\n\n\nSeit nun drei Jahren bauen wir als Trägerverein mit wirundjetzt e.V. das Projekt Bürgerkarte hier in der Region Bodensee-Oberschwaben auf. \nNun ist es uns endlich gelungen einen Schritt weiter zu kommen. \nMit der Bürgerstiftung Ravensburg\, einer neuen Homepage für die Region und einem Team starten wir nun gemeinsam für eine starke Region. \nDenn gemeinsam vermögen Bürger viel. \nWir freuen uns auf den ersten online Zoom Abend mit Ihnen und euch. \nZoom Link hier: \nhttps://us02web.zoom.us/j/85153431528?pwd=aW1odmVGaStGUnMrYk82N0d6cVlRZz09 \nOffen für alle Interessierte und Initiativen\, die schon dabei sind\, oder gerne dabei sein möchten. \nWas und wer steht hinter dem Projek? \nWie kann ich mitmachen und unterstützen? \nWie funktioniert die Bürgerkarte? \nWir werden versuchen in unserem Team\, auf all die Fragen einzugehen. \nMit herzlichen Grüßen \nDas Projekt Team der Bürgerkarte \n 
URL:https://wirundjetzt.org/event/buergerkarte-zoom-meeting-fuer-initiattiven-und-interessierte/
CATEGORIES:Dialog,Nachhaltigkeit,Wandel,»wirundjetzt«-Veranstaltung
END:VEVENT
BEGIN:VEVENT
DTSTART;TZID=Europe/Berlin:20200513T193000
DTEND;TZID=Europe/Berlin:20200513T213000
DTSTAMP:20260421T024454
CREATED:20200506T204232Z
LAST-MODIFIED:20200506T204233Z
UID:10000196-1589398200-1589405400@wirundjetzt.org
SUMMARY:MOMO Abend mit wirundjetzt
DESCRIPTION:Zoom Meeting- MOMO Abend - zuhören und erzählen!						\n											\n						\n					\n					\n\n\n\n\nGerade diese aktuell herausfordernde Zeit benötig Räume\, in denen wir uns mitteilen\, uns austauschen und vor allem einander zuhören können. \nVirtuell miteinander gut in Verbindung zu treten ist unser bestes Mittel\, um sozialer Distanziertheit freundlich und bestimmt die Stirn zu bieten. \nDialog statt Diskussion ist unsere Devise. \nSei herzlich eingeladen zum Dialog mit uns von wirundjetzt\, mit dem was Dich bewegt\, um dies mit uns zu teilen. \nWir möchten von dir hören\, wie es Dir geht? \nWas bewegt Dich und wie können wir in dieser Zeit uns gegenseitig stärken\, uns Kraft geben und füreinander da sein? \nWir freuen uns auf Dich. \nHerzliche Einladung\, die gerne geteilt werden darf zum ersten MOMO Abend bei wirundjetzt. \n  \nZoom Link: https://us02web.zoom.us/j/87377955980?pwd=bm5XR0lDYVBHUjVPa0ZmVUM4dDFyUT09 \nPasswort 939597 \nWenn du noch keine Zoom Erfahrungen hast\, dann nimm dir bitte vorher Zeit und installiere Zoom und teste sowohl den Ton als auch das Bild. \nDas kannst du auch schon gerne mit jemanden im Vorfeld machen\, mit jemanden der da schon Erfahrung hat. \nSei bitte pünktlich und mache es dir gemütlich\, so das du dich wohl fühlst.
URL:https://wirundjetzt.org/event/momo-abend-mit-wirundjetzt/
CATEGORIES:Dialog,gemeinschaft,Wandel,»wirundjetzt«-Veranstaltung
END:VEVENT
BEGIN:VEVENT
DTSTART;TZID=Europe/Berlin:20200511T193000
DTEND;TZID=Europe/Berlin:20200511T213000
DTSTAMP:20260421T024454
CREATED:20200506T195325Z
LAST-MODIFIED:20200506T195449Z
UID:10000614-1589225400-1589232600@wirundjetzt.org
SUMMARY:wirundjetzt-Mitmach-Meeting
DESCRIPTION:Seid dabei\, beim ersten Zoom-Meeting mit wirundjetzt!						\n											\n						\n					\n					\n\n\n\nInfos und Austausch\n\nIhr habt euch schon immer mal gefragt\, was macht wirundjetzt eigentlich? \nUnd wer steht hinter dem Projekt? \nIhr habt Lust mit zu machen\, wisst aber nicht wie? \nIhr habt eigene Ideen und Lust dabei zu sein? \nDann seid ihr hier genau richtig. \n  \nWillkommen und herzliche Einladung zur ersten öffentlichen wirundjetzt Zoom-Veranstaltung. \n  \nIhr habt Fragen\, oder Ideen? \nIhr wollt unterstützen und mitmachen? \nIhr tauscht euch gerne mit anderen über die Themen aus\, die wir in die Welt bringen? \nDann seid ihr hier genau richtig. \n  \nTeilt die Infos und den Link\, damit wir viele werden. \nIn dieser Zeit\, ist es sooo wichtig im Austausch zu sein und gemeinsam zu überlegen\, wie können wir zusammen die Zukunft gestalten und schon heute dafür die Weichen stellen? \nWie möchtest du leben? \nWie stellst du dir die Zukunft nach Corona vor? \nWas sind deine Wünsche\, Ideen und Hoffnungen? \nWir freuen uns auf euch und sind mega gespannt. \n  \nZoom Link hier: https://us02web.zoom.us/j/87377955980?pwd=bm5XR0lDYVBHUjVPa0ZmVUM4dDFyUT09 \nPasswort:  939597 \nBitte seid pünktlich und richtet es euch gemütlich für das Zoom-Meeting ein. \nWenn ihr Zoom noch nie ausprobiert habt\, dann installiert es im Vorfeld und testet den Ton und das Bild. \nAm besten mit jemand\, der schon Erfahrung damit hat. \n  \nHier ein paar Aufgaben und Ideen\, wie ihr uns unterstützen könnt: \nhttps://wirundjetzt.org/so-kannst-du-wirundjetzt-unterstuetzen-2/ \n  \n  \n  \n 
URL:https://wirundjetzt.org/event/wirundjetzt-mitmach-meeting/
CATEGORIES:Arbeitstreffen,Nachhaltigkeit,Wandel,»wirundjetzt«-Veranstaltung
END:VEVENT
BEGIN:VEVENT
DTSTART;TZID=Europe/Berlin:20191108T200000
DTEND;TZID=Europe/Berlin:20191108T230000
DTSTAMP:20260421T024454
CREATED:20191107T085610Z
LAST-MODIFIED:20191107T085612Z
UID:10000561-1573243200-1573254000@wirundjetzt.org
SUMMARY:Dancing Moods - freies Barfußtanzen für jung und alt
DESCRIPTION:Der Herbst ist da und erfreut uns mit seinem Farbenspiel. \nDas Wetter lädt nun wieder mehr zum Drinnen-Sein ein und wir laden euch ganz besonders für kommenden Freitag zu Dancing Moods ein\, dem freien Barfuß-Tanzen abseits von Zwängen und Alltag. \nWie immer gibt es für euch frische Beats und unentdeckte Musikperlen von DJ Djoala und Erfrischungsgetränke an der Bar. \nBringt Freunde\, Freude und eure Liebsten mit\, denn es wird wie immer ein großartiger Abend sein\, wo das Zusammen-Sein und das Mit-einander Tanzen\, aber auch der Austausch im schönen Foyer der Scheune uns bereichern und begeistern lassen. \nHier können abseits des bunten Treibens Gespräche geführt werden\, Ideen entwcikelt werden und ihr könnt euch über Projekte in der Region informieren und austauschen. \nZeit: Freitag\, 8. November\, 20 bis 23 Uhr\nOrt: Scheune Kulturzentrum Wilhelmsdorf – Zußdorfer Straße 47\, 88271 Wilhelmsdorf\nEintritt: 5 bis 15 €\, nach eigenem Ermessen \nGerne dürft ihr diese Email auch an eure Freunde\, Bekannte und nette Menschen weiterleiten. Unser Raum ist groß genug\, dass er noch einige bewegungsfreudige Menschen aufnehmen kann. \nWer eine weitergeleitete Email erhalten hat und selbst gerne über weitere Termine informiert werden möchte (ca. einmal pro Monat)\, kann sich hier zum Newsletter anmelden. \nÜber den Link ganz unten könnt ihr den Newsletter jederzeit wieder abbestellen. \nEs grüßen euch herzlich \nSimon\, Sarina und Joachim \n\n­\n\n\n­\n­
URL:https://wirundjetzt.org/event/dancing-moods-freies-barfusstanzen-fuer-jung-und-alt/
LOCATION:Kulturverein Wilhelmsdorf\, Zußdorfer Straße 47\, 88271 Wilhelmsdorf
GEO:47.8626694;9.4240694
X-APPLE-STRUCTURED-LOCATION;VALUE=URI;X-ADDRESS=Kulturverein Wilhelmsdorf Zußdorfer Straße 47 88271 Wilhelmsdorf;X-APPLE-RADIUS=500;X-TITLE=Zußdorfer Straße 47:geo:9.4240694,47.8626694
END:VEVENT
BEGIN:VEVENT
DTSTART;TZID=Europe/Berlin:20191101T193000
DTEND;TZID=Europe/Berlin:20191103T180000
DTSTAMP:20260421T024454
CREATED:20191003T124500Z
LAST-MODIFIED:20191003T125001Z
UID:10000565-1572636600-1572804000@wirundjetzt.org
SUMMARY:Mitmach-Konferenz in Lindau
DESCRIPTION:Zweite Mitmach-Konferenz im Bodenseeraum!						\n											\n						\n					\n					\n\n\n\nHerzliche Einladung an alle Mitmacher*innen\, Gestalter*innen und Interessierte Bürger*innen der Region\n\nEine Mitmach-Konferenz in Lindau in der Inselhalle. \nInformationen hier \nTickets hier: \nAuftaktveranstaltung am 1.November mit Christian Felber im Stadttehater Lindau. \nInformationen hier: \nTickets hier: \n  \nBringt eure Ideen ein und stellt euer Projekt vor. \nTauscht euch aus und lasst euch inspirieren. \nStärkt mit uns gemeinsam das Netzwerk\, auf das es tragfähig werde und wir in Zukunft noch stärker zusammen wirksam sein können. \nmehr Informationen auf der neuen Homepage: \nwww.mitmachen.org \nAnmeldung hier: \nProgramm hier: \nWir sind dankbar für die Unterstützung und all unsere Kooperationspartner. \nAn dieser Stelle ein herzliches Dankeschön an alle Unterstützer\, die dazu beigetragen haben\, dass die Konferenz statt finden kann! \nKooperationspartner hier: \nBesonders freut uns\, dass die Stadt Lindau Kooperationspartner ist und der Oberbürgermeister Dr. Gerhard Ecker Schirmherr für die Veranstaltung geworden ist. \nMehr Informationen über den Schirmherr hier: \nWenn ihr die Mitmach-Konferenz untersützen möchtet\, würden wir uns sehr freuen. \nDamit ist gesichert dass wir auch in Zukunft erfolgreiche Konferenzen und Netzwerkarbeit in der Region machen können. \nUnterstützen Inforamtionen hier: \nAb einer Spende von 100 Euro können wir über den Verein wirundjetzt e.V. eine Spendenquittung ausstellen. \nHerzlichen Dank
URL:https://wirundjetzt.org/event/mitmach-konferenz-in-lindau/
CATEGORIES:Aktionen,Konferenz,Messe,»wirundjetzt«-Veranstaltung
ATTACH;FMTTYPE=image/png:https://wirundjetzt.org/wp-content/uploads/2019/10/miko-vorderseite-flyer.png
END:VEVENT
END:VCALENDAR