BEGIN:VCALENDAR
VERSION:2.0
PRODID:-//»wirundjetzt« - ECPv6.15.17.1//NONSGML v1.0//EN
CALSCALE:GREGORIAN
METHOD:PUBLISH
X-WR-CALNAME:»wirundjetzt«
X-ORIGINAL-URL:https://wirundjetzt.org
X-WR-CALDESC:Veranstaltungen für »wirundjetzt«
REFRESH-INTERVAL;VALUE=DURATION:PT1H
X-Robots-Tag:noindex
X-PUBLISHED-TTL:PT1H
BEGIN:VTIMEZONE
TZID:Europe/Berlin
BEGIN:DAYLIGHT
TZOFFSETFROM:+0100
TZOFFSETTO:+0200
TZNAME:CEST
DTSTART:20190331T010000
END:DAYLIGHT
BEGIN:STANDARD
TZOFFSETFROM:+0200
TZOFFSETTO:+0100
TZNAME:CET
DTSTART:20191027T010000
END:STANDARD
BEGIN:DAYLIGHT
TZOFFSETFROM:+0100
TZOFFSETTO:+0200
TZNAME:CEST
DTSTART:20200329T010000
END:DAYLIGHT
BEGIN:STANDARD
TZOFFSETFROM:+0200
TZOFFSETTO:+0100
TZNAME:CET
DTSTART:20201025T010000
END:STANDARD
BEGIN:DAYLIGHT
TZOFFSETFROM:+0100
TZOFFSETTO:+0200
TZNAME:CEST
DTSTART:20210328T010000
END:DAYLIGHT
BEGIN:STANDARD
TZOFFSETFROM:+0200
TZOFFSETTO:+0100
TZNAME:CET
DTSTART:20211031T010000
END:STANDARD
BEGIN:DAYLIGHT
TZOFFSETFROM:+0100
TZOFFSETTO:+0200
TZNAME:CEST
DTSTART:20220327T010000
END:DAYLIGHT
BEGIN:STANDARD
TZOFFSETFROM:+0200
TZOFFSETTO:+0100
TZNAME:CET
DTSTART:20221030T010000
END:STANDARD
BEGIN:DAYLIGHT
TZOFFSETFROM:+0100
TZOFFSETTO:+0200
TZNAME:CEST
DTSTART:20230326T010000
END:DAYLIGHT
BEGIN:STANDARD
TZOFFSETFROM:+0200
TZOFFSETTO:+0100
TZNAME:CET
DTSTART:20231029T010000
END:STANDARD
BEGIN:DAYLIGHT
TZOFFSETFROM:+0100
TZOFFSETTO:+0200
TZNAME:CEST
DTSTART:20240331T010000
END:DAYLIGHT
BEGIN:STANDARD
TZOFFSETFROM:+0200
TZOFFSETTO:+0100
TZNAME:CET
DTSTART:20241027T010000
END:STANDARD
BEGIN:DAYLIGHT
TZOFFSETFROM:+0100
TZOFFSETTO:+0200
TZNAME:CEST
DTSTART:20250330T010000
END:DAYLIGHT
BEGIN:STANDARD
TZOFFSETFROM:+0200
TZOFFSETTO:+0100
TZNAME:CET
DTSTART:20251026T010000
END:STANDARD
END:VTIMEZONE
BEGIN:VEVENT
DTSTART;TZID=Europe/Berlin:20241117T140000
DTEND;TZID=Europe/Berlin:20241117T160000
DTSTAMP:20260422T000501
CREATED:20241030T094454Z
LAST-MODIFIED:20241030T094454Z
UID:10001297-1731852000-1731859200@wirundjetzt.org
SUMMARY:Solidarische Landwirtschaft Ravensburg e.V. - Beitragsrunde 2025
DESCRIPTION:Die Solidarische Landwirtschaft (Solawi) Ravensburg e.V. ist weit mehr als ein Gemüsebaubetrieb. Sie ist seit 10 Jahren lebendes Beispiel für eine gemeinschaftsgetragene Landwirtschaft\, der Vereinbarkeit von Nahrungsmittelproduktion und Naturschutz und Leuchtturmprojekt für die gesamtgesellschaftliche Aufgabe der Agrarwende. Wesentlich für die Potentialhebung einer Solawi ist die Berücksichtigung der drei Säulen der Nachhaltigkeit (Soziales\, Ökologie und Ökonomie) im betrieblichen Alltag. U.a. faire Löhne und Arbeitsbedingungen\, ressourcenschonender Anbau und regionale Wertschöpfungskreisläufe. \nEine Neuigkeit: Neben fünf Abholstellen in Ravensburg gibt es jetzt auch eine Abholstelle in Horgenzell-Rußmaier. \nAm 17. November findet eine Beitragsrunde für den Gemüseanteil für das Jahr 2025 in der Freien Waldorfschule Ravensburg statt. \nBei Interesse an dem Solawi-Konzept gibt es mehr Infos unter: \nHomepage  zu unserem Infoabend am 04. November in unserem Sozialraum: Hübscher 1\, 88213 Ravensburg“
URL:https://wirundjetzt.org/event/solidarische-landwirtschaft-ravensburg-e-v-beitragsrunde-2025/
LOCATION:Freien Waldorfschule Ravensburg\, Ravensburg\, Deutschland
CATEGORIES:Veranstaltung
END:VEVENT
BEGIN:VEVENT
DTSTART;TZID=Europe/Berlin:20241104T193000
DTEND;TZID=Europe/Berlin:20241104T193000
DTSTAMP:20260422T000501
CREATED:20241030T094011Z
LAST-MODIFIED:20241030T094011Z
UID:10001296-1730748600-1730748600@wirundjetzt.org
SUMMARY:Zwei Termine der Solidarischen Landwirtschaft Ravensburg e.V.
DESCRIPTION:Die Solidarische Landwirtschaft (Solawi) Ravensburg e.V. ist weit mehr als ein Gemüsebaubetrieb. Sie ist seit 10 Jahren lebendes Beispiel für eine gemeinschaftsgetragene Landwirtschaft\, der Vereinbarkeit von Nahrungsmittelproduktion und Naturschutz und Leuchtturmprojekt für die gesamtgesellschaftliche Aufgabe der Agrarwende. Wesentlich für die Potentialhebung einer Solawi ist die Berücksichtigung der drei Säulen der Nachhaltigkeit (Soziales\, Ökologie und Ökonomie) im betrieblichen Alltag. U.a. faire Löhne und Arbeitsbedingungen\, ressourcenschonender Anbau und regionale Wertschöpfungskreisläufe. \nEine Neuigkeit: Neben fünf Abholstellen in Ravensburg gibt es jetzt auch eine Abholstelle in Horgenzell- Rußmaier. \nAm  4. November um 19.30 Uhr wird es einen Infoabend im Sozialraum der Solawi in Ravensburg geben und \nam 17.November um 14.00 Uhr findet eine Beitragsrunde für den Gemüseanteil für das Jahr 2025 in der Freien Waldorfschule Ravensburg statt. \nBei Interesse an dem Solawi-Konzept gibt es mehr Infos unter: \nHomepage  zu unserem Infoabend am 04. November in unserem Sozialraum: Hübscher 1\, 88213 Ravensburg“
URL:https://wirundjetzt.org/event/zwei-termine-der-solidarischen-landwirtschaft-ravensburg-e-v/
LOCATION:Solidarische Landwirtschaft Ravensburg\, Hübscher 1\, Ravensburg\, Baden-Württemberg\, 88213
CATEGORIES:Veranstaltung
GEO:47.7822215;9.5582142
X-APPLE-STRUCTURED-LOCATION;VALUE=URI;X-ADDRESS=Solidarische Landwirtschaft Ravensburg Hübscher 1 Ravensburg Baden-Württemberg 88213;X-APPLE-RADIUS=500;X-TITLE=Hübscher 1:geo:9.5582142,47.7822215
END:VEVENT
BEGIN:VEVENT
DTSTART;TZID=Europe/Berlin:20231008T103000
DTEND;TZID=Europe/Berlin:20231008T134500
DTSTAMP:20260422T000501
CREATED:20230919T072240Z
LAST-MODIFIED:20230919T072240Z
UID:10000915-1696761000-1696772700@wirundjetzt.org
SUMMARY:Bodenfruchtbarkeitstag bei der solidarischen Landwirtschaft Ravensburg e.V.
DESCRIPTION:Der Bodenfruchtbarkeitsfonds und die Solidarische Landwirtschaft Ravensburg e.V. laden ein\, mehr über die Auswirkungen und Möglichkeiten von fruchtbaren Böden zu erfahren. Gemeinsam werden mit den Hintergründen\, Notwendigkeiten und der gesellschaftlichen Verantwortung\, sowie ganz praktischer Bodenwahrnehmung auseinandersetzen. Denn begreifen kommt durch Wahrnehmen und befähigt zum Handeln! \nDie Veranstaltung findet überwiegend im Freien statt. Bitte wettergerechte Kleidung/Schuhe mitbringen\, bei starkem Regen wird die Veranstaltung abgesagt. Daher bitten wir um eine Anmeldung. Die Veranstaltung ist kostenlos\, Spenden sind gerne willkommen. \n\n\n\nMehr Informationen und Programm unter : \nBodenfruchtbarkeitstag 2023 \nAnmeldung oder Fragen unter : \ndavid.steyer@solawi-ravensburg.de
URL:https://wirundjetzt.org/event/bodenfruchtbarkeitstag-bei-der-solidarischen-landwirtschaft-ravensburg-e-v-2/
LOCATION:Solidarische Landwirtschaft Ravensburg\, Hübscher 1\, Ravensburg\, Baden-Württemberg\, 88213
GEO:47.7822215;9.5582142
X-APPLE-STRUCTURED-LOCATION;VALUE=URI;X-ADDRESS=Solidarische Landwirtschaft Ravensburg Hübscher 1 Ravensburg Baden-Württemberg 88213;X-APPLE-RADIUS=500;X-TITLE=Hübscher 1:geo:9.5582142,47.7822215
END:VEVENT
BEGIN:VEVENT
DTSTART;TZID=Europe/Berlin:20230701T140000
DTEND;TZID=Europe/Berlin:20230701T220000
DTSTAMP:20260422T000501
CREATED:20230626T092158Z
LAST-MODIFIED:20230626T093137Z
UID:10000882-1688220000-1688248800@wirundjetzt.org
SUMMARY:Sommerfest SOLAWI-Ravensburg
DESCRIPTION:Das Sommerfest der SOLAWI Ravensburg \nAm 1.7.23 ab 14 Uhr \nmit Mintbringbuffet\, Kleidermarkt\, Kinderprogramm\, Live-Musik und Ackerführungen \nin Hübscher\, Ravensburg \nFlyer_Solawi_Sommerfest1723
URL:https://wirundjetzt.org/event/sommerfest-solawi-ravensburg/
LOCATION:Solidarische Landwirtschaft Ravensburg\, Hübscher 1\, Ravensburg\, Baden-Württemberg\, 88213
CATEGORIES:Fest
ATTACH;FMTTYPE=application/pdf:https://wirundjetzt.org/wp-content/uploads/2023/06/Flyer_Solawi_Sommerfest1723-1.pdf
GEO:47.7822215;9.5582142
X-APPLE-STRUCTURED-LOCATION;VALUE=URI;X-ADDRESS=Solidarische Landwirtschaft Ravensburg Hübscher 1 Ravensburg Baden-Württemberg 88213;X-APPLE-RADIUS=500;X-TITLE=Hübscher 1:geo:9.5582142,47.7822215
END:VEVENT
BEGIN:VEVENT
DTSTART;TZID=Europe/Berlin:20201004T103000
DTEND;TZID=Europe/Berlin:20201004T140000
DTSTAMP:20260422T000501
CREATED:20200915T123735Z
LAST-MODIFIED:20200915T123735Z
UID:10000630-1601807400-1601820000@wirundjetzt.org
SUMMARY:Bodenfruchtbarkeitstag bei der Solidarischen Landwirtschaft Ravensburg
DESCRIPTION:Bodenfruchtbarkeitstag bei der Solidarischen Landwirtschaft Ravensburg						\n											\n						\n					\n					\n\n\n\n\nDie Auseinandersetzung mit dem Thema Bodenfruchtbarkeit hat in den letzten Jahren deutlich zugenommen. \nBilder von zu nassen oderzu trockenen Feldern\, Ertragseinbußen in der Landwirtschaft und nicht zuletzt der Faktor Klima und die\, seit einem Jahrzehnt aktuelle\, Debatte über CO² sind untrennbar mit der Fruchtbarkeit unserer Böden verwoben.Die Fruchtbarkeit unserer Böden ist maßgeblich für den Wohlstand unserer Gesellschaft verantwortlich. Diesen Wohlstand auch unseren Enkeln zu ermöglichen ist zum einen Aufgabe einer verantwortungsvollen und nachhaltigen Landwirtschaft und zum anderen eines verantwortungsvollen und nachhaltigen Konsums. \nBodenfruchtbarkeit muss also als gemeinsames Anliegen von Erzeuger undKonsument getragen und umgesetzt werden. \nDer Bodenfruchtbarkeitsfondsund die Solidarische Landwirtschaft Ravensburg e.V.laden Sie ein\,mehr über die Auswirkungen und Möglichkeiten von fruchtbaren Böden zu erfahren. Gemeinsam werden Hintergründen\, Notwendigkeiten und gesellschaftliche Verantwortung beleuchtet\, sowie sich ganz praktischer Bodenwahrnehmung auseinander gesetzt. Denn begreifen kommt durch Wahrnehmen und befähigt zum Handeln! \n  \nBodenfruchtbarkeitstag Solawi Ravensburg 2020
URL:https://wirundjetzt.org/event/bodenfruchtbarkeitstag-bei-der-solidarischen-landwirtschaft-ravensburg/
LOCATION:Solidarische Landwirtschaft Ravensburg\, Hübscher 1\, Ravensburg\, Baden-Württemberg\, 88213
CATEGORIES:Aktionen
GEO:47.7822215;9.5582142
X-APPLE-STRUCTURED-LOCATION;VALUE=URI;X-ADDRESS=Solidarische Landwirtschaft Ravensburg Hübscher 1 Ravensburg Baden-Württemberg 88213;X-APPLE-RADIUS=500;X-TITLE=Hübscher 1:geo:9.5582142,47.7822215
END:VEVENT
END:VCALENDAR