BEGIN:VCALENDAR
VERSION:2.0
PRODID:-//»wirundjetzt« - ECPv6.15.17.1//NONSGML v1.0//EN
CALSCALE:GREGORIAN
METHOD:PUBLISH
X-WR-CALNAME:»wirundjetzt«
X-ORIGINAL-URL:https://wirundjetzt.org
X-WR-CALDESC:Veranstaltungen für »wirundjetzt«
REFRESH-INTERVAL;VALUE=DURATION:PT1H
X-Robots-Tag:noindex
X-PUBLISHED-TTL:PT1H
BEGIN:VTIMEZONE
TZID:Europe/Berlin
BEGIN:DAYLIGHT
TZOFFSETFROM:+0100
TZOFFSETTO:+0200
TZNAME:CEST
DTSTART:20220327T010000
END:DAYLIGHT
BEGIN:STANDARD
TZOFFSETFROM:+0200
TZOFFSETTO:+0100
TZNAME:CET
DTSTART:20221030T010000
END:STANDARD
BEGIN:DAYLIGHT
TZOFFSETFROM:+0100
TZOFFSETTO:+0200
TZNAME:CEST
DTSTART:20230326T010000
END:DAYLIGHT
BEGIN:STANDARD
TZOFFSETFROM:+0200
TZOFFSETTO:+0100
TZNAME:CET
DTSTART:20231029T010000
END:STANDARD
BEGIN:DAYLIGHT
TZOFFSETFROM:+0100
TZOFFSETTO:+0200
TZNAME:CEST
DTSTART:20240331T010000
END:DAYLIGHT
BEGIN:STANDARD
TZOFFSETFROM:+0200
TZOFFSETTO:+0100
TZNAME:CET
DTSTART:20241027T010000
END:STANDARD
END:VTIMEZONE
BEGIN:VEVENT
DTSTART;TZID=Europe/Berlin:20230211T150000
DTEND;TZID=Europe/Berlin:20230211T193000
DTSTAMP:20260425T215420
CREATED:20230119T124712Z
LAST-MODIFIED:20230119T124712Z
UID:10000854-1676127600-1676143800@wirundjetzt.org
SUMMARY:SchwarzwaldGemeinschaft
DESCRIPTION:Nachdem wir im letzten Jahr mit viel Elan und Energie unser Herzensprojekt vorangetrieben haben\, sind wir sehr glücklich\, dass wir noch kurz vor Weihnachten die Finanzierungszusage der GLS-Bank für unser Projekt in Königsfeld bekommen haben.\nNun geht es konkret in die Umsetzung! \n\nWir werden im Januar den Erbaurechtsvertrag mit der Kirche unterzeichnen.\nDann geht es ab Februar in unseren Räumen weiter.\nBis Mitte 2023 sollen die Genehmigungen und Planungen abgeschlossen sein. Danach beginnen wir mit dem Umbau\, der Renovierung der Gebäude und des Grundstücks. ‚\nDer Einzug ist im Spätsommer 2024 geplant.\nDie zwei denkmalgeschützten Gebäude und der ehemalige Supermarkt werden sich in diesem Zuge in ökologischen und hochwertigen Wohnraum für ca. 30 Menschen verwandeln.\n\nWerde Teile einer etwas anderen Lebensform!! Keine Angst wir sind ganz „bodenständig“… \nSamstag\, 11.02.2023 und Samstag\, 11.03.2023 \nund vermutlich jeden 2.ten Samstag im Monat. \n\n15:00 – 17:00\nBesichtigung der Immobilie mit Führung\nAdresse: Zinzendorfplatz 5 \, 78126 Königsfeld\n\n\n17:30 – ca. 19:30\nInfos zum Projekt und dem Öko.See.Dorf\, Kennenlernen\nOrt: Haus des Gastes Königsfeld\,\nSeb. Kneipp Weg 1\, 78126 Königsfeld\n(fußläufig zum Projekt)\n\nAnmeldung: swg@oekoseedorf.net \nDie Fortschritte der Projekte können jederzeit über die Homepage verfolgt werden\, unter https://oekoseedorf.net/unsere_doerfer
URL:https://wirundjetzt.org/event/schwarzwaldgemeinschaft/
LOCATION:schwarzwaldgemeinschaft\, Zinzendorfplatz 5\, Königsfeld\, 78126
CATEGORIES:Infoabend
END:VEVENT
BEGIN:VEVENT
DTSTART;TZID=Europe/Berlin:20230127T190000
DTEND;TZID=Europe/Berlin:20230127T210000
DTSTAMP:20260425T215420
CREATED:20230119T124245Z
LAST-MODIFIED:20230119T124245Z
UID:10000853-1674846000-1674853200@wirundjetzt.org
SUMMARY:oeko.see.dorf
DESCRIPTION:Das Projekt in Ravensburg-Schmalegg hat jetzt einen Namen: \nBühlhäusle Quartier \nGemeinsam leben in gesundem\, ökologisch nachhaltig gestaltetem und modernem Wohnumfeld \nFür die Initiativgruppe des „Bühlhäusle Quartiers“\, bestehend aus momentan 17 Menschen\, wird 2023 ein arbeitsreiches und spannendes Jahr werden:\nNachdem der Gruppe im Auswahlverfahren der Stadt Ravensburg der Zuschlag für den Bauplatz von drei Mehrfamilienhäusern im Neubaugebiet Schmalegg Ortsmitte III gewährt wurde\, gehen die Planungen jetzt in die konkrete Phase. \nZiel ist es\, die Werte\, die sie als Gruppe zusammengeführt haben\, bestmöglich in Architektur und Gestaltung umzusetzen\, sodass das spätere gemeinschaftliche Zusammenleben so nachhaltig und gesund wie möglich sein wird. Da fallen Schlagworte wie ökologisches und ressourcenschonendes Bauen\, generationsübergreifendes und enkeltaugliches Leben. Mit Sharing ist nicht nur Carsharing gemeint\, auch Werkzeuge\, Haushaltsgeräte usw. muss nicht jeder Haushalt besitzen\, sondern können geteilt werden.\nPartizipation auf Augenhöhe in Entscheidungsprozessen\, gemeinsame Wertschätzung und viele weitere Prinzipien werden in der Gemeinschaft aktiv gelebt werden. Die Struktur dazu liefern die soziokratische Organisationsform und Grundlagen der gewaltfreien Kommunikation nach M. Rosenberg. \nWer sich angesprochen fühlt\, ist herzlich willkommen bei der nächsten Infoveranstaltung: \n\nWann?\n\nFreitag\, 27. Januar 2023 um 19.00 Uhr \n\nWo?\n\nErgotherapiepraxis Mühlstrasse 18\,\n88212 Ravensburg \nDa die Teilnehmerzahl auf 25 beschränkt ist\, wird um frühzeitige Anmeldung gebeten unter:\nrav@oekoseedorf.net
URL:https://wirundjetzt.org/event/oeko-see-dorf/
LOCATION:Ergotherapiepraxis Mühlstrasse 18\, 88212 Ravensburg\, Mühlgasse 18\, Ravensburg\, 88212
CATEGORIES:Infoabend
END:VEVENT
END:VCALENDAR