BEGIN:VCALENDAR
VERSION:2.0
PRODID:-//»wirundjetzt« - ECPv6.15.17.1//NONSGML v1.0//EN
CALSCALE:GREGORIAN
METHOD:PUBLISH
X-ORIGINAL-URL:https://wirundjetzt.org
X-WR-CALDESC:Veranstaltungen für »wirundjetzt«
REFRESH-INTERVAL;VALUE=DURATION:PT1H
X-Robots-Tag:noindex
X-PUBLISHED-TTL:PT1H
BEGIN:VTIMEZONE
TZID:Europe/Berlin
BEGIN:DAYLIGHT
TZOFFSETFROM:+0100
TZOFFSETTO:+0200
TZNAME:CEST
DTSTART:20160327T010000
END:DAYLIGHT
BEGIN:STANDARD
TZOFFSETFROM:+0200
TZOFFSETTO:+0100
TZNAME:CET
DTSTART:20161030T010000
END:STANDARD
BEGIN:DAYLIGHT
TZOFFSETFROM:+0100
TZOFFSETTO:+0200
TZNAME:CEST
DTSTART:20170326T010000
END:DAYLIGHT
BEGIN:STANDARD
TZOFFSETFROM:+0200
TZOFFSETTO:+0100
TZNAME:CET
DTSTART:20171029T010000
END:STANDARD
BEGIN:DAYLIGHT
TZOFFSETFROM:+0100
TZOFFSETTO:+0200
TZNAME:CEST
DTSTART:20180325T010000
END:DAYLIGHT
BEGIN:STANDARD
TZOFFSETFROM:+0200
TZOFFSETTO:+0100
TZNAME:CET
DTSTART:20181028T010000
END:STANDARD
BEGIN:DAYLIGHT
TZOFFSETFROM:+0100
TZOFFSETTO:+0200
TZNAME:CEST
DTSTART:20190331T010000
END:DAYLIGHT
BEGIN:STANDARD
TZOFFSETFROM:+0200
TZOFFSETTO:+0100
TZNAME:CET
DTSTART:20191027T010000
END:STANDARD
BEGIN:DAYLIGHT
TZOFFSETFROM:+0100
TZOFFSETTO:+0200
TZNAME:CEST
DTSTART:20200329T010000
END:DAYLIGHT
BEGIN:STANDARD
TZOFFSETFROM:+0200
TZOFFSETTO:+0100
TZNAME:CET
DTSTART:20201025T010000
END:STANDARD
BEGIN:DAYLIGHT
TZOFFSETFROM:+0100
TZOFFSETTO:+0200
TZNAME:CEST
DTSTART:20210328T010000
END:DAYLIGHT
BEGIN:STANDARD
TZOFFSETFROM:+0200
TZOFFSETTO:+0100
TZNAME:CET
DTSTART:20211031T010000
END:STANDARD
BEGIN:DAYLIGHT
TZOFFSETFROM:+0100
TZOFFSETTO:+0200
TZNAME:CEST
DTSTART:20220327T010000
END:DAYLIGHT
BEGIN:STANDARD
TZOFFSETFROM:+0200
TZOFFSETTO:+0100
TZNAME:CET
DTSTART:20221030T010000
END:STANDARD
BEGIN:DAYLIGHT
TZOFFSETFROM:+0100
TZOFFSETTO:+0200
TZNAME:CEST
DTSTART:20230326T010000
END:DAYLIGHT
BEGIN:STANDARD
TZOFFSETFROM:+0200
TZOFFSETTO:+0100
TZNAME:CET
DTSTART:20231029T010000
END:STANDARD
BEGIN:DAYLIGHT
TZOFFSETFROM:+0100
TZOFFSETTO:+0200
TZNAME:CEST
DTSTART:20240331T010000
END:DAYLIGHT
BEGIN:STANDARD
TZOFFSETFROM:+0200
TZOFFSETTO:+0100
TZNAME:CET
DTSTART:20241027T010000
END:STANDARD
BEGIN:DAYLIGHT
TZOFFSETFROM:+0100
TZOFFSETTO:+0200
TZNAME:CEST
DTSTART:20250330T010000
END:DAYLIGHT
BEGIN:STANDARD
TZOFFSETFROM:+0200
TZOFFSETTO:+0100
TZNAME:CET
DTSTART:20251026T010000
END:STANDARD
END:VTIMEZONE
BEGIN:VEVENT
DTSTART;VALUE=DATE:20240513
DTEND;VALUE=DATE:20240521
DTSTAMP:20260420T094200
CREATED:20240304T142244Z
LAST-MODIFIED:20240304T143807Z
UID:10000973-1715558400-1716249599@wirundjetzt.org
SUMMARY:Permakultur-Design-Kurs im Wundern
DESCRIPTION:„Permakultur-Design-Kurs im Wundern“ (72h) mit Ronny Müller\, Katharina Philipp und Harald Wedig\nWir freuen uns\, dass bei uns wieder ein langer Permakultur-Kurs stattfinden kann. \nTeilweise online\, teilweise am Haslachhof und anderen inspirierenden Kursorten. \n\nWeitere Infos\, Termine und Anmeldung gibt es auf der Seite der Permakultur-Akademie.
URL:https://wirundjetzt.org/event/permakultur-design-kurs-im-wundern/
LOCATION:Haslachhof\, Haslachhof 1\, Deggenhausertal\, Baden-Württemberg\, 88693\, Deutschland
CATEGORIES:Permakultur
ORGANIZER;CN="Haslachhof":MAILTO: joachim.lang@gmx.de
GEO:47.7779168;9.4083337
X-APPLE-STRUCTURED-LOCATION;VALUE=URI;X-ADDRESS=Haslachhof Haslachhof 1 Deggenhausertal Baden-Württemberg 88693 Deutschland;X-APPLE-RADIUS=500;X-TITLE=Haslachhof 1:geo:9.4083337,47.7779168
END:VEVENT
BEGIN:VEVENT
DTSTART;VALUE=DATE:20240417
DTEND;VALUE=DATE:20240422
DTSTAMP:20260420T094200
CREATED:20240214T164944Z
LAST-MODIFIED:20240228T163141Z
UID:10000971-1713312000-1713743999@wirundjetzt.org
SUMMARY:Landbau-Tage auf dem Haslachhof
DESCRIPTION:Herzliche Einladung auf den Haslachhof zum gemeinsamen Werkeln und Pflegen unseres Landes – wir freuen uns über tatkräftige Menschen\, die zugleich Lust auf gelebte Gemeinschaft haben. \nWir haben viel zu tun auf unserem Land\, mit dem Agroforst System\, unserem Gemüsegarten und den Tieren! \nAnmeldung und Kontakt: katharina.philipp@wirundjetzt.org \nMehr Informationen zum Projekt und zu den Terminen findet ihr hier: \nhttps://www.gemeinschafthaslachhof.de/neues/
URL:https://wirundjetzt.org/event/landbau-tage-auf-dem-haslachhof/
LOCATION:Haslachhof\, Haslachhof 1\, Deggenhausertal\, Baden-Württemberg\, 88693\, Deutschland
CATEGORIES:Aktionen
ORGANIZER;CN="Haslachhof":MAILTO: joachim.lang@gmx.de
GEO:47.7779168;9.4083337
X-APPLE-STRUCTURED-LOCATION;VALUE=URI;X-ADDRESS=Haslachhof Haslachhof 1 Deggenhausertal Baden-Württemberg 88693 Deutschland;X-APPLE-RADIUS=500;X-TITLE=Haslachhof 1:geo:9.4083337,47.7779168
END:VEVENT
BEGIN:VEVENT
DTSTART;TZID=Europe/Berlin:20191211T193000
DTEND;TZID=Europe/Berlin:20191211T193000
DTSTAMP:20260420T094200
CREATED:20191202T102618Z
LAST-MODIFIED:20191202T102619Z
UID:10000174-1576092600-1576092600@wirundjetzt.org
SUMMARY:Film "DRACHINZEIT" in der Gemeinschaft Haslachhof
DESCRIPTION:Film "DRACHINZEIT" in der Gemeinschaft Haslachhof						\n											\n						\n					\n					\n\n\n\n\n\n\n\nVon Wurzeln und Flügeln – ein Film von Sil Egger\n  \nIm Anschluss Gespräch mit Sabrina Hoffmann von Drachinzeit \n„Wer bin ich\, wo gehöre ich hin und was passiert mit meinem Körper?“ \nDas fragen sich acht pubertierende Mädchen aus Potsdam\, die sich 2014 für die „Drachinzeit“ entschieden hatten.„Drachinzeit“ ist ein ungewöhnlicher und berührender Coming of Age-Film über Mädchen\, die bei einem Übergangsritual ihre Kindheit hinter sich lassen und über Frauen\, die das mit ihrer Arbeit möglich machen. Der Film zeigt\, was die vermeintlich schwere Zeit der Pubertät auch sein kann: Eine Zeit der Begegnung\, voller Respekt\, Wertschätzung\, Unterstützung und Abenteuer. \nDie Drachinzeit bietet dabei den Rahmen aus Geborgenheit und Vertrauen\, in dem die Mädchen Zeit haben für diese wichtige Metamorphose. \nAuf der Suche nach sich selbst\, entdecken 8 Mädchen die junge Frau in sich. \n\nKontakt: Claudija Sonntag: soclaudi@gmail.com
URL:https://wirundjetzt.org/event/film-drachinzeit-in-der-gemeinschaft-haslachhof/
CATEGORIES:Film
ORGANIZER;CN="Haslachhof":MAILTO: joachim.lang@gmx.de
END:VEVENT
BEGIN:VEVENT
DTSTART;TZID=Europe/Berlin:20180620T180000
DTEND;TZID=Europe/Berlin:20180624T180000
DTSTAMP:20260420T094200
CREATED:20180120T111248Z
LAST-MODIFIED:20180120T111248Z
UID:10000041-1529517600-1529863200@wirundjetzt.org
SUMMARY:Tiefenökologie-Festival und Konferenz
DESCRIPTION:Tiefenökologie-Festival und Konferenz„Die Arbeit\, die Wieder-Verbindet“ nach Joanna Macy vier ganze Tage erleben in einer großen Gemeinschaft von Menschen\, denen die Zukunft unserer Erde am Herzen liegt. Durch die Dankbarkeit bereiten wir den Boden\, uns gemeinsam unsere Angst und unseren Schmerz um die Welt anzuschauen. Dadurch sehen wir uns und die Erde mit anderen Augen und schöpfen Kraft\, um in konkrteten Schritten weiterzugehen: Hoffnung durch Handeln. \nKinderbetreuung für Kinder ab 5 Jahren möglich. Übernachtung in Zelten oder im Haus. \nTermin: 20.-24. Juni 2018 \nHaslachhof 1\, 88693 Deggenhausertalwww.gemeinschaft-haslachhof.deInfos und Anmeldung: katharina.philipp@wirundjetzt.org \n  \n  \n 
URL:https://wirundjetzt.org/event/tiefenoekologie-festival-und-konferenz/
LOCATION:Haslachhof\, Haslachhof 1\, Deggenhausertal\, Baden-Württemberg\, 88693\, Deutschland
CATEGORIES:Festival,Konferenz,Kultur,Nachhaltigkeit,Ökologie,Seminar
ATTACH;FMTTYPE=image/jpeg:https://wirundjetzt.org/wp-content/uploads/2017/06/20141017_Vogelschwarm-am-Weiher_001.jpg
ORGANIZER;CN="Haslachhof":MAILTO: joachim.lang@gmx.de
GEO:47.7779168;9.4083337
X-APPLE-STRUCTURED-LOCATION;VALUE=URI;X-ADDRESS=Haslachhof Haslachhof 1 Deggenhausertal Baden-Württemberg 88693 Deutschland;X-APPLE-RADIUS=500;X-TITLE=Haslachhof 1:geo:9.4083337,47.7779168
END:VEVENT
BEGIN:VEVENT
DTSTART;TZID=Europe/Berlin:20180608T180000
DTEND;TZID=Europe/Berlin:20180610T180000
DTSTAMP:20260420T094200
CREATED:20180120T111540Z
LAST-MODIFIED:20180120T111618Z
UID:10000044-1528480800-1528653600@wirundjetzt.org
SUMMARY:Paranamadoula-Ausbildungswochenende
DESCRIPTION:Paranamadoula-Ausbildungswochenende \nMit Michel Odent\, geb. 1930\, weltweit bekannter Autor und langjähriger Geburtsmediziner\, engagiert sich seit Jahrzehnten für eine natürliche sanfte Geburt\, und Liliana Lammers\, langjährige Doula. \nEine Doula ist eine Geburtsbegleiterin\, die vor\, während und nach der Geburt eines Kindes eine mütterliche Rolle übernimmt und für die gebährende Frau ganz da ist. In diesem Ausbildungsworkshop geht es um die Umgebung\, die für gebährende Frauen vorteilhaft ist\, erste Hilfe\, Rolle des Vaters und Einsatzmöglichkeiten einer Doula. \nFür alle Frauen\, die sich zum Thema Geburt hingezogen fühlen und die diese elementare Erfahrung für Baby und Mutter unterstützen wollen. \nTermin: 8.-10. Juni 2018 \nKosten: 380€ plus U/VP \nwww.paranamadoula.com \nHaslachhof 1\, 88693 Deggenhausertalwww.gemeinschaft-haslachhof.deInfos und Anmeldung: katharina.philipp@wirundjetzt.org \n  \n  \n 
URL:https://wirundjetzt.org/event/paranamadoula-ausbildungswochenende/
LOCATION:Haslachhof\, Haslachhof 1\, Deggenhausertal\, Baden-Württemberg\, 88693\, Deutschland
CATEGORIES:Seminar
ATTACH;FMTTYPE=image/jpeg:https://wirundjetzt.org/wp-content/uploads/2017/06/20141017_Vogelschwarm-am-Weiher_001.jpg
ORGANIZER;CN="Haslachhof":MAILTO: joachim.lang@gmx.de
GEO:47.7779168;9.4083337
X-APPLE-STRUCTURED-LOCATION;VALUE=URI;X-ADDRESS=Haslachhof Haslachhof 1 Deggenhausertal Baden-Württemberg 88693 Deutschland;X-APPLE-RADIUS=500;X-TITLE=Haslachhof 1:geo:9.4083337,47.7779168
END:VEVENT
BEGIN:VEVENT
DTSTART;TZID=Europe/Berlin:20180603T140000
DTEND;TZID=Europe/Berlin:20180603T200000
DTSTAMP:20260420T094200
CREATED:20180120T110926Z
LAST-MODIFIED:20180120T110926Z
UID:10000531-1528034400-1528056000@wirundjetzt.org
SUMMARY:Tag der Offenen Tür am Haslachhof
DESCRIPTION:Tag der offenen Tür\n\nKennenlernen von uns und unserer Vision\, eine Hofführung\, leckeren Kuchen\, Fragen und Antworten rund um das Thema Gemeinschaft. \nEingeladen sind besonders Menschen aus der Gemeinde Deggenhausertal und aus der Region. \nTermin: SONNTAG\, 3. Juni 2018 ab 14.00Uhr Haslachhof 1\, 88693 Deggenhausertal www.gemeinschaft-haslachhof.de \nInfos: katharina.philipp@wirundjetzt.org \n  \n  \n 
URL:https://wirundjetzt.org/event/tag-der-offenen-tuer-am-haslachhof/
LOCATION:Haslachhof\, Haslachhof 1\, Deggenhausertal\, Baden-Württemberg\, 88693\, Deutschland
ATTACH;FMTTYPE=image/jpeg:https://wirundjetzt.org/wp-content/uploads/2017/06/20141017_Vogelschwarm-am-Weiher_001.jpg
ORGANIZER;CN="Haslachhof":MAILTO: joachim.lang@gmx.de
GEO:47.7779168;9.4083337
X-APPLE-STRUCTURED-LOCATION;VALUE=URI;X-ADDRESS=Haslachhof Haslachhof 1 Deggenhausertal Baden-Württemberg 88693 Deutschland;X-APPLE-RADIUS=500;X-TITLE=Haslachhof 1:geo:9.4083337,47.7779168
END:VEVENT
BEGIN:VEVENT
DTSTART;TZID=Europe/Berlin:20180511T180000
DTEND;TZID=Europe/Berlin:20180513T180000
DTSTAMP:20260420T094200
CREATED:20180120T153205Z
LAST-MODIFIED:20180120T153205Z
UID:10000532-1526061600-1526234400@wirundjetzt.org
SUMMARY:„Gemeinsam Wachsen" – Wochenenden
DESCRIPTION:„Gemeinsam Wachsen“ – Wochenenden  \nGefühls- und Körperarbeit nach Willi Maurer – bearbeiten\, verstehen und lösen von Mustern\, die rund um unsere eigene Geburt entstanden sind und sich bis heute auf unser Leben auswirken. \nTermine: 11.-13. Mai 2018 \n19.-21. Oktober2018 \nHaslachhof 1\, 88693 Deggenhausertalwww.gemeinschaft-haslachhof.deInfos und Anmeldung: katharina.philipp@wirundjetzt.org
URL:https://wirundjetzt.org/event/gemeinsam-wachsen-wochenenden/
LOCATION:Haslachhof\, Haslachhof 1\, Deggenhausertal\, Baden-Württemberg\, 88693\, Deutschland
CATEGORIES:Seminar
ATTACH;FMTTYPE=image/jpeg:https://wirundjetzt.org/wp-content/uploads/2017/06/20141017_Vogelschwarm-am-Weiher_001.jpg
ORGANIZER;CN="Haslachhof":MAILTO: joachim.lang@gmx.de
GEO:47.7779168;9.4083337
X-APPLE-STRUCTURED-LOCATION;VALUE=URI;X-ADDRESS=Haslachhof Haslachhof 1 Deggenhausertal Baden-Württemberg 88693 Deutschland;X-APPLE-RADIUS=500;X-TITLE=Haslachhof 1:geo:9.4083337,47.7779168
END:VEVENT
BEGIN:VEVENT
DTSTART;TZID=Europe/Berlin:20180329T200000
DTEND;TZID=Europe/Berlin:20180329T220000
DTSTAMP:20260420T094200
CREATED:20180120T152536Z
LAST-MODIFIED:20180120T152628Z
UID:10000058-1522353600-1522360800@wirundjetzt.org
SUMMARY:Wandelraum Haslachhof
DESCRIPTION:Wandelraum Haslachhof \nAbend-Gesprächskreis am Haslachhof über verschiedene Themen: Globaler Wandel\, persönliche Lebensübergänge\, Tod und Sterben\, Geburt\, Jugendinitiation\, persönliche Wandelmomente… Immer am letzten Donnerstag eines jeden Monats um 20.00Uhr. Thema vorher erfragen oder auf der Homepage lesen. \nHaslachhof 1\, 88693 Deggenhausertalwww.gemeinschaft-haslachhof.deInfos: katharina.philipp@wirundjetzt.org \n  \n  \n 
URL:https://wirundjetzt.org/event/wandelraum-haslachhof-2-2/
LOCATION:Haslachhof\, Haslachhof 1\, Deggenhausertal\, Baden-Württemberg\, 88693\, Deutschland
CATEGORIES:Gesprächsrunde
ATTACH;FMTTYPE=image/jpeg:https://wirundjetzt.org/wp-content/uploads/2017/06/20141017_Vogelschwarm-am-Weiher_001.jpg
ORGANIZER;CN="Haslachhof":MAILTO: joachim.lang@gmx.de
GEO:47.7779168;9.4083337
X-APPLE-STRUCTURED-LOCATION;VALUE=URI;X-ADDRESS=Haslachhof Haslachhof 1 Deggenhausertal Baden-Württemberg 88693 Deutschland;X-APPLE-RADIUS=500;X-TITLE=Haslachhof 1:geo:9.4083337,47.7779168
END:VEVENT
BEGIN:VEVENT
DTSTART;TZID=Europe/Berlin:20180323T140000
DTEND;TZID=Europe/Berlin:20180325T140000
DTSTAMP:20260420T094200
CREATED:20180120T152047Z
LAST-MODIFIED:20180120T152047Z
UID:10000050-1521813600-1521986400@wirundjetzt.org
SUMMARY:Landbau-Partie am Haslachhof
DESCRIPTION:Landbau-Parties: Gemeinsam werkeln\, feiern\, musizieren\, Pizza essen und Gemeinschaft auf Zeit leben. \nWir arbeiten in unserem Selbstversorgergarten\, tauschen uns aus und lernen uns kennen. \nTermine: 23.-25. März 2018 \n13.-14. Oktober 2018 \nHaslachhof 1\, 88693 Deggenhausertalwww.gemeinschaft-haslachhof.deInfos: katharina.philipp@wirundjetzt.org \n  \n  \n 
URL:https://wirundjetzt.org/event/landbau-partie/
LOCATION:Haslachhof\, Haslachhof 1\, Deggenhausertal\, Baden-Württemberg\, 88693\, Deutschland
CATEGORIES:Aktionen,gemeinschaft,Ökologie
ATTACH;FMTTYPE=image/jpeg:https://wirundjetzt.org/wp-content/uploads/2017/06/20141017_Vogelschwarm-am-Weiher_001.jpg
ORGANIZER;CN="Haslachhof":MAILTO: joachim.lang@gmx.de
GEO:47.7779168;9.4083337
X-APPLE-STRUCTURED-LOCATION;VALUE=URI;X-ADDRESS=Haslachhof Haslachhof 1 Deggenhausertal Baden-Württemberg 88693 Deutschland;X-APPLE-RADIUS=500;X-TITLE=Haslachhof 1:geo:9.4083337,47.7779168
END:VEVENT
BEGIN:VEVENT
DTSTART;TZID=Europe/Berlin:20180305T153000
DTEND;TZID=Europe/Berlin:20180305T163000
DTSTAMP:20260420T094200
CREATED:20180120T152823Z
LAST-MODIFIED:20180120T153250Z
UID:10000060-1520263800-1520267400@wirundjetzt.org
SUMMARY:Kindersingen für Mütter und Väter mit (kleinen) Kindern Haslachhof
DESCRIPTION:Kindersingen für Mütter und Väter mit (kleinen) Kindernwir singen Lieder zu den Jahreszeiten\, Mantras\, Kinderlieder\, Circle-Songs. \nImmer am 1. Montag im Monat um 15:30Uhr. Haslachhof 1\, 88693 Deggenhausertalwww.gemeinschaft-haslachhof.deInfos: katharina.philipp@wirundjetzt.org \n  \n  \n 
URL:https://wirundjetzt.org/event/kindersingen-fuer-muetter-und-vaeter-mit-kleinen-kindern-haslachhof/
LOCATION:Haslachhof\, Haslachhof 1\, Deggenhausertal\, Baden-Württemberg\, 88693\, Deutschland
CATEGORIES:Gesprächsrunde
ATTACH;FMTTYPE=image/jpeg:https://wirundjetzt.org/wp-content/uploads/2017/06/20141017_Vogelschwarm-am-Weiher_001.jpg
ORGANIZER;CN="Haslachhof":MAILTO: joachim.lang@gmx.de
GEO:47.7779168;9.4083337
X-APPLE-STRUCTURED-LOCATION;VALUE=URI;X-ADDRESS=Haslachhof Haslachhof 1 Deggenhausertal Baden-Württemberg 88693 Deutschland;X-APPLE-RADIUS=500;X-TITLE=Haslachhof 1:geo:9.4083337,47.7779168
END:VEVENT
BEGIN:VEVENT
DTSTART;TZID=Europe/Berlin:20180222T200000
DTEND;TZID=Europe/Berlin:20180222T220000
DTSTAMP:20260420T094200
CREATED:20180120T152507Z
LAST-MODIFIED:20180120T152507Z
UID:10000055-1519329600-1519336800@wirundjetzt.org
SUMMARY:Wandelraum Haslachhof
DESCRIPTION:Wandelraum Haslachhof \nAbend-Gesprächskreis am Haslachhof über verschiedene Themen: Globaler Wandel\, persönliche Lebensübergänge\, Tod und Sterben\, Geburt\, Jugendinitiation\, persönliche Wandelmomente… Immer am letzten Donnerstag eines jeden Monats um 20.00Uhr. Thema vorher erfragen oder auf der Homepage lesen. \nHaslachhof 1\, 88693 Deggenhausertalwww.gemeinschaft-haslachhof.deInfos: katharina.philipp@wirundjetzt.org \n  \n  \n 
URL:https://wirundjetzt.org/event/wandelraum-haslachhof-2/
LOCATION:Haslachhof\, Haslachhof 1\, Deggenhausertal\, Baden-Württemberg\, 88693\, Deutschland
CATEGORIES:Gesprächsrunde
ATTACH;FMTTYPE=image/jpeg:https://wirundjetzt.org/wp-content/uploads/2017/06/20141017_Vogelschwarm-am-Weiher_001.jpg
ORGANIZER;CN="Haslachhof":MAILTO: joachim.lang@gmx.de
GEO:47.7779168;9.4083337
X-APPLE-STRUCTURED-LOCATION;VALUE=URI;X-ADDRESS=Haslachhof Haslachhof 1 Deggenhausertal Baden-Württemberg 88693 Deutschland;X-APPLE-RADIUS=500;X-TITLE=Haslachhof 1:geo:9.4083337,47.7779168
END:VEVENT
BEGIN:VEVENT
DTSTART;TZID=Europe/Berlin:20180205T153000
DTEND;TZID=Europe/Berlin:20180205T163000
DTSTAMP:20260420T094200
CREATED:20180120T152921Z
LAST-MODIFIED:20180120T153129Z
UID:10000063-1517844600-1517848200@wirundjetzt.org
SUMMARY:Kindersingen für Mütter und Väter mit (kleinen) Kindern Haslachhof
DESCRIPTION:Kindersingen für Mütter und Väter mit (kleinen) Kindernwir singen Lieder zu den Jahreszeiten\, Mantras\, Kinderlieder\, Circle-Songs. \nImmer am 1. Montag im Monat um 15:30Uhr. Haslachhof 1\, 88693 Deggenhausertalwww.gemeinschaft-haslachhof.deInfos: katharina.philipp@wirundjetzt.org \n  \n  \n 
URL:https://wirundjetzt.org/event/kindersingen-fuer-muetter-und-vaeter-mit-kleinen-kindern-haslachhof-2/
LOCATION:Haslachhof\, Haslachhof 1\, Deggenhausertal\, Baden-Württemberg\, 88693\, Deutschland
CATEGORIES:Gesprächsrunde
ATTACH;FMTTYPE=image/jpeg:https://wirundjetzt.org/wp-content/uploads/2017/06/20141017_Vogelschwarm-am-Weiher_001.jpg
ORGANIZER;CN="Haslachhof":MAILTO: joachim.lang@gmx.de
GEO:47.7779168;9.4083337
X-APPLE-STRUCTURED-LOCATION;VALUE=URI;X-ADDRESS=Haslachhof Haslachhof 1 Deggenhausertal Baden-Württemberg 88693 Deutschland;X-APPLE-RADIUS=500;X-TITLE=Haslachhof 1:geo:9.4083337,47.7779168
END:VEVENT
BEGIN:VEVENT
DTSTART;TZID=Europe/Berlin:20180125T200000
DTEND;TZID=Europe/Berlin:20180125T220000
DTSTAMP:20260420T094200
CREATED:20180120T152427Z
LAST-MODIFIED:20180120T152427Z
UID:10000052-1516910400-1516917600@wirundjetzt.org
SUMMARY:Wandelraum Haslachhof
DESCRIPTION:Wandelraum Haslachhof \nAbend-Gesprächskreis am Haslachhof über verschiedene Themen: Globaler Wandel\, persönliche Lebensübergänge\, Tod und Sterben\, Geburt\, Jugendinitiation\, persönliche Wandelmomente… Immer am letzten Donnerstag eines jeden Monats um 20.00Uhr. Thema vorher erfragen oder auf der Homepage lesen. \nHaslachhof 1\, 88693 Deggenhausertalwww.gemeinschaft-haslachhof.deInfos: katharina.philipp@wirundjetzt.org \n  \n  \n 
URL:https://wirundjetzt.org/event/wandelraum-haslachhof/
LOCATION:Haslachhof\, Haslachhof 1\, Deggenhausertal\, Baden-Württemberg\, 88693\, Deutschland
CATEGORIES:Gesprächsrunde
ATTACH;FMTTYPE=image/jpeg:https://wirundjetzt.org/wp-content/uploads/2017/06/20141017_Vogelschwarm-am-Weiher_001.jpg
ORGANIZER;CN="Haslachhof":MAILTO: joachim.lang@gmx.de
GEO:47.7779168;9.4083337
X-APPLE-STRUCTURED-LOCATION;VALUE=URI;X-ADDRESS=Haslachhof Haslachhof 1 Deggenhausertal Baden-Württemberg 88693 Deutschland;X-APPLE-RADIUS=500;X-TITLE=Haslachhof 1:geo:9.4083337,47.7779168
END:VEVENT
BEGIN:VEVENT
DTSTART;TZID=Europe/Berlin:20171212T200000
DTEND;TZID=Europe/Berlin:20171212T220000
DTSTAMP:20260420T094200
CREATED:20171211T144237Z
LAST-MODIFIED:20171211T144238Z
UID:10000031-1513108800-1513116000@wirundjetzt.org
SUMMARY:Patientenverfügung und Vorsorgevollmacht.
DESCRIPTION:Patientenverfügung und Vorsorgevollmacht.\n\n\n\n\n\n\n\n\n\n\n\nAm Haslachhof geht es ja – wie ihr sicher mitbekommen habt – neben anderen Wandel-Themen auch um das Thema Tod und Sterben. \n\n\n\n\n\n\n\n\n\n\n\n\n\n\n\n\n\n\n\nWir träumen von einer neuen Sterbe- und Trauerkultur\, vielleicht werden wir noch weitere Räume schaffen\, wo in Zukunft Menschen bei uns in Gemeinschaft ihre letzten Jahre / Monate verbringen können\, eine Art Naturhospiz. \nDas ist natürlich alles noch ziemliche Zukunftsmusik und es geht uns in der nächsten Zeit vor allem darum\, uns mit unseren eigenen Themen rund um Tod und Trauer auseinanderzusetzen.  \n\nBeim letzten Gemeinschaftswochenende im November haben wir uns Geschichten aus unserem Leben erzählt\, wo wir mit Tod und Sterben in Berührung kamen\, was das mit uns gemacht hat und wie wir uns damit fühlen.  \n\nAuch unsere eigene Vergänglichkeit rückt ins Bewusstsein. Wie wollen wir unsere letzten Monate verbringen\, was wünschen wir uns rund um unseren Tod\, auch wenn er plötzlich kommt\, oder durch Krankheit…  \n\nDeshalb freuen wir uns\, nächsten Dienstag\, den 12.12.2017 um 20.00 Uhr Annegret Kneer bei uns begrüßen zu dürfen.  \n\nUnd laden euch ein\, dabei zu sein bei ihrem Vortrag und Gespräch über  \n\nPatientenverfügung und Vorsorgevollmacht. \n\nAls langjährige Leiterin des Hospizes in Wangen ist sie mit Themen und Fragen rund um Tod und Sterben sehr vertraut.  \n\nAußerdem ist sie Wegbegleiterin und Freundin von Wolfram Nolte\, der ja bei uns wohnt und der schon zweimal bei ihr im Hospiz war und unter anderem durch ihre liebevolle Arbeit und Präsenz dort so gesunden konnte\, dass er nun bei uns ist.  \n\nIch glaube\, es ist nie zu früh sich mit diesem Thema zu beschäftigen und eine gut durchdachte Patientenverfügung zu haben ist echt unerlässlich… \n \nAlso – wir freuen uns über euer Kommen und bringt doch eine kleine Spende für ihre Fahrtkosten mit.
URL:https://wirundjetzt.org/event/patientenverfuegung-und-vorsorgevollmacht/
LOCATION:Haslachhof\, Haslachhof 1\, Deggenhausertal\, Baden-Württemberg\, 88693\, Deutschland
CATEGORIES:Gesprächsrunde,Vortrag
ATTACH;FMTTYPE=image/jpeg:https://wirundjetzt.org/wp-content/uploads/2017/06/20160202_015-800-1.jpg
ORGANIZER;CN="Haslachhof":MAILTO: joachim.lang@gmx.de
GEO:47.7779168;9.4083337
X-APPLE-STRUCTURED-LOCATION;VALUE=URI;X-ADDRESS=Haslachhof Haslachhof 1 Deggenhausertal Baden-Württemberg 88693 Deutschland;X-APPLE-RADIUS=500;X-TITLE=Haslachhof 1:geo:9.4083337,47.7779168
END:VEVENT
BEGIN:VEVENT
DTSTART;TZID=Europe/Berlin:20171015T000000
DTEND;TZID=Europe/Berlin:20171015T000000
DTSTAMP:20260420T094200
CREATED:20170817T085246Z
LAST-MODIFIED:20170915T110356Z
UID:10000061-1508025600-1508025600@wirundjetzt.org
SUMMARY:2. Vernetzungstreffen für Gemeinschaftsinteressierte
DESCRIPTION:Neue Initiativen in Richtung Gemeinschaft starten!\nIn der Gemeinschaft am Haslachhof am Sonntag\, 15. Oktober 2017\, im Anschluß an die Landbaupartie (14./15. Oktober 2017) \nWer darauf Lust hat\, kann sich gerne bei Martina Volkmann melden. \n\n\n\n\n\n\n\n\n\n\nKontakt\n\nMartina VolkmannDipl.Sprecherin / Sprecherzieherin \nHaslachhof 188693 Deggenhausertalmobil +49 179 7375067poesieexpress@gmx.dewww.gemeinschaft-haslachhof.de
URL:https://wirundjetzt.org/event/2-vernetzungstreffen-fuer-gemeinschaftsinteressierte/
LOCATION:Haslachhof\, Haslachhof 1\, Deggenhausertal\, Baden-Württemberg\, 88693\, Deutschland
CATEGORIES:Vernetzungstreffen
ORGANIZER;CN="Haslachhof":MAILTO: joachim.lang@gmx.de
GEO:47.7779168;9.4083337
X-APPLE-STRUCTURED-LOCATION;VALUE=URI;X-ADDRESS=Haslachhof Haslachhof 1 Deggenhausertal Baden-Württemberg 88693 Deutschland;X-APPLE-RADIUS=500;X-TITLE=Haslachhof 1:geo:9.4083337,47.7779168
END:VEVENT
BEGIN:VEVENT
DTSTART;TZID=Europe/Berlin:20170728T150000
DTEND;TZID=Europe/Berlin:20170730T170000
DTSTAMP:20260420T094200
CREATED:20170606T132545Z
LAST-MODIFIED:20170715T141339Z
UID:10000097-1501254000-1501434000@wirundjetzt.org
SUMMARY:Algeria Sommerfestival
DESCRIPTION:Alle Sommer wieder!\n\nWeil unser Sommerfest im letzten Jahr so gut angenommen wurde und uns viele schöne\, beschwingende und überraschende Momente geschenkt hat\, wollen wir daran anknüpfen… \nLasst uns inmitten des Sommers wieder gemeinsam eintauchen in den Moment\, eigenen schöpferischen Impulsen folgen\, uns mitreißen lassen von den Impulsen der anderen und hier am Haslachhof eine kleine Welt auf Zeit erschaffen\, in der wir freudig unsere Vielfalt feiern und unser kreatives Potenzial erblühen lassen! \n\nMusizieren\nWildkräuter sammeln\nSpielen\nSchaukeln\nLöffel brennen\nMalen\nChillen\nJonglieren\nWorkshops\nTrampolinhüpfen\nWerkeln\nGedichte\nam Lagerfeuer sitzen\nSchlemmen\nKinderlachen\nZusammensein\nSingen * Meditation\nSternschnuppen zählen\nFeuerspielen * Landart\nauf der Wiese liegen\nStraßenmusik\nGeschichten erzählen\n\nWir freuen uns wieder auf eure vielfältigen Ideen und Mitmach-Angebote! \nEssen\nEs wird einen Essensstand geben\, der leckere Speisen zu fairen Preisen anbietet. Du kannst dich natürlich auch gerne selbst verpflegen. \nÜbernachtung\nAuf der Campingwiese der Haslachhof-Gemeinschaft (5 – 15 € nach Selbsteinschätzung). Wir sind eine Gemeinschaft in Aufbau und leben in einfachen Verhältnissen. Dein Beitrag dient auch dem Aufbau der Gemeinschaft. \nAnmeldung\nJoachim LangE-Mail: joachim.lang@gmx.de \nSehr gerne schon mit euren konkreten Ideen und Angeboten zum Mitmachen! \n \n 
URL:https://wirundjetzt.org/event/alegria-sommerfestival/
LOCATION:Haslachhof\, Haslachhof 1\, Deggenhausertal\, Baden-Württemberg\, 88693\, Deutschland
CATEGORIES:Festival,Kultur,Musik,Sommerfest
ATTACH;FMTTYPE=image/jpeg:https://wirundjetzt.org/wp-content/uploads/2017/06/haslachhof.jpg
ORGANIZER;CN="Haslachhof":MAILTO: joachim.lang@gmx.de
GEO:47.7779168;9.4083337
X-APPLE-STRUCTURED-LOCATION;VALUE=URI;X-ADDRESS=Haslachhof Haslachhof 1 Deggenhausertal Baden-Württemberg 88693 Deutschland;X-APPLE-RADIUS=500;X-TITLE=Haslachhof 1:geo:9.4083337,47.7779168
END:VEVENT
END:VCALENDAR