BEGIN:VCALENDAR
VERSION:2.0
PRODID:-//»wirundjetzt« - ECPv6.15.17.1//NONSGML v1.0//EN
CALSCALE:GREGORIAN
METHOD:PUBLISH
X-WR-CALNAME:»wirundjetzt«
X-ORIGINAL-URL:https://wirundjetzt.org
X-WR-CALDESC:Veranstaltungen für »wirundjetzt«
REFRESH-INTERVAL;VALUE=DURATION:PT1H
X-Robots-Tag:noindex
X-PUBLISHED-TTL:PT1H
BEGIN:VTIMEZONE
TZID:Europe/Berlin
BEGIN:DAYLIGHT
TZOFFSETFROM:+0100
TZOFFSETTO:+0200
TZNAME:CEST
DTSTART:20230326T010000
END:DAYLIGHT
BEGIN:STANDARD
TZOFFSETFROM:+0200
TZOFFSETTO:+0100
TZNAME:CET
DTSTART:20231029T010000
END:STANDARD
BEGIN:DAYLIGHT
TZOFFSETFROM:+0100
TZOFFSETTO:+0200
TZNAME:CEST
DTSTART:20240331T010000
END:DAYLIGHT
BEGIN:STANDARD
TZOFFSETFROM:+0200
TZOFFSETTO:+0100
TZNAME:CET
DTSTART:20241027T010000
END:STANDARD
BEGIN:DAYLIGHT
TZOFFSETFROM:+0100
TZOFFSETTO:+0200
TZNAME:CEST
DTSTART:20250330T010000
END:DAYLIGHT
BEGIN:STANDARD
TZOFFSETFROM:+0200
TZOFFSETTO:+0100
TZNAME:CET
DTSTART:20251026T010000
END:STANDARD
BEGIN:DAYLIGHT
TZOFFSETFROM:+0100
TZOFFSETTO:+0200
TZNAME:CEST
DTSTART:20260329T010000
END:DAYLIGHT
BEGIN:STANDARD
TZOFFSETFROM:+0200
TZOFFSETTO:+0100
TZNAME:CET
DTSTART:20261025T010000
END:STANDARD
END:VTIMEZONE
BEGIN:VEVENT
DTSTART;TZID=Europe/Berlin:20250627T190000
DTEND;TZID=Europe/Berlin:20250627T210000
DTSTAMP:20260423T184610
CREATED:20250611T121257Z
LAST-MODIFIED:20250611T121257Z
UID:10001387-1751050800-1751058000@wirundjetzt.org
SUMMARY:Film: Hoffnung für die Pioniere des Wandels
DESCRIPTION:Wir freuen uns eine Veranstaltung ankündigen zu dürfen\, die wir als Regionalgruppe Bodensee-Oberschwaben des Vereins der Gemeinwohl-Ökonomie (GWÖ) Baden-Württemberg organisieren. Gefördert wird die Veranstaltung von der Europäischen Union (ELER) und dem Land Baden-Württemberg im Rahmen des Programms der\nLEADER-Region Westlicher Bodensee als eine der Impulsveranstaltungen zum „Zukunftsraum Gemeinwohl“. \nHiermit laden wir Sie und Ihre Kolleg*innen zu einem Filmabend mit Vorstellung von Erfolgsgeschichten nachhaltigen Wirtschaftens mit anschließendem Austausch unter den Interessierten aus Wirtschaft und Politik der Region ein. Lassen Sie sich anregen von den Angeboten der Gemeinwohl-Ökonomie und tauschen Sie sich aus mit Interessierten an einer nachhaltigen Zukunft. Wir freuen uns\, mit dem Schloss Blumenfeld einen zum Programm passenden\, sehr ansprechenden Veranstaltungsort\ngefunden zu haben. \nFilmbeitrag und Diskussionsrunde „Hoffnung für die Pioniere des Wandels“ am Tag der Umwelt.\nDer Dokumentarfilm „Hoffnung für die Pioniere des Wandels“\nvon Michael Mattig-Gerlach\, Regie: Peter Jakobeit\nDer Dokumentarfilm nimmt uns mit in die Welt des nachhaltig wirtschaftlichen Handelns. Er zeigt\, wie Unternehmen und Organisationen in Baden-Württemberg den  Wandel vorantreiben und ein Wirtschaftssystem schaffen\, das auf sozial-ökologische Verantwortung setzt. Der Film gibt Antworten – und stellt gleichzeitig neue Fragen\, die den Dialog über die Wirtschaft der Zukunft anregen. \nFreitag\, den 27. Juni von 19.00 bis 21.00 Uhr\nHotel Maier „Gartensaal“\, Poststraße 1-3\, 88048\nFriedrichshafen-Fischbach\nKontakt:\nT. Henne\, mobil 0174 7958047\nSeeblick 38\, 88045 Friedrichshafen\nleader_bodensee@econgood.org\nwww.germany.econgood.org \n 
URL:https://wirundjetzt.org/event/film-hoffnung-fuer-die-pioniere-des-wandels-2/
LOCATION:Hotel Maier „Gartensaal“\,\, Poststraße 1-3\,\, Friedrichshafen-Fischbach\, 88048\, Germany
END:VEVENT
BEGIN:VEVENT
DTSTART;TZID=Europe/Berlin:20250626T190000
DTEND;TZID=Europe/Berlin:20250626T210000
DTSTAMP:20260423T184610
CREATED:20250611T120825Z
LAST-MODIFIED:20250611T120825Z
UID:10001386-1750964400-1750971600@wirundjetzt.org
SUMMARY:Film: Hoffnung für die Pioniere des Wandels
DESCRIPTION:Wir freuen uns eine Veranstaltung ankündigen zu dürfen\, die wir als Regionalgruppe Bodensee-Oberschwaben des Vereins der Gemeinwohl-Ökonomie (GWÖ) Baden-Württemberg organisieren. Gefördert wird die Veranstaltung von der Europäischen Union (ELER) und dem Land Baden-Württemberg im Rahmen des Programms der\nLEADER-Region Westlicher Bodensee als eine der Impulsveranstaltungen zum „Zukunftsraum Gemeinwohl“. \nHiermit laden wir Sie und Ihre Kolleg*innen zu einem Filmabend mit Vorstellung von Erfolgsgeschichten nachhaltigen Wirtschaftens mit anschließendem Austausch unter den Interessierten aus Wirtschaft und Politik der Region ein. Lassen Sie sich anregen von den Angeboten der Gemeinwohl-Ökonomie und tauschen Sie sich aus mit Interessierten an einer nachhaltigen Zukunft. Wir freuen uns\, mit dem Schloss Blumenfeld einen zum Programm passenden\, sehr ansprechenden Veranstaltungsort\ngefunden zu haben. \nFilmbeitrag und Diskussionsrunde „Hoffnung für die Pioniere des Wandels“ am Tag der Umwelt.\nDer Dokumentarfilm „Hoffnung für die Pioniere des Wandels“\nvon Michael Mattig-Gerlach\, Regie: Peter Jakobeit\nDer Dokumentarfilm nimmt uns mit in die Welt des nachhaltig wirtschaftlichen Handelns. Er zeigt\, wie Unternehmen und Organisationen in Baden-Württemberg den  Wandel vorantreiben und ein Wirtschaftssystem schaffen\, das auf sozial-ökologische Verantwortung setzt. Der Film gibt Antworten – und stellt gleichzeitig neue Fragen\, die den Dialog über die Wirtschaft der Zukunft anregen. \nDonnerstag\, den 26. Juni von 19.00 bis 21.00 Uhr\n„Mühlenstube“ Lebensräume JUNG und Alt\, Hauptstraße 42\, 88696 Owingen \n 
URL:https://wirundjetzt.org/event/film-hoffnung-fuer-die-pioniere-des-wandels/
LOCATION:Mühlenstube\, Hauptstr. 42\, Owingen\, 88696\, Germany
END:VEVENT
BEGIN:VEVENT
DTSTART;TZID=Europe/Berlin:20241109T093000
DTEND;TZID=Europe/Berlin:20241109T170000
DTSTAMP:20260423T184610
CREATED:20241015T101652Z
LAST-MODIFIED:20241015T101652Z
UID:10001291-1731144600-1731171600@wirundjetzt.org
SUMMARY:Mitmachkonferenz Friedrichshafen
DESCRIPTION:Herzliche Einladung zur ersten Mitmach-Konferenz in Friedrichshafen!\n\n\n\n\n\nWann:   Samstag\, 09.11.2024\, 9:30 – 17:00 Uhr\nWo:       Bodensee-Schule St. Martin\, FN\n\n\n\n\n\n\n\nImpulsvortrag von Prof. Dr. Maike Sippel\, HTWG Konstanz: „Zwölf Gedanken\, um die Welt zu verändern. Alles muss anders werden. Aber wie? Was kann unser Beitrag sein?“\n\nThementische zum aktiven Mitarbeiten\nMarktplatz der Möglichkeiten mit Infoständen\n\n\n\n\n\n\n\n\n\n… wir schaffen so eine Plattform für Unternehmen\, Vereine\, Politik\, Initiativen und Privatpersonen für Austausch\, Vernetzung und gemeinsame Mitgestaltung.\n… wir vernetzen und unterstützen Menschen und Projekte\, Initiativen und Organisationen.\n… wir sensibilisieren\, inspirieren und ermutigen Menschen zukunftsfähig zu handeln.\n… wir schaffen eine Plattform für eine positive Zukunft.\n\n\n\n\n\nhttps://friedrichshafen.mitmach-region.org/
URL:https://wirundjetzt.org/event/mitmachkonferenz-friedrichshafen/
LOCATION:Bodenseeschule\, Zeisigweg 1\, Friedrichshafen\, 88045
CATEGORIES:mitmach-konferenz
ATTACH;FMTTYPE=image/png:https://wirundjetzt.org/wp-content/uploads/2024/10/mitmachkonferenz-fn.png
END:VEVENT
END:VCALENDAR