BEGIN:VCALENDAR
VERSION:2.0
PRODID:-//»wirundjetzt« - ECPv6.15.17.1//NONSGML v1.0//EN
CALSCALE:GREGORIAN
METHOD:PUBLISH
X-ORIGINAL-URL:https://wirundjetzt.org
X-WR-CALDESC:Veranstaltungen für »wirundjetzt«
REFRESH-INTERVAL;VALUE=DURATION:PT1H
X-Robots-Tag:noindex
X-PUBLISHED-TTL:PT1H
BEGIN:VTIMEZONE
TZID:Europe/Berlin
BEGIN:DAYLIGHT
TZOFFSETFROM:+0100
TZOFFSETTO:+0200
TZNAME:CEST
DTSTART:20200329T010000
END:DAYLIGHT
BEGIN:STANDARD
TZOFFSETFROM:+0200
TZOFFSETTO:+0100
TZNAME:CET
DTSTART:20201025T010000
END:STANDARD
BEGIN:DAYLIGHT
TZOFFSETFROM:+0100
TZOFFSETTO:+0200
TZNAME:CEST
DTSTART:20210328T010000
END:DAYLIGHT
BEGIN:STANDARD
TZOFFSETFROM:+0200
TZOFFSETTO:+0100
TZNAME:CET
DTSTART:20211031T010000
END:STANDARD
BEGIN:DAYLIGHT
TZOFFSETFROM:+0100
TZOFFSETTO:+0200
TZNAME:CEST
DTSTART:20220327T010000
END:DAYLIGHT
BEGIN:STANDARD
TZOFFSETFROM:+0200
TZOFFSETTO:+0100
TZNAME:CET
DTSTART:20221030T010000
END:STANDARD
BEGIN:DAYLIGHT
TZOFFSETFROM:+0100
TZOFFSETTO:+0200
TZNAME:CEST
DTSTART:20230326T010000
END:DAYLIGHT
BEGIN:STANDARD
TZOFFSETFROM:+0200
TZOFFSETTO:+0100
TZNAME:CET
DTSTART:20231029T010000
END:STANDARD
END:VTIMEZONE
BEGIN:VEVENT
DTSTART;TZID=Europe/Berlin:20220905T190000
DTEND;TZID=Europe/Berlin:20220905T203000
DTSTAMP:20260423T040941
CREATED:20220831T161735Z
LAST-MODIFIED:20220831T161735Z
UID:10000825-1662404400-1662409800@wirundjetzt.org
SUMMARY:Mit Blick auf das Gemeinwohl – wirklich nachhaltig Handeln und Leben
DESCRIPTION:Infoabend – kostenlos\nMontag\, den 5.September 2022\nBeginn: 19:00 Uhr | Ende: 20.30 Uhr\nAnlaufstelle für Bürgerengagement der Stadt Tettnang\,\nMontfortstr. 2\, 88069 Tettnang\nEine Workshopserie für uns als Privatpersonen und Mitmenschen\nKönnen wir angesichts der aktuellen Krisen zuschauen und einfach so weitermachen? Die Gemeinwohl-Ökonomie möchte nichts weniger als die Welt verändern und glaubt\, dass der\nSchlüssel hierzu auch im Verhalten von uns allen liegt.\nAn fünf interaktiven Abenden der Seminareihe “MeinGemeinwohl” spornen wir uns gegenseitig zu Veränderungen an und tauschen unsere Ideen und Ergebnisse aus. Mit Lust\nund Neugierde machen wir uns auf den Weg zu einem enkeltauglichen\, nachhaltigen Leben!\nAus vorhergehenden Kursen hat sich die Gemeinwohl-WerkstaTT gebildet mit spannenden Initiativen nach dem Motto: „Tu Du’s – wir miteinander“.\nDie Seminarreihe selbst ist ein kostenpflichtiges von der Stadt Tettnang gefördertes Angebot\nAnmeldung erwünscht bei Melanie Friedrich von der Anlaufstelle für Bürgerengagement\nder Stadt Tettnang. Telefon 07542/510-107 oder melanie.friedrich@tettnang.de.\nInformationen auch unter www.ecogood.org oder\nwww.ecogood.org/bodensee-oberschwaben/
URL:https://wirundjetzt.org/event/mit-blick-auf-das-gemeinwohl-wirklich-nachhaltig-handeln-und-leben-2/
LOCATION:Anlaufstelle für Bürgerengagment\, Montfortstr. 2\, Tettnang\, 88069
CATEGORIES:Infoabend
END:VEVENT
BEGIN:VEVENT
DTSTART;TZID=Europe/Berlin:20220303T193000
DTEND;TZID=Europe/Berlin:20220303T210000
DTSTAMP:20260423T040941
CREATED:20220224T180737Z
LAST-MODIFIED:20220225T215638Z
UID:10000769-1646335800-1646341200@wirundjetzt.org
SUMMARY:Saatgutvielfalt - online Vortrag
DESCRIPTION:Online-Vortrag zur Saatgutvielfalt am 3.3.2022\, 19.30 Uhr\n„Vielfalt säen – Zukunft ernten“\, das ist das Motto von Patrick Kaisers Vortrag über Sortenvielfalt und Saatgutgewinnung im eigenen Garten.\nMit Info zur Saatgutausleihe\, die ab 4. März wieder in der Stadtbücherei Tettnang startet! Eine Kooperation der Bücherei mit der Anlaufstelle für Bürgerengagement und dem Genbänkle.\nAnmeldung online über www.stadtbuecherei-tettnang.de oder melanie.friedrich@tettnang.de
URL:https://wirundjetzt.org/event/saatgutvielfalt-online-vortrag/
LOCATION:online
CATEGORIES:Vortrag
ATTACH;FMTTYPE=image/jpeg:https://wirundjetzt.org/wp-content/uploads/2022/02/Logo_2022.jpg
END:VEVENT
BEGIN:VEVENT
DTSTART;TZID=Europe/Berlin:20210120T190000
DTEND;TZID=Europe/Berlin:20210120T203000
DTSTAMP:20260423T040941
CREATED:20210111T104754Z
LAST-MODIFIED:20210120T191912Z
UID:10000659-1611169200-1611174600@wirundjetzt.org
SUMMARY:online: Informationsabend zur Gemeinwohlökonomie
DESCRIPTION:Thomas Henne\, Berater für Gemeinwohlökonomie\, gibt Einblick in die Idee und Inhalte des Konzepts der Gemeinwohlökonomie. \n\n\n\n\nAnmeldung ist erforderlich bis 19. Januar 2021 bei Melanie Friedrich von der Anlaufstelle für Bürgerengagement der Stadt Tettnang. Der Zugangslink für die Online Veranstaltung kann angefordert werden über \nTelefon 07542/510-107 oder melanie.friedrich@tettnang.de \n\n\n\n\n\n\n\n\n  \nMehr Informationen auch unter \nhttp://www.ecogood.org oder http://www.ecogood.org/bodensee-oberschwaben\n\n\n\nInfoabend GWÖ 201 Mein Gemeinwohl in TT als Online Veranstaltung
URL:https://wirundjetzt.org/event/online-informationsabend-zur-gemeinwohloekonomie/
CATEGORIES:online-meeting
END:VEVENT
END:VCALENDAR