BEGIN:VCALENDAR
VERSION:2.0
PRODID:-//»wirundjetzt« - ECPv6.15.17.1//NONSGML v1.0//EN
CALSCALE:GREGORIAN
METHOD:PUBLISH
X-WR-CALNAME:»wirundjetzt«
X-ORIGINAL-URL:https://wirundjetzt.org
X-WR-CALDESC:Veranstaltungen für »wirundjetzt«
REFRESH-INTERVAL;VALUE=DURATION:PT1H
X-Robots-Tag:noindex
X-PUBLISHED-TTL:PT1H
BEGIN:VTIMEZONE
TZID:Europe/Berlin
BEGIN:DAYLIGHT
TZOFFSETFROM:+0100
TZOFFSETTO:+0200
TZNAME:CEST
DTSTART:20190331T010000
END:DAYLIGHT
BEGIN:STANDARD
TZOFFSETFROM:+0200
TZOFFSETTO:+0100
TZNAME:CET
DTSTART:20191027T010000
END:STANDARD
BEGIN:DAYLIGHT
TZOFFSETFROM:+0100
TZOFFSETTO:+0200
TZNAME:CEST
DTSTART:20200329T010000
END:DAYLIGHT
BEGIN:STANDARD
TZOFFSETFROM:+0200
TZOFFSETTO:+0100
TZNAME:CET
DTSTART:20201025T010000
END:STANDARD
BEGIN:DAYLIGHT
TZOFFSETFROM:+0100
TZOFFSETTO:+0200
TZNAME:CEST
DTSTART:20210328T010000
END:DAYLIGHT
BEGIN:STANDARD
TZOFFSETFROM:+0200
TZOFFSETTO:+0100
TZNAME:CET
DTSTART:20211031T010000
END:STANDARD
END:VTIMEZONE
BEGIN:VEVENT
DTSTART;TZID=Europe/Berlin:20201113T184500
DTEND;TZID=Europe/Berlin:20201113T210000
DTSTAMP:20260421T034809
CREATED:20201108T163357Z
LAST-MODIFIED:20201108T163358Z
UID:10000254-1605293100-1605301200@wirundjetzt.org
SUMMARY:Online-Veranstaltung: Mut für neue Zeiten - den Wandel weiterdenken
DESCRIPTION:Online-Veranstaltung: Mut für neue Zeiten - den Wandel weiterdenken						\n											\n						\n					\n					\n\n\n\n\nDie gegenwärtige Krise hat nicht nur einiges durcheinandergewirbelt\, sondern ermöglicht auch Experimentierräume für Arbeitswelt und Gesellschaft.  \nNeben organisatorischen und technologischen Fragen\, geht es dabei besonders um den ethischen und sozialen Kurs unserer Zeit. Für kommende Herausforderungen bietet sich jetzt die Chance Lernerfahrungen zu sammeln.  \nEs können die Experimentierräume um gemeinsame Gedankenspiele\, Zukunftsvisionen und konkrete Anstöße zu erweitert werden.  \nMit Prof. Dr. Wilhelm Bauer\, Leiter des Fraunhofer IAO und Technologiebeauftragter des Landes\, wird neugierig in die Zukunft geblickt und unterschiedliche Perspektiven und Generationen in einen Austausch gebracht.                              Die Programmübersicht befindet sich im Anhang.  \nNähere Informationen : \nhttps://www.ev-akademie-boll.de/tagung/621120.html \n  \nDen online-Zugang erhaltet Ihr nach der Anmeldung.
URL:https://wirundjetzt.org/event/online-veranstaltung-mut-fuer-neue-zeiten-den-wandel-weiterdenken/
CATEGORIES:online-meeting
END:VEVENT
BEGIN:VEVENT
DTSTART;TZID=Europe/Berlin:20201123T171700
DTEND;TZID=Europe/Berlin:20201123T181800
DTSTAMP:20260421T034809
CREATED:20201104T162804Z
LAST-MODIFIED:20201104T163044Z
UID:10000249-1606151820-1606155480@wirundjetzt.org
SUMMARY:online:  Einladung zum Infoabend "17 Ziele für Konstanz"
DESCRIPTION:online:  Einladung zum Infoabend "17 Ziele für Konstanz"						\n											\n						\n					\n					\n\n\n\n\nUm die Welt zu retten\, möchte die Planungsgruppe „17 Ziele für Kontanz“ hier anfangen und zwar mit Dir! \nWarum mit Dir? \nDu bist engagiert\, sozial eingestellt und manchmal denkst Du\, es geht nicht schnell genug voran…\nDu möchtest dazu beitragen\, dass wir alle in Konstanz (und in der Welt) ein nachhaltig gutes Leben führen können…\nVielleicht arbeitest Du schon einem der 17 UN Globalen Nachhaltigkeitsziele zu…? \n Bereits für den 23.11. gibt es eine Einladung\, um die zukünftige Veranstaltungsreihe im Frühjahr 2021 schon jetzt mitzumischen\, mitzugestalten\, mitzuentscheiden! \nIm Anhang die Einladung\, gerne auch zum Weiterleiten \nEinladung Infoabend 17 Ziele für Konstanz \nDen Zoom-Link erhälst Du nach Deiner Anmeldung bis 19.11. an diese Mailadresse.\nDer Infoabend dauert ca. 1 Stunde. \n\nhttps://17ziele.de/
URL:https://wirundjetzt.org/event/online-einladung-zum-infoabend-17-ziele-fuer-konstanz/
CATEGORIES:zoommeeting
END:VEVENT
END:VCALENDAR