BEGIN:VCALENDAR
VERSION:2.0
PRODID:-//»wirundjetzt« - ECPv6.15.17.1//NONSGML v1.0//EN
CALSCALE:GREGORIAN
METHOD:PUBLISH
X-ORIGINAL-URL:https://wirundjetzt.org
X-WR-CALDESC:Veranstaltungen für »wirundjetzt«
REFRESH-INTERVAL;VALUE=DURATION:PT1H
X-Robots-Tag:noindex
X-PUBLISHED-TTL:PT1H
BEGIN:VTIMEZONE
TZID:Europe/Berlin
BEGIN:DAYLIGHT
TZOFFSETFROM:+0100
TZOFFSETTO:+0200
TZNAME:CEST
DTSTART:20180325T010000
END:DAYLIGHT
BEGIN:STANDARD
TZOFFSETFROM:+0200
TZOFFSETTO:+0100
TZNAME:CET
DTSTART:20181028T010000
END:STANDARD
BEGIN:DAYLIGHT
TZOFFSETFROM:+0100
TZOFFSETTO:+0200
TZNAME:CEST
DTSTART:20190331T010000
END:DAYLIGHT
BEGIN:STANDARD
TZOFFSETFROM:+0200
TZOFFSETTO:+0100
TZNAME:CET
DTSTART:20191027T010000
END:STANDARD
BEGIN:DAYLIGHT
TZOFFSETFROM:+0100
TZOFFSETTO:+0200
TZNAME:CEST
DTSTART:20200329T010000
END:DAYLIGHT
BEGIN:STANDARD
TZOFFSETFROM:+0200
TZOFFSETTO:+0100
TZNAME:CET
DTSTART:20201025T010000
END:STANDARD
BEGIN:DAYLIGHT
TZOFFSETFROM:+0100
TZOFFSETTO:+0200
TZNAME:CEST
DTSTART:20210328T010000
END:DAYLIGHT
BEGIN:STANDARD
TZOFFSETFROM:+0200
TZOFFSETTO:+0100
TZNAME:CET
DTSTART:20211031T010000
END:STANDARD
END:VTIMEZONE
BEGIN:VEVENT
DTSTART;TZID=Europe/Berlin:20191230T160000
DTEND;TZID=Europe/Berlin:20200101T120000
DTSTAMP:20260424T004714
CREATED:20191124T205839Z
LAST-MODIFIED:20191124T210337Z
UID:10000169-1577721600-1577880000@wirundjetzt.org
SUMMARY:Silvester auf Schloss Hohenfels - "Sei Du selbst im Wandel"
DESCRIPTION:Silvester auf Schloss Hohenfels - "Sei Du selbst im Wandel"						\n											\n						\n					\n					\n\n\n\n\n\n\n\n\nWIE? \n\n\n\n\nMit einer „Feuerwache“ und mit Musik und Gesang während der gesamten Neujahrsnacht \n\n\n\n\nMit einem BarCamp bei dem jeder seine Initiativen einbringen kann. Z.B.: Weltenwandler- Akademie\, Soziales Ätherherz / Regionalgruppen\, Plattform / Wiki\, Weltenwandler-Kongress\, Dreigliederung/ Regionalgeld… Mit besonderer Einladung der WELTENWANDLER-JUGEND. \nWAS? \nSeit dem 1.1.19 soll dort wo zuletzt die Schüler der Schloss Schule Salem zu Hause waren\, ein Zentrum für die Freundschaft unter allen Menschen entstehen. \nDie Vision dabei ist: \nEin Tagungszentrum als großen Runden Tisch für alle spirituellen Strömungen aufzubauen. \nDiese Idee hat inzwischen zahlreiche Gleichgesinnte begeistert\, die in einem Co-Creation-Prozess die Weltenwandler-Initiative auf die Erde bringen möchten. \nDie Gunst der Silvesterstunde soll bewusst genutzt werden\, um sich gegenseitig für die wichtigen Aufgaben des neuen Jahres zu bestärken. \nEs wird auch wieder Raum für die Weltenwandler-Celebration (Andacht) und ein “WEeting“ geben. Es wird an einer neuen Idee für Herzens-Meetings und spirituelle Gemeinschaftsbildung gearbeitet. \n\n\n\n\n\n  \nAnmeldungen bitte bei: \ninfo@schloss-hohenfels.de \n  \n\n\n\n\nEinladung Silvester 2019
URL:https://wirundjetzt.org/event/silvester-auf-schloss-hohenfels-sei-du-selbst-im-wandel/
CATEGORIES:Fest,Wandel
END:VEVENT
BEGIN:VEVENT
DTSTART;TZID=Europe/Berlin:20200120T180000
DTEND;TZID=Europe/Berlin:20200120T180000
DTSTAMP:20260424T004714
CREATED:20191229T204940Z
LAST-MODIFIED:20191229T204942Z
UID:10000579-1579543200-1579543200@wirundjetzt.org
SUMMARY:Vortrag über Psychologie der Nachhaltigkeit in Weingarten
DESCRIPTION:Vortrag über Psychologie der Nachhaltigkeit in Weingarten						\n											\n						\n					\n					\n\n\n\n\nIm Rahmen der Nachhaltigkeitsvortragsreihe hält Dr. Daniel Sieben einen Vortrag über „Psychologie der Nachhaltigkeit„. \nTrotz Greta Thunberg\, den ForFuture-Bewegungen und immer mehr Wissen durch ständig neue Klimaberichte sind die Maßnahmen für Klimaschutz und Nachhaltigkeit weiterhin unzureichend. Statt wirksamer Handlungen erleben wir eine zunehmende ökologische und soziale Spaltung der Gesellschaft\, die gegenwärtig sogar noch verschärft wird. Viele Klimaschützer und Klimaleugner führen erbitterte Wortgefechte gegeneinander. Die Zeit und Chance für eine menschen- und klimagerechte Lösung verrinnt  \nWas fehlt? Das Verständnis\, was sich in unserer menschlichen Psyche abspielt und welche Wirkungen das auf uns\, unsere Mitmenschen und unsere Umwelt hat. Dieses Systemverständnis können wir aus einer ganzheitlichen Sichtweise entwickeln\, die die wahrgenommene Außenwelt in Beziehung zur eigenen Innenwelt setzt. Dadurch werden innere Spaltungsprozesse sichtbar\, die sich außen wiederfinden. Die Hebel zur Veränderung liegen nun nicht mehr zuerst bei Wirtschaft und Politik\, da diese lediglich die Kluft ihrer Wähler zwischen Wissen und Handeln umsetzt. Die Lösung ist in der Erkenntnis und wirksamen Verbindung dessen zu finden\, was in der Kluft unserer Psyche verborgen liegt. \nDaniel Sieben ist Nachhaltigkeitsbanker bei der Triodos Bank in Frankfurt und studierte Volkswirtschaftslehre an der Universität in Mainz. Während des Studiums entstand sein Interesse an ökologischer Ökonomie und über mehrere Indienreisen an buddhistischer Achtsamkeits- und Einsichtsmeditation.  \nIn seiner Dissertation über einen nachhaltigen Bewusstseins- und Verhaltenswandel unternahm er den Versuch einer Verbindung des östlichen spirituellen und westlichen materiellen Welt- und Menschenbildes und entwickelte ein komplementäres Nachhaltigkeitskonzept. Diesen Ansatz hat er bis heute zu einer Systemischen Nachhaltigkeit erweitert\, die ein tiefes Verständnis des Menschseins und seiner Psyche beinhaltet.
URL:https://wirundjetzt.org/event/vortrag-ueber-psychologie-der-nachhaltigkeit-in-weingarten/
CATEGORIES:Vortrag
END:VEVENT
BEGIN:VEVENT
DTSTART;VALUE=DATE:20200124
DTEND;VALUE=DATE:20200127
DTSTAMP:20260424T004714
CREATED:20191212T185710Z
LAST-MODIFIED:20200114T112902Z
UID:10000567-1579824000-1580083199@wirundjetzt.org
SUMMARY:Lichtmessforum: „Boden – Klima – Artenvielfalt: gemeinsam Wirtschaften für die Zukunft“ in Wahlwies
DESCRIPTION:Lichtmessforum: „Boden – Klima – Artenvielfalt: gemeinsam Wirtschaften für die Zukunft“ in Wahlwies						\n											\n						\n					\n					\n\n\n\n\nKonkrete Schritte hin zu einer klimaneutralen Gesellschaft mit einer CO2- bindenden\, bodenaufbauenden artenreichen Landwirtschaft. Die höchst aktuellen Themen finden sich wieder in dem Tagungstitel: \n„Boden – Klima – Artenvielfalt: gemeinsam Wirtschaften für die Zukunft“ \nDie Tagung richtet sich an alle\, die in Austausch kommen\, sich vernetzen\, dazu lernen und sich aktiv an einem Wandel beteiligen wollen. Wir alle sind sogenannte Verbraucher\, die sich gemeinsam an einem Wandel beteiligen können\, ob wir nun in die Schule gehen\, im Büro oder in der Pflege\, in der Werkstatt oder im Stall\, auf dem Acker oder im Haushalt arbeiten. \nEinige Persönlichkeiten wurden gewonnen\, die von ihren spannenden Projekten\, Forschungen und Tätigkeiten berichten werden\, so eine Lübecker Erzeuger- Verbraucher- Genossenschaft\, einen Landwirt\,  dem die Artenvielfalt am Herzen liegt und einen engagierten jungen Meisterkoch. Außerdem werden wir von Instrumenten hören\, die entwickelt wurden\, um die wahren Kosten von Lebensmitteln darzustellen. Damit wäre ein lokaler CO2-Ausgleich in Zusammenarbeit mit Höfen möglich. \nBitte lasst Euch begeistern und nehmt Euch Zeit\, um gemeinsam an einer zukunftsfähigen Agrar- und Ernährungskultur zu arbeiten! \nAuch der kulinarische und kulturelle Genuss wird beim Lichtmessforum nicht zu kurz kommen. \n  \n2020 Ankündigungsbrief Lichtmess final2 \n\n\n\n\n\nProgramm\, Ablauf und Anmeldung\n\nEinladung zum Lichtmessforum \n24. – 26. Januar 2020 Boden\, Klima\, Artenvielfalt – gemeinsam wirtschaften für die Zukunft \nAnmeldung bei Denis Hahn: denis.hahn@hottenlocherhof.de \nAdresse/Ort: Im Saal des Pestalozzi Kinderdorfes in 78333 Stockach – Wahlwies\, Kinderdorf 1 \n  \nLiebe Freundinnen\, Freunde und Interessenten\, \nwir laden Sie alle herzlich zu unserem Forum 2020 ein. Lassen Sie uns zusammen-\nkommen und miteinander an Alternativen arbeiten. \nDer Klimawandel zwingt uns dazu\n– wir haben noch 5-10 Jahre Zeit! sagt Tobias Bandel in seinem Titel.\nWas es für die Gesundheit von Boden\, Pflanze\, Tier und Menschen bedeutet\, die\nVielfalt der Arten zu pflegen\, zu lieben und mitzunehmen in die gemeinsame\nZukunftsentwicklung wird Tobias Hartkemeyer von der „handlungspädagogischen\nProvinz“ auf Hof Pente darstellen.\nTina Andres berichtet von der „EVG Landwege e.G.“\, die durch ihre Vielfalt der\nWertschöpfungsakteure solidarisch wirtschaften können und dadurch der\nregenerativen Landwirtschaft die Existenz\, Ausbreitung und Weiterentwicklung\nermöglicht – der Finanzmarkt zwingt uns dazu – so Tobias Bandel.\nGar nicht so einfach\, das Gute und Richtige zu tun\, macht Johannes Bentele\,\nObstbauer aus Tettnang\, deutlich\, wenn man Bürgerbegehren und – initiativen nicht\nvon allen Seiten und Standpunkten in Einklang bringt. „Das Gleiche lässt uns in\nRuhe\, aber der Widerspruch ist es\, der uns produktiv macht“ J. W. v. Goethe.\nMarianus v. Hörsten nimmt uns in seiner Rede mit\, warum er seinen Titel genannt\nhat: “Gastronomie – eine Verpflichtung“.\nDie herrliche Klaviermusik von Diana Räuber\, FÖJ lerin auf Hof Höllwangen wird uns\nimmer wieder echten Kunstgenuss bescheren.\nNicht zuletzt: Stephan Bauck kann das ganze Forum zum Singen bringen.\nUnser Programm ist folgendermaßen gestaltet: genaues Hinhören aufeinander und\nauf die Referate\, Austausch in Gruppen und Plenen\, ein Workshop\, der das\nHineinspüren in den ganzen Kontext möglich macht\, Selbstreflektion in der Stille\,\nentstehende Zukunftsmöglichkeiten entdecken und daraus resultierende praktische\nInitiativen entwickeln.\nMit der Hoffnung von Tanja Busse: „Es ist noch nicht zu spät“ wollen wir mit allen\, die\nauch etwas tun wollen\, die Wege dazu finden. Unser Lichtmessforum ist ein guter Ort\ndazu und hat schon manche gemeinsame Initiative ermöglicht. Aber: wir können\nmehr!\nWir freuen uns auf Ihr/Euer Kommen!\nIhr Tagungsteam \nProgramm: \n\nFreitag\, 24. Januar 2020 – 20.00 – 22.00 Begrüßung und Einführung\n\nJohannes Bentele: „Ein Volksbegehren öffnet alte Gräben“\nMarianus v. Hörsten: „Gastronomie – eine Verpflichtung“\nTobias Bandel: „Der Klimawandel zwingt uns zu Alternativen – wir haben noch 5-10 Jahre Zeit“\nKlaviermusik und Ausklang \n2. Samstag\, 25. Januar 2020 \n09.00 Kleines Frühstück\n09.30 Beginn \nEinführung in den Tag \n10.15 – 10.45 Tobias Bandel: „Regenerative Landwirtschaft – der Finanzmarkt zwingt uns dazu“ \nPlenum\n11.05 – 11.35 Tina Andres: „Assoziativ und zukunftsfähig – genossenschaftlich Zukunft für den ökologischen Landbau gestalten“ \nPlenum\nSingen\n12.30 – 14.00 Mittagessen\n14.00 – 16:00 Workshop: \nIn die Schuhe der anderen treten \n16.00 Kaffee und Kuchen\nSpaziergang\nAnkommen Stille\n16.45 Klaviermusik\nStorytelling Tina Andres: Ein lebensverändernder Moment \nBeispiele in Gruppen\n17.45 – 18.15 Gespräch in Tischrunden\n18.15 Vorblick auf Sonntag \n3. Sonntag\, 26. Januar 2020 \n09.00 Kleines Frühstück\n09.30 Beginn \nEinführung in den Tag \n09.40 öffentlicher Check-in: T. Andres\, T. Hartkemeyer\, J. Bentele\n10.00 Tobias Hartkemeyer: „Biodiversität durch Empathiesysteme – Die Zukunft der Landwirtschaft liegt im Zentrum der Kultur“\nPlenum\n11.00 – 12.30 Aktionsgruppen\n12.30 – 12.45 Plenum\n13.00 Schlusswort\, Danksagung\, Verabschiedung \nDas Programm ist so gestaltet\, dass die Tage aufeinander aufbauen und sich\nbedingen. Deshalb ist es ist von großem Nutzen für alle Beteiligten\, an der ganzen\nTagung teilzunehmen. Wenn Sie nur einen Tag einrichten können\, empfehlen wir\,\nFreitagabend oder Samstag zu wählen. \nFür die bessere Planung bitten wir um Anmeldung bis zum 17. Januar 2020\nbei Denis Hahn: denis.hahn@hottenlocherhof.de\nBei der Suche nach Übernachtungsmöglichkeiten ist Ihnen gerne behilflich:\nKerstin Krug Tel: 07557 – 92 95 20 oder die Website www.stockach.de\nDie kostenlose Kinderbetreuung an beiden Tagen ermöglicht es auch Familien mit\nKindern dabei zu sein:\nAnmeldung mit Altersangabe bei Kerstin Krug: kerstin.krug@heggelbachhof.de\noder T. 07557/929520 bis 17. Januar 2020 \nVeranstalter:  \nDemeter Baden – Württemberg;\nBündnis für biologisch-dynamische Arbeit am Bodensee\,\nHeggelbach 8\, 88634 Herdwangen – Schönach \nEinlass Freitag ab 19 Uhr Samstag und Sonntag ab 9 00 Uhr \nTagungsbeitrag: \nnormal | Bündnismitglieder | ermäßigt\nFreitag: 10 € 8 € 5 €\nSamstag: 60 € 30 € 12 €\nSonntag: 40 € 20 € 5 €\nGesamtkarte: 100€ 50 € 20 € \nEs grüßt das Tagungsteam: J. Burka\, S. Damaschun\, D. Hahn\, J. Heitmann\,U. Schmid\, G. Schuhknecht\, K. Krug\, I. Zucker
URL:https://wirundjetzt.org/event/lichtmessforum-boden-klima-artenvielfalt-gemeinsam-wirtschaften-fuer-die-zukunft-in-wahlwies/
CATEGORIES:Forum
END:VEVENT
BEGIN:VEVENT
DTSTART;TZID=Europe/Berlin:20200126T180000
DTEND;TZID=Europe/Berlin:20200126T220000
DTSTAMP:20260424T004714
CREATED:20200124T093100Z
LAST-MODIFIED:20200124T093101Z
UID:10000589-1580061600-1580076000@wirundjetzt.org
SUMMARY:Klassische Musik für eine neue Wirtschaftskultur - Schloss Hohenfels
DESCRIPTION:Einführung mit Miha Pogacnik und Uwe Burka						\n											\n						\n					\n					\n\n\n\nMit Musik und Wort werden die Herzen und Gedanken für eine neue Transformations- und Wirtschaftskultur geweitet\n\nEine Transformations- und Wirtschaftskultur\, in der wir nicht mehr unbewusst die Hälfte aller bezahlten\nPreise in die Spekulationsblase fließen lassen\, sondern in der wir mit\nBewusstsein und neuen Assoziationen die Ressourcen für den Aufbau einer\nnachhaltigen sozialen und kulturellen Entwicklung nutzen werden. \nMiha Pogacnik\, Meister Violinist\, Kulturbotschafter Sloweniens\, musikalischer EuropaTransformator und vielen bekannt durch die grenzüberschreitenden Kulturkarawanen IDRIART\nwww.mihavision.com \nUwe Burka\, Transformator für neue soziale\, ökologische und wirtschaftliche\nGesellschaftsformen. Auch für Südbaden bis Allgäu bereitet er eine neue\nWirtschaftskultur mit verschiedenen Gruppen vor\nwww.aktivZUKUNFTsichern.com und www.menschliche-wirtschaftskultur.org \nKollekte \nVorankündigung: 14./15. März 2020 Tagung im Schloss Hohenfels (bei Ludwigshafen\, Bodensee):\n„Unsere Region\, Wiege einer neuen Wirtschaftskultur?“ \nwww.menschliche-Wirtschaftskultur.org
URL:https://wirundjetzt.org/event/klassische-musik-fuer-eine-neue-wirtschaftskultur-schloss-hohenfels/
CATEGORIES:Konzert,Kultur,Wirtschaft
END:VEVENT
END:VCALENDAR