BEGIN:VCALENDAR
VERSION:2.0
PRODID:-//»wirundjetzt« - ECPv6.15.17.1//NONSGML v1.0//EN
CALSCALE:GREGORIAN
METHOD:PUBLISH
X-WR-CALNAME:»wirundjetzt«
X-ORIGINAL-URL:https://wirundjetzt.org
X-WR-CALDESC:Veranstaltungen für »wirundjetzt«
REFRESH-INTERVAL;VALUE=DURATION:PT1H
X-Robots-Tag:noindex
X-PUBLISHED-TTL:PT1H
BEGIN:VTIMEZONE
TZID:Europe/Berlin
BEGIN:DAYLIGHT
TZOFFSETFROM:+0100
TZOFFSETTO:+0200
TZNAME:CEST
DTSTART:20180325T010000
END:DAYLIGHT
BEGIN:STANDARD
TZOFFSETFROM:+0200
TZOFFSETTO:+0100
TZNAME:CET
DTSTART:20181028T010000
END:STANDARD
BEGIN:DAYLIGHT
TZOFFSETFROM:+0100
TZOFFSETTO:+0200
TZNAME:CEST
DTSTART:20190331T010000
END:DAYLIGHT
BEGIN:STANDARD
TZOFFSETFROM:+0200
TZOFFSETTO:+0100
TZNAME:CET
DTSTART:20191027T010000
END:STANDARD
BEGIN:DAYLIGHT
TZOFFSETFROM:+0100
TZOFFSETTO:+0200
TZNAME:CEST
DTSTART:20200329T010000
END:DAYLIGHT
BEGIN:STANDARD
TZOFFSETFROM:+0200
TZOFFSETTO:+0100
TZNAME:CET
DTSTART:20201025T010000
END:STANDARD
END:VTIMEZONE
BEGIN:VEVENT
DTSTART;TZID=Europe/Berlin:20190506T193000
DTEND;TZID=Europe/Berlin:20190506T220000
DTSTAMP:20260424T152626
CREATED:20190425T085551Z
LAST-MODIFIED:20190429T143953Z
UID:10000122-1557171000-1557180000@wirundjetzt.org
SUMMARY:Regionales Wirtschaften in der Bodenseeregion für das Gemeinwohl im Zukunftsbüro in Friedrichshafen
DESCRIPTION:Die Regionalgruppe Bodensee-Oberschwaben der Gemeinwohl-Ökonomie und wirundjetzt e.V. werden ihre Arbeit und Ihre Projekte vorstellen.\n\nZum einen wird die Idee der Gemeinwohl-Ökonomie vorgestellt und zum anderen das Projekt „Bürgerkarte“ das von wirundjetzt e.V. seit über 2 Jahren im Bodenseeraum aufgebaut wird.\n\n\nEthisches Handeln und Wirtschaften ist das möglich?\nWo stehen wir heute und was möchte die Gemeinwohl-Ökonomie?\nRegionale Wirtschaftkreisläufe und ein faires Miteinander geht das?\nWie kann die Bürgerkarte dazu beitragen?
URL:https://wirundjetzt.org/event/regionales-wirtschaften-in-der-bodenseeregion-fuer-das-gemeinwohl-im-zukunftsbuero-in-friedrichshafen/
CATEGORIES:Vernetzungstreffen,Vortrag,»wirundjetzt«-Veranstaltung
END:VEVENT
BEGIN:VEVENT
DTSTART;TZID=Europe/Berlin:20190509T193000
DTEND;TZID=Europe/Berlin:20190509T213000
DTSTAMP:20260424T152626
CREATED:20190426T082113Z
LAST-MODIFIED:20190426T082113Z
UID:10000124-1557430200-1557437400@wirundjetzt.org
SUMMARY:Treffen der DAV-VAUDE Community in Ravensburg
DESCRIPTION:Du wünschst Dir den persönlichen Austausch im „echten Leben“? \nDann bist Du bei uns genau richtig!  \n  \nEinladung zum nächsten Treffen der DAV-VAUDE Outdoor Community. \nEs wird Outdoor-Begeisterten und Naturliebhabern eine Plattform zum lebendigen Austausch geboten. Ein Gespräche mit „Jung und Alt“\, \nFamilien und Freunden rund um die Themen Outdoorsport\, Nachhaltigkeit und Freude am Draussensein zu jeder Jahreszeit. All diese Dinge liegen dem DAV und VAUDE am Herzen. \n  \nAbendprogramm:  \n\nVAUDE Vortrag zum Thema Gemeinwohlökonomie – Wirtschaften zum Wohle aller\nDAV Vortrag zum Thema Bergsport mit Zukunft – Plane Deine nachhaltige Bergtour\n10 % Einkaufsvorteil am Eventabend im Store\n\nFür das leibliche Wohl ist mit Snacks und Getränken gesorgt! \nBitte Anmeldung bis zum 07.05.2019 per Mail\, telefonisch oder persönlich im VAUDE Store. \nVAUDE STORE RAVENSBURG \nBachstr. 41\, 88214 Ravensburg \nReischmann Filialen GmbH & Co. KG \nTel. 0751 / 35 45 08 82 \nVAUDE.Store.Ravensburg@vaude.com \n  \nDEUTSCHER ALPENVEREIN E.V. \nSektion Ravensburg \nBrühlstr. 43\, 88212 Ravensburg \nwww.dav-ravensburg.de \nwww.jdav-ravensburg.de \nwww.kletterbox.com
URL:https://wirundjetzt.org/event/treffen-der-dav-vaude-community-in-ravensburg/
CATEGORIES:Infoabend,Nachhaltigkeit,Vortrag
END:VEVENT
BEGIN:VEVENT
DTSTART;TZID=Europe/Berlin:20190519T180000
DTEND;TZID=Europe/Berlin:20190519T210000
DTSTAMP:20260424T152626
CREATED:20190512T165807Z
LAST-MODIFIED:20190512T165807Z
UID:10000517-1558288800-1558299600@wirundjetzt.org
SUMMARY:Film "Tomorrow" in Neufrach/Salem
DESCRIPTION:Die Welt ist voller Lösungen – Für ein besseres Morgen! \nEin ganz besonderen Kinoerlebnis\, denn diesen Film muß einfach jeder mal gesehen haben! \nMacht mit eine Reise um die Welt und besucht mit dem Film Menschen die Mut machen! Neue Ideen waren noch nie so wichtig wie heute – unser Leben wird sich verändern. \nDie erstaunliche Erkenntnis im Film:  Die Veränderung könnte durchaus Spaß machen! \nEine Einladung\,  um gemeinsam diesen inspirierenden Film anzuschauen und  im Anschluss darüber zu diskutieren. \nEs werden Ansätze aufgezeigt\, die es dazu bereits im Salemertal gibt.\nTipp: eigene Campingstühle mitbringen! \n—– Eintritt frei —— \nEinladung zum Kinoabend 2
URL:https://wirundjetzt.org/event/film-tomorrow-in-neufrach-salem/
CATEGORIES:Film
END:VEVENT
END:VCALENDAR