BEGIN:VCALENDAR
VERSION:2.0
PRODID:-//»wirundjetzt« - ECPv6.15.17.1//NONSGML v1.0//EN
CALSCALE:GREGORIAN
METHOD:PUBLISH
X-ORIGINAL-URL:https://wirundjetzt.org
X-WR-CALDESC:Veranstaltungen für »wirundjetzt«
REFRESH-INTERVAL;VALUE=DURATION:PT1H
X-Robots-Tag:noindex
X-PUBLISHED-TTL:PT1H
BEGIN:VTIMEZONE
TZID:Europe/Berlin
BEGIN:DAYLIGHT
TZOFFSETFROM:+0100
TZOFFSETTO:+0200
TZNAME:CEST
DTSTART:20190331T010000
END:DAYLIGHT
BEGIN:STANDARD
TZOFFSETFROM:+0200
TZOFFSETTO:+0100
TZNAME:CET
DTSTART:20191027T010000
END:STANDARD
BEGIN:DAYLIGHT
TZOFFSETFROM:+0100
TZOFFSETTO:+0200
TZNAME:CEST
DTSTART:20200329T010000
END:DAYLIGHT
BEGIN:STANDARD
TZOFFSETFROM:+0200
TZOFFSETTO:+0100
TZNAME:CET
DTSTART:20201025T010000
END:STANDARD
BEGIN:DAYLIGHT
TZOFFSETFROM:+0100
TZOFFSETTO:+0200
TZNAME:CEST
DTSTART:20210328T010000
END:DAYLIGHT
BEGIN:STANDARD
TZOFFSETFROM:+0200
TZOFFSETTO:+0100
TZNAME:CET
DTSTART:20211031T010000
END:STANDARD
END:VTIMEZONE
BEGIN:VEVENT
DTSTART;VALUE=DATE:20200310
DTEND;VALUE=DATE:20200311
DTSTAMP:20260424T181901
CREATED:20191202T135814Z
LAST-MODIFIED:20191202T135816Z
UID:10000176-1583798400-1583884799@wirundjetzt.org
SUMMARY:Tagung „Wir sind dran\, Zukunft zu gestalten – ökonomisch\, ökologisch\, sozial“ in Altheim
DESCRIPTION:Tagung „Wir sind dran\, Zukunft zu gestalten – ökonomisch\, ökologisch\, sozial“ in Altheim						\n											\n						\n					\n					\n\n\n	\n\n\n\nWir sind dran\, Zukunft zu gestalten !\n  \nAuf der Tagung soll gemeinsamdie Frage geklärt werden\, wie eine enkeltaugliche Zukunft ländlicher Räume im Rahmen einer Gemeinwohl-Ökonomie (mit)gestaltet werden kann. Dafür wird es drei Themenblöcken Wirtschaft\, bürgerschaftliche wie auch kommunale Initiativen und Landwirtschaft geben. \nWichtigster Bestandteil der Tagung ist das Miteinander: Alle Teilnehmenden können mit den Referierenden und Veranstaltenden konkret zu einzelnen Themen diskutieren\, Szenarien durchspielen\, in den Erfahrungsaustausch gehen und Tipps zur Umsetzung erhalten. \nDie Tagung wird vom Bündnis ‚Wir sind dran‘ und in Kooperation mit dem Gemeindetag Baden-Württemberg veranstaltet. \n  \nDas Bündnis besteht aus den Partnern: \nEv. Bildungswerk Oberschwaben\nKirchlicher Dienst in der Arbeitswelt\nK-Punkt Ländliche Entwicklung im Kloster Heiligkreuztal\nVerband Katholisches Landvolk e. V.\nRalf Brennecke\, Pfarrer und GF Diakonisches Werk im Ev. Kirchenbezirk Ravensburg \nDie vier LEADER-Aktionsgruppen Oberschwaben\, Mittleres Oberschwaben\, Württembergisches Allgäu und Mittlere Alb \n  \nFür eine Voranmeldungbitte eine E-Mail an: \ninfo@ebo-rv.de   (Evangelische Bildungswerk Oberschwaben) \n  \nFür weitere Vorabinformationen: \nJulianna Ranzmeyer von der LEADER-Aktionsgruppe Oberschwaben unter \nTelefon: 07571/102 – 50 14 oder E-Mail: julianna.ranzmeyer@lrasig.de \n 
URL:https://wirundjetzt.org/event/tagung-wir-sind-dran-zukunft-zu-gestalten-o%cc%88konomisch-o%cc%88kologisch-sozial-in-altheim/
CATEGORIES:Tagung
END:VEVENT
END:VCALENDAR