BEGIN:VCALENDAR
VERSION:2.0
PRODID:-//»wirundjetzt« - ECPv6.15.17.1//NONSGML v1.0//EN
CALSCALE:GREGORIAN
METHOD:PUBLISH
X-WR-CALNAME:»wirundjetzt«
X-ORIGINAL-URL:https://wirundjetzt.org
X-WR-CALDESC:Veranstaltungen für »wirundjetzt«
REFRESH-INTERVAL;VALUE=DURATION:PT1H
X-Robots-Tag:noindex
X-PUBLISHED-TTL:PT1H
BEGIN:VTIMEZONE
TZID:Europe/Berlin
BEGIN:DAYLIGHT
TZOFFSETFROM:+0100
TZOFFSETTO:+0200
TZNAME:CEST
DTSTART:20180325T010000
END:DAYLIGHT
BEGIN:STANDARD
TZOFFSETFROM:+0200
TZOFFSETTO:+0100
TZNAME:CET
DTSTART:20181028T010000
END:STANDARD
BEGIN:DAYLIGHT
TZOFFSETFROM:+0100
TZOFFSETTO:+0200
TZNAME:CEST
DTSTART:20190331T010000
END:DAYLIGHT
BEGIN:STANDARD
TZOFFSETFROM:+0200
TZOFFSETTO:+0100
TZNAME:CET
DTSTART:20191027T010000
END:STANDARD
BEGIN:DAYLIGHT
TZOFFSETFROM:+0100
TZOFFSETTO:+0200
TZNAME:CEST
DTSTART:20200329T010000
END:DAYLIGHT
BEGIN:STANDARD
TZOFFSETFROM:+0200
TZOFFSETTO:+0100
TZNAME:CET
DTSTART:20201025T010000
END:STANDARD
END:VTIMEZONE
BEGIN:VEVENT
DTSTART;VALUE=DATE:20190607
DTEND;VALUE=DATE:20190614
DTSTAMP:20260419T225846
CREATED:20190525T180421Z
LAST-MODIFIED:20190528T040418Z
UID:10000521-1559865600-1560470399@wirundjetzt.org
SUMMARY:Visionssuche Survival Scoutcamp Bodensee in Markdorf
DESCRIPTION:ALTE ZEITEN - NEUE ZEITEN \nin den alten Stammeskulturen kannten die Menschen die Visionssuche als ein Suchen nach dem Sinn\, ein Ringen um ein Gesicht\, eine Möglichkeit der Offenbarung\, die Lösung eines Lebensrätsels\, den Übergang in ein neues Stadium des eigenen Daseins. \nDie Visionssuche findet am Naturzeltplatz und in der Mongolische Jurte statt. \nAnmeldung über: \nhttp://www.lightfire.de/index.php/news/ \n  \n\n\nSie sehen gerade einen Platzhalterinhalt von Standard. Um auf den eigentlichen Inhalt zuzugreifen\, klicken Sie auf den Button unten. Bitte beachten Sie\, dass dabei Daten an Drittanbieter weitergegeben werden. \n Inhalt entsperren Erforderlichen Service akzeptieren und Inhalte entsperren \n Weitere Informationen
URL:https://wirundjetzt.org/event/visionssuche-survival-scoutcamp-bodensee-in-markdorf/
CATEGORIES:Aktionen,Visionssuche
END:VEVENT
END:VCALENDAR