BEGIN:VCALENDAR
VERSION:2.0
PRODID:-//»wirundjetzt« - ECPv6.15.17.1//NONSGML v1.0//EN
CALSCALE:GREGORIAN
METHOD:PUBLISH
X-WR-CALNAME:»wirundjetzt«
X-ORIGINAL-URL:https://wirundjetzt.org
X-WR-CALDESC:Veranstaltungen für »wirundjetzt«
REFRESH-INTERVAL;VALUE=DURATION:PT1H
X-Robots-Tag:noindex
X-PUBLISHED-TTL:PT1H
BEGIN:VTIMEZONE
TZID:Europe/Berlin
BEGIN:DAYLIGHT
TZOFFSETFROM:+0100
TZOFFSETTO:+0200
TZNAME:CEST
DTSTART:20160327T010000
END:DAYLIGHT
BEGIN:STANDARD
TZOFFSETFROM:+0200
TZOFFSETTO:+0100
TZNAME:CET
DTSTART:20161030T010000
END:STANDARD
BEGIN:DAYLIGHT
TZOFFSETFROM:+0100
TZOFFSETTO:+0200
TZNAME:CEST
DTSTART:20170326T010000
END:DAYLIGHT
BEGIN:STANDARD
TZOFFSETFROM:+0200
TZOFFSETTO:+0100
TZNAME:CET
DTSTART:20171029T010000
END:STANDARD
BEGIN:DAYLIGHT
TZOFFSETFROM:+0100
TZOFFSETTO:+0200
TZNAME:CEST
DTSTART:20180325T010000
END:DAYLIGHT
BEGIN:STANDARD
TZOFFSETFROM:+0200
TZOFFSETTO:+0100
TZNAME:CET
DTSTART:20181028T010000
END:STANDARD
END:VTIMEZONE
BEGIN:VEVENT
DTSTART;TZID=Europe/Berlin:20170816T110000
DTEND;TZID=Europe/Berlin:20170816T170000
DTSTAMP:20260422T131636
CREATED:20170811T145525Z
LAST-MODIFIED:20170811T151415Z
UID:10000287-1502881200-1502902800@wirundjetzt.org
SUMMARY:Workshop mit Tom
DESCRIPTION:Film-Workshop selber machen! \nDer Workshop mit Tom findet am kommenden Mittwoch\, 16.08.\, von 11:00 - ca. 17:00 Uhr bei uns zuhause in Goldbach statt.\nKosten: 70\,00 € inkl. einer Kleinigkeit zu essen und zu trinken. \nThemen werden u.a. sein: \n\nWie kann ich mit wenig Aufwand einen guten Self-Marketing-Film erstellen\nwie gestalte ich einen optimalen Internet-Auftritt bei YouTube & Co.\nwas ist bei einem eigenen Film-Kanal zu beachten und wie kann ich diesen »gewinnbringend« einsetzen\nTipps und Tricks rund um Film und Ton\n\nFalls vorhanden\, bitte eigene Kamera/Foto/Smart-Phone etc. mitbringen. \n\n\n\n	Aktuell gibt es noch 3 freie Plätze. \nBei Interesse bitte bei uns melden: Entweder telefonisch: 07551/9452579 oder per Mail oder über Kontaktformular. \n\n\n\n	Bis dahin dir/euch alles Liebe und eine gute Zeit\, \nHeike & Andreas \n\n\n\n	Unsere nächsten Veranstaltungen\n13.09. - Buchlesung NEUER MENSCH UND NEUE ERDE 17.09. - Workshop NEUER MENSCH UND NEUE ERDE 08.-15.10. - Wanderwoche: Geheimnisvolle Vogesen 18.10. - Buchlesung NEUER MENSCH UND NEUE ERDE 21.10. - Workshop NEUER MENSCH UND NEUE ERDE 11.11. - Einhandrutenbau-Workshop 12.11. - Räucherfederbau-Workshop 18.11. - Didgeridoobau-Workshop 19.11. - Flötenbau-Workshop \n\nUnsere Bücher »
URL:https://wirundjetzt.org/event/workshop-mit-tom/
CATEGORIES:Workshop
ATTACH;FMTTYPE=image/jpeg:https://wirundjetzt.org/wp-content/uploads/2017/08/wandermagie.jpg
END:VEVENT
END:VCALENDAR