BEGIN:VCALENDAR
VERSION:2.0
PRODID:-//»wirundjetzt« - ECPv6.15.17.1//NONSGML v1.0//EN
CALSCALE:GREGORIAN
METHOD:PUBLISH
X-WR-CALNAME:»wirundjetzt«
X-ORIGINAL-URL:https://wirundjetzt.org
X-WR-CALDESC:Veranstaltungen für »wirundjetzt«
REFRESH-INTERVAL;VALUE=DURATION:PT1H
X-Robots-Tag:noindex
X-PUBLISHED-TTL:PT1H
BEGIN:VTIMEZONE
TZID:Europe/Berlin
BEGIN:DAYLIGHT
TZOFFSETFROM:+0100
TZOFFSETTO:+0200
TZNAME:CEST
DTSTART:20190331T010000
END:DAYLIGHT
BEGIN:STANDARD
TZOFFSETFROM:+0200
TZOFFSETTO:+0100
TZNAME:CET
DTSTART:20191027T010000
END:STANDARD
BEGIN:DAYLIGHT
TZOFFSETFROM:+0100
TZOFFSETTO:+0200
TZNAME:CEST
DTSTART:20200329T010000
END:DAYLIGHT
BEGIN:STANDARD
TZOFFSETFROM:+0200
TZOFFSETTO:+0100
TZNAME:CET
DTSTART:20201025T010000
END:STANDARD
BEGIN:DAYLIGHT
TZOFFSETFROM:+0100
TZOFFSETTO:+0200
TZNAME:CEST
DTSTART:20210328T010000
END:DAYLIGHT
BEGIN:STANDARD
TZOFFSETFROM:+0200
TZOFFSETTO:+0100
TZNAME:CET
DTSTART:20211031T010000
END:STANDARD
END:VTIMEZONE
BEGIN:VEVENT
DTSTART;TZID=Europe/Berlin:20200624T193000
DTEND;TZID=Europe/Berlin:20200624T213000
DTSTAMP:20260423T063021
CREATED:20200608T071946Z
LAST-MODIFIED:20200609T152917Z
UID:10000210-1593027000-1593034200@wirundjetzt.org
SUMMARY:MOMO Abend - Zoom Meeting
DESCRIPTION:Zuhören und empathisch sein						\n											\n						\n					\n					\n\n\n\n\nBeim letzten MOMO Abend konnten wir viele wichtige Impulse sammeln über das Geldsystem\, den Umgang mit den Menschen und was die Zeit damit zu tun hat! \nDie Geschichte von der MOMO war ebenso zentraler Punkt\, als auch im Dialog zu sein\, über die Hintergründe der Geschichte von Michael Ende. \nOliver Sachs\, von dem Projekt 40 Jahre Momo\, brachte viele Impulse ein. Darunter auch die Schmetterlingsbewegung und das Schmetterlingsgeld. \nInformationen hier: \nhttps://40jahremomo.de/ \nAuch unsere Geschichte passt da sehr gut dazu…hat sie doch den gleichen Ursprung…und findet nun wieder zusammen\, darauf freuen wir uns sehr. \nRaupe und Schmetterling: \nhttps://wirundjetzt.org/ueber-uns/inspirationen-geschichten/die-geschichte-von-der-raupe-und-vom-schmetterling/ \nWir laden herzlich ein zum nächsten MOMO Abend\, voller Dankbarkeit und Wertschätzung für das Miteinander Sein und das tiefe Zuhören. \nTermin: 24.06. \nUhrzeit: 19.30 \nZoom Link: https://us02web.zoom.us/j/87377955980?pwd=bm5XR0lDYVBHUjVPa0ZmVUM4dDFyUT09 \n  \nMit herzlichen Grüßen \nSarina und Simon \n 
URL:https://wirundjetzt.org/event/momo-abend-zoom-meeting/
CATEGORIES:Dialog,Wandel,»wirundjetzt«-Veranstaltung
END:VEVENT
END:VCALENDAR