BEGIN:VCALENDAR
VERSION:2.0
PRODID:-//»wirundjetzt« - ECPv6.15.17.1//NONSGML v1.0//EN
CALSCALE:GREGORIAN
METHOD:PUBLISH
X-WR-CALNAME:»wirundjetzt«
X-ORIGINAL-URL:https://wirundjetzt.org
X-WR-CALDESC:Veranstaltungen für »wirundjetzt«
REFRESH-INTERVAL;VALUE=DURATION:PT1H
X-Robots-Tag:noindex
X-PUBLISHED-TTL:PT1H
BEGIN:VTIMEZONE
TZID:Europe/Berlin
BEGIN:DAYLIGHT
TZOFFSETFROM:+0100
TZOFFSETTO:+0200
TZNAME:CEST
DTSTART:20210328T010000
END:DAYLIGHT
BEGIN:STANDARD
TZOFFSETFROM:+0200
TZOFFSETTO:+0100
TZNAME:CET
DTSTART:20211031T010000
END:STANDARD
BEGIN:DAYLIGHT
TZOFFSETFROM:+0100
TZOFFSETTO:+0200
TZNAME:CEST
DTSTART:20220327T010000
END:DAYLIGHT
BEGIN:STANDARD
TZOFFSETFROM:+0200
TZOFFSETTO:+0100
TZNAME:CET
DTSTART:20221030T010000
END:STANDARD
BEGIN:DAYLIGHT
TZOFFSETFROM:+0100
TZOFFSETTO:+0200
TZNAME:CEST
DTSTART:20230326T010000
END:DAYLIGHT
BEGIN:STANDARD
TZOFFSETFROM:+0200
TZOFFSETTO:+0100
TZNAME:CET
DTSTART:20231029T010000
END:STANDARD
END:VTIMEZONE
BEGIN:VEVENT
DTSTART;TZID=Europe/Berlin:20221213T180000
DTEND;TZID=Europe/Berlin:20221213T210000
DTSTAMP:20260422T091137
CREATED:20221123T124010Z
LAST-MODIFIED:20221128T084002Z
UID:10000459-1670954400-1670965200@wirundjetzt.org
SUMMARY:wirundjetzt-Abendveranstaltung
DESCRIPTION:Wie können wir uns den dringlichsten Themen unserer Zeit annehmen?\n \n„Was bringt uns Nachhaltigkeit? Jetzt mit uns virtuell entdecken!“\nWas:     wirundjetzt-Abendveranstaltung\nWann:  Dienstag\, den 13.12.2022 von 18 – 21 Uhr\nWo:       VR Bank Ravensburg-Weingarten \nAnmeldung hier: \nGemeinsam mit den Experten für virtuelle Welten\, der Firma RaumZeit aus Ravensburg\, bauen wir gerade eine virtuelle Welt auf (WIRtuell)\, in der wir die Themen der Nachhaltigkeit sichtbar und erlebbar machen – für jede:n!\nIn der Gemeinwohl-City wird z.B. das Bürgerkarten-Konzept greifbar. \nAn dem Abend können Sie sowohl die WIRtuelle Welt erleben und via VR Brillen selbst erkunden und kennen lernen.\nAußerdem gibt es die Möglichkeit an Infopoints\, die Projekte kennen zu lernen und in einen Austausch zu gehen. \nMit einem Catering von Frisch auf den Tisch aus Ravensburg und einem Sektempfang\, laden wir Sie ganz herzlich ein. \nVeerle Buytaert vom Umweltamt der Stadt Ravensburg wird einen kleinen Impuls halten und wir werden Sie als Team begrüßen und durch den Abend begleiten. \nWas passsiert\, wenn sich Ökos und Tekkies vernetzen? \nGemeinsam entwickeln wir Projekte Hand in Hand weiter und schaffen Synergien für die Region und die Gesellschaft.\nHier können wir in Zukunft noch besser Projekte\, Unternehmen und Ideen vernetzen und gemeinsam einen visuell sichtbaren und erlebbaren Mehrwert generieren. \nEin Mehrwert\, der ohne diese Möglichkeit der virtuellen Begegnungsräume nicht entstehen würde! \nWir erhoffen uns dadurch eine größere Reichweite\, mehr Beteiligung und aktive Kooperationen.\nDabei spielt die Bürgerbeteiligung eine große Rolle\, wofür wir parallel mit verschiedenen Akteuren aus der Region daran arbeiten\, die Projektschmiede aus Lindau nach Ravensburg zu holen.\nDiese Formate könnten auch ein Lösungsansatz sein\, wie wir die Jugend mehr mit dem Thema Nachhaltigkeit zusammenbringen können und durch die Formate Verbindungen schaffen und aktiv Projekte und Ideen vor Ort im Landkreis Ravensburg unterstützen und umsetzten können. \nKommen Sie zu unserer wirundjetzt-Abendveranstaltung und finden Sie heraus\, wie auch Sie Teil der WIRtuellen Welt werden können und uns beim Aufbau des grünen Metaverse unterstützen können! \nZiel ist es\, uns noch besser zu vernetzen und unsere Vision in die Welt zu tragen! \nAnmeldung hier: \n„Damit wir das Catering bestmöglich planen können\, wird um Anmeldung bis Montag\, den 5.12. gebeten. \nAnmeldung danach ist auch noch möglich.“ \nMit herzlichen  Grüßen \nDas wirundjetzt Team \nDas Projekt WIRtuell wird gefördert durch die Deutsche Stiftung für Engagement und Ehrenamt. \nDie Veranstaltung wird gefördert von der Bürgerstiftung Kreis Ravensburg\, der VR Bank Ravensburg-Weingarten eG und von RaumZeit. \nAn dieser Stelle bedanken wir uns ganz herzlich für die Unterstützung.
URL:https://wirundjetzt.org/event/wirundjetzt-abendveranstaltung/
CATEGORIES:»wirundjetzt«-Veranstaltung
END:VEVENT
BEGIN:VEVENT
DTSTART;TZID=Europe/Berlin:20221216T190000
DTEND;TZID=Europe/Berlin:20221216T210000
DTSTAMP:20260422T091137
CREATED:20221110T165052Z
LAST-MODIFIED:20221216T095742Z
UID:10000449-1671217200-1671224400@wirundjetzt.org
SUMMARY:ABGESAGT: wirundjetzt - Wintertreffen
DESCRIPTION:Wegen Eis und Schnee und Krankheiten der Verantwortlichen sagen wir unser Wintertreffen ab. Im neuen Jahr gibt es dann einen neuen Termin. \nZum Wintertreffen (16.12.22\, 19 -21 Uhr\, Eulenspiegels Kulturraum\, Wasserburg) laden wir unsere Mitglieder und Interessierte herzlich ein. \nZwei Schwerpunkte wird der Abend haben: \nWIRtuell \nIm Frühjahr diesen Jahres haben wir uns für eine Förderung der Deutschen Stiftung für Engagement und Ehrenamt beworben\, bei der deutschlandweit 100 gemeinnützige Organisationen beim digitalen Wandel unterstützt werden. Und wir haben es geschafft und sind als eine von 100 Organisationen ausgewählt worden! Zusammen mit den Experten für virtuelle Welten RaumZeit aus Ravensburg arbeiten wir seit dem daran\, unsere Werte und Projekte in der virtuellen Welt darzustellen\, damit wir uns so noch besser vernetzen und unsere Vision in die Welt tragen können. Für uns ist es eine Chance\, die sich ergeben hat und die wir ergriffen haben. Wir haben unsere eigene wirundjetzt-Welt im virtuellen Raum erschaffen und dieser Welt den Namen WIRtuell gegeben. Es ist ein bisschen wie in einem Computer-Spiel: eine perfekte Welt\, die zum Erkunden und Erforschen einlädt. Wir möchten euch diese Welt gerne vorstellen und freuen uns auf Eure Offenheit & Neugierde! Zusammen mit den Freunden von RaumZeit werden wir die WIRtuell durch die VR-Brille erkunden. \nFinanzierung \nWir möchten euch einen Überblick geben\, wo wirundjetzt e.V. finanziell steht. Was machen die Projekte? Was braucht es für die nächsten Schritte? Eigenkapital\, Mitgliederwerbung\, Sponsoring und das Thema Kampagnenarbeit für alle unsere Projekte stehen im Fokus unserer Aktivitäten. Denn nur mit dem nötigen Eigenkapital können wir auch Fördergelder beantragen und weitere Projekte anstoßen und unterstützen.\nWie könnt ihr uns dabei unterstützen?\nWelche Ideen und Möglichkeiten habt ihr?\nUnd was haben wir uns überlegt und woran arbeiten wir zur Zeit? \nWir freuen uns auf euch und auf das gemeinsame Schmieden.
URL:https://wirundjetzt.org/event/wirundjetzt-wintertreffen/
LOCATION:kulturraum eulenspiegel\, Dorfstr. 25\, Wasserburg\, 88142\, Deutschland
CATEGORIES:Austausch,gemeinschaft
END:VEVENT
END:VCALENDAR