BEGIN:VCALENDAR
VERSION:2.0
PRODID:-//»wirundjetzt« - ECPv6.15.17.1//NONSGML v1.0//EN
CALSCALE:GREGORIAN
METHOD:PUBLISH
X-WR-CALNAME:»wirundjetzt«
X-ORIGINAL-URL:https://wirundjetzt.org
X-WR-CALDESC:Veranstaltungen für »wirundjetzt«
REFRESH-INTERVAL;VALUE=DURATION:PT1H
X-Robots-Tag:noindex
X-PUBLISHED-TTL:PT1H
BEGIN:VTIMEZONE
TZID:Europe/Berlin
BEGIN:DAYLIGHT
TZOFFSETFROM:+0100
TZOFFSETTO:+0200
TZNAME:CEST
DTSTART:20210328T010000
END:DAYLIGHT
BEGIN:STANDARD
TZOFFSETFROM:+0200
TZOFFSETTO:+0100
TZNAME:CET
DTSTART:20211031T010000
END:STANDARD
BEGIN:DAYLIGHT
TZOFFSETFROM:+0100
TZOFFSETTO:+0200
TZNAME:CEST
DTSTART:20220327T010000
END:DAYLIGHT
BEGIN:STANDARD
TZOFFSETFROM:+0200
TZOFFSETTO:+0100
TZNAME:CET
DTSTART:20221030T010000
END:STANDARD
BEGIN:DAYLIGHT
TZOFFSETFROM:+0100
TZOFFSETTO:+0200
TZNAME:CEST
DTSTART:20230326T010000
END:DAYLIGHT
BEGIN:STANDARD
TZOFFSETFROM:+0200
TZOFFSETTO:+0100
TZNAME:CET
DTSTART:20231029T010000
END:STANDARD
END:VTIMEZONE
BEGIN:VEVENT
DTSTART;VALUE=DATE:20220210
DTEND;VALUE=DATE:20220211
DTSTAMP:20260424T054636
CREATED:20220129T152126Z
LAST-MODIFIED:20220217T161942Z
UID:10000742-1644451200-1644537599@wirundjetzt.org
SUMMARY:Kongress gemeinsam – heilsam
DESCRIPTION:„gemeinsam heilsam“ beschäftigt sich mit folgenden Themen: \nOrganisation in Gemeinschaften: erstaunliches Zusammenwirken von Pflanzen-\, Tier- und Super-Organismen\naltes Wissen von ursprünglichen Kulturen\, Zusammenleben mit unterschiedlichen Werten und Zielen\nGemeinschaft aus anthropologischer und schamanischer Sicht\nKinder\, Erziehung\, Schulformen\, Familie\nArbeitsumfeld\, die Firma als Gemeinschaft\nalternative Lebensgemeinschaften\ngemeinschaftliches Wirtschaften\, Gemeinwohlökonomie\, Währungen und die Auswirkungen auf unsere Gesellschaft\, Modelle für neue Wertschöpfung \nDer Kongress bringt Antworten auf brennende Fragen unserer Zeit: \nWelche fundamentalen Säulen sorgen dafür\, dass Gemeinschaft funktioniert?\nWie sorgen erprobte Gemeinschaften für eine Balance zwischen Geben und Nehmen?\nWelchen Platz hat Individualität in einer Gemeinschaft?\nWelche Faktoren sind wichtig für eine wirtschaftlich erfolgreiche Gemeinschaft?\nWieviel Tradition und wieviel Anpassung braucht eine Gemeinschaft? \nHier kannst du dich anmelden: https://www.weltenwanderer.family
URL:https://wirundjetzt.org/event/kongress-gemeinsam-heilsam/2022-02-10/
LOCATION:online
CATEGORIES:Kongress
ATTACH;FMTTYPE=image/jpeg:https://wirundjetzt.org/wp-content/uploads/2022/01/gisa_sarina_simon_gemeinsam-heilsam-fb.jpg
END:VEVENT
BEGIN:VEVENT
DTSTART;VALUE=DATE:20220211
DTEND;VALUE=DATE:20220212
DTSTAMP:20260424T054636
CREATED:20220129T152126Z
LAST-MODIFIED:20220217T161942Z
UID:10000743-1644537600-1644623999@wirundjetzt.org
SUMMARY:Kongress gemeinsam – heilsam
DESCRIPTION:„gemeinsam heilsam“ beschäftigt sich mit folgenden Themen: \nOrganisation in Gemeinschaften: erstaunliches Zusammenwirken von Pflanzen-\, Tier- und Super-Organismen\naltes Wissen von ursprünglichen Kulturen\, Zusammenleben mit unterschiedlichen Werten und Zielen\nGemeinschaft aus anthropologischer und schamanischer Sicht\nKinder\, Erziehung\, Schulformen\, Familie\nArbeitsumfeld\, die Firma als Gemeinschaft\nalternative Lebensgemeinschaften\ngemeinschaftliches Wirtschaften\, Gemeinwohlökonomie\, Währungen und die Auswirkungen auf unsere Gesellschaft\, Modelle für neue Wertschöpfung \nDer Kongress bringt Antworten auf brennende Fragen unserer Zeit: \nWelche fundamentalen Säulen sorgen dafür\, dass Gemeinschaft funktioniert?\nWie sorgen erprobte Gemeinschaften für eine Balance zwischen Geben und Nehmen?\nWelchen Platz hat Individualität in einer Gemeinschaft?\nWelche Faktoren sind wichtig für eine wirtschaftlich erfolgreiche Gemeinschaft?\nWieviel Tradition und wieviel Anpassung braucht eine Gemeinschaft? \nHier kannst du dich anmelden: https://www.weltenwanderer.family
URL:https://wirundjetzt.org/event/kongress-gemeinsam-heilsam/2022-02-11/
LOCATION:online
CATEGORIES:Kongress
ATTACH;FMTTYPE=image/jpeg:https://wirundjetzt.org/wp-content/uploads/2022/01/gisa_sarina_simon_gemeinsam-heilsam-fb.jpg
END:VEVENT
BEGIN:VEVENT
DTSTART;VALUE=DATE:20220212
DTEND;VALUE=DATE:20220213
DTSTAMP:20260424T054636
CREATED:20220129T152126Z
LAST-MODIFIED:20220217T161942Z
UID:10000744-1644624000-1644710399@wirundjetzt.org
SUMMARY:Kongress gemeinsam – heilsam
DESCRIPTION:„gemeinsam heilsam“ beschäftigt sich mit folgenden Themen: \nOrganisation in Gemeinschaften: erstaunliches Zusammenwirken von Pflanzen-\, Tier- und Super-Organismen\naltes Wissen von ursprünglichen Kulturen\, Zusammenleben mit unterschiedlichen Werten und Zielen\nGemeinschaft aus anthropologischer und schamanischer Sicht\nKinder\, Erziehung\, Schulformen\, Familie\nArbeitsumfeld\, die Firma als Gemeinschaft\nalternative Lebensgemeinschaften\ngemeinschaftliches Wirtschaften\, Gemeinwohlökonomie\, Währungen und die Auswirkungen auf unsere Gesellschaft\, Modelle für neue Wertschöpfung \nDer Kongress bringt Antworten auf brennende Fragen unserer Zeit: \nWelche fundamentalen Säulen sorgen dafür\, dass Gemeinschaft funktioniert?\nWie sorgen erprobte Gemeinschaften für eine Balance zwischen Geben und Nehmen?\nWelchen Platz hat Individualität in einer Gemeinschaft?\nWelche Faktoren sind wichtig für eine wirtschaftlich erfolgreiche Gemeinschaft?\nWieviel Tradition und wieviel Anpassung braucht eine Gemeinschaft? \nHier kannst du dich anmelden: https://www.weltenwanderer.family
URL:https://wirundjetzt.org/event/kongress-gemeinsam-heilsam/2022-02-12/
LOCATION:online
CATEGORIES:Kongress
ATTACH;FMTTYPE=image/jpeg:https://wirundjetzt.org/wp-content/uploads/2022/01/gisa_sarina_simon_gemeinsam-heilsam-fb.jpg
END:VEVENT
BEGIN:VEVENT
DTSTART;VALUE=DATE:20220213
DTEND;VALUE=DATE:20220214
DTSTAMP:20260424T054636
CREATED:20220129T152126Z
LAST-MODIFIED:20220217T161942Z
UID:10000745-1644710400-1644796799@wirundjetzt.org
SUMMARY:Kongress gemeinsam – heilsam
DESCRIPTION:„gemeinsam heilsam“ beschäftigt sich mit folgenden Themen: \nOrganisation in Gemeinschaften: erstaunliches Zusammenwirken von Pflanzen-\, Tier- und Super-Organismen\naltes Wissen von ursprünglichen Kulturen\, Zusammenleben mit unterschiedlichen Werten und Zielen\nGemeinschaft aus anthropologischer und schamanischer Sicht\nKinder\, Erziehung\, Schulformen\, Familie\nArbeitsumfeld\, die Firma als Gemeinschaft\nalternative Lebensgemeinschaften\ngemeinschaftliches Wirtschaften\, Gemeinwohlökonomie\, Währungen und die Auswirkungen auf unsere Gesellschaft\, Modelle für neue Wertschöpfung \nDer Kongress bringt Antworten auf brennende Fragen unserer Zeit: \nWelche fundamentalen Säulen sorgen dafür\, dass Gemeinschaft funktioniert?\nWie sorgen erprobte Gemeinschaften für eine Balance zwischen Geben und Nehmen?\nWelchen Platz hat Individualität in einer Gemeinschaft?\nWelche Faktoren sind wichtig für eine wirtschaftlich erfolgreiche Gemeinschaft?\nWieviel Tradition und wieviel Anpassung braucht eine Gemeinschaft? \nHier kannst du dich anmelden: https://www.weltenwanderer.family
URL:https://wirundjetzt.org/event/kongress-gemeinsam-heilsam/2022-02-13/
LOCATION:online
CATEGORIES:Kongress
ATTACH;FMTTYPE=image/jpeg:https://wirundjetzt.org/wp-content/uploads/2022/01/gisa_sarina_simon_gemeinsam-heilsam-fb.jpg
END:VEVENT
BEGIN:VEVENT
DTSTART;VALUE=DATE:20220214
DTEND;VALUE=DATE:20220215
DTSTAMP:20260424T054636
CREATED:20220129T152126Z
LAST-MODIFIED:20220217T161942Z
UID:10000746-1644796800-1644883199@wirundjetzt.org
SUMMARY:Kongress gemeinsam – heilsam
DESCRIPTION:„gemeinsam heilsam“ beschäftigt sich mit folgenden Themen: \nOrganisation in Gemeinschaften: erstaunliches Zusammenwirken von Pflanzen-\, Tier- und Super-Organismen\naltes Wissen von ursprünglichen Kulturen\, Zusammenleben mit unterschiedlichen Werten und Zielen\nGemeinschaft aus anthropologischer und schamanischer Sicht\nKinder\, Erziehung\, Schulformen\, Familie\nArbeitsumfeld\, die Firma als Gemeinschaft\nalternative Lebensgemeinschaften\ngemeinschaftliches Wirtschaften\, Gemeinwohlökonomie\, Währungen und die Auswirkungen auf unsere Gesellschaft\, Modelle für neue Wertschöpfung \nDer Kongress bringt Antworten auf brennende Fragen unserer Zeit: \nWelche fundamentalen Säulen sorgen dafür\, dass Gemeinschaft funktioniert?\nWie sorgen erprobte Gemeinschaften für eine Balance zwischen Geben und Nehmen?\nWelchen Platz hat Individualität in einer Gemeinschaft?\nWelche Faktoren sind wichtig für eine wirtschaftlich erfolgreiche Gemeinschaft?\nWieviel Tradition und wieviel Anpassung braucht eine Gemeinschaft? \nHier kannst du dich anmelden: https://www.weltenwanderer.family
URL:https://wirundjetzt.org/event/kongress-gemeinsam-heilsam/2022-02-14/
LOCATION:online
CATEGORIES:Kongress
ATTACH;FMTTYPE=image/jpeg:https://wirundjetzt.org/wp-content/uploads/2022/01/gisa_sarina_simon_gemeinsam-heilsam-fb.jpg
END:VEVENT
BEGIN:VEVENT
DTSTART;VALUE=DATE:20220215
DTEND;VALUE=DATE:20220216
DTSTAMP:20260424T054636
CREATED:20220129T152126Z
LAST-MODIFIED:20220217T161942Z
UID:10000747-1644883200-1644969599@wirundjetzt.org
SUMMARY:Kongress gemeinsam – heilsam
DESCRIPTION:„gemeinsam heilsam“ beschäftigt sich mit folgenden Themen: \nOrganisation in Gemeinschaften: erstaunliches Zusammenwirken von Pflanzen-\, Tier- und Super-Organismen\naltes Wissen von ursprünglichen Kulturen\, Zusammenleben mit unterschiedlichen Werten und Zielen\nGemeinschaft aus anthropologischer und schamanischer Sicht\nKinder\, Erziehung\, Schulformen\, Familie\nArbeitsumfeld\, die Firma als Gemeinschaft\nalternative Lebensgemeinschaften\ngemeinschaftliches Wirtschaften\, Gemeinwohlökonomie\, Währungen und die Auswirkungen auf unsere Gesellschaft\, Modelle für neue Wertschöpfung \nDer Kongress bringt Antworten auf brennende Fragen unserer Zeit: \nWelche fundamentalen Säulen sorgen dafür\, dass Gemeinschaft funktioniert?\nWie sorgen erprobte Gemeinschaften für eine Balance zwischen Geben und Nehmen?\nWelchen Platz hat Individualität in einer Gemeinschaft?\nWelche Faktoren sind wichtig für eine wirtschaftlich erfolgreiche Gemeinschaft?\nWieviel Tradition und wieviel Anpassung braucht eine Gemeinschaft? \nHier kannst du dich anmelden: https://www.weltenwanderer.family
URL:https://wirundjetzt.org/event/kongress-gemeinsam-heilsam/2022-02-15/
LOCATION:online
CATEGORIES:Kongress
ATTACH;FMTTYPE=image/jpeg:https://wirundjetzt.org/wp-content/uploads/2022/01/gisa_sarina_simon_gemeinsam-heilsam-fb.jpg
END:VEVENT
BEGIN:VEVENT
DTSTART;VALUE=DATE:20220216
DTEND;VALUE=DATE:20220217
DTSTAMP:20260424T054636
CREATED:20220129T152126Z
LAST-MODIFIED:20220217T161942Z
UID:10000748-1644969600-1645055999@wirundjetzt.org
SUMMARY:Kongress gemeinsam – heilsam
DESCRIPTION:„gemeinsam heilsam“ beschäftigt sich mit folgenden Themen: \nOrganisation in Gemeinschaften: erstaunliches Zusammenwirken von Pflanzen-\, Tier- und Super-Organismen\naltes Wissen von ursprünglichen Kulturen\, Zusammenleben mit unterschiedlichen Werten und Zielen\nGemeinschaft aus anthropologischer und schamanischer Sicht\nKinder\, Erziehung\, Schulformen\, Familie\nArbeitsumfeld\, die Firma als Gemeinschaft\nalternative Lebensgemeinschaften\ngemeinschaftliches Wirtschaften\, Gemeinwohlökonomie\, Währungen und die Auswirkungen auf unsere Gesellschaft\, Modelle für neue Wertschöpfung \nDer Kongress bringt Antworten auf brennende Fragen unserer Zeit: \nWelche fundamentalen Säulen sorgen dafür\, dass Gemeinschaft funktioniert?\nWie sorgen erprobte Gemeinschaften für eine Balance zwischen Geben und Nehmen?\nWelchen Platz hat Individualität in einer Gemeinschaft?\nWelche Faktoren sind wichtig für eine wirtschaftlich erfolgreiche Gemeinschaft?\nWieviel Tradition und wieviel Anpassung braucht eine Gemeinschaft? \nHier kannst du dich anmelden: https://www.weltenwanderer.family
URL:https://wirundjetzt.org/event/kongress-gemeinsam-heilsam/2022-02-16/
LOCATION:online
CATEGORIES:Kongress
ATTACH;FMTTYPE=image/jpeg:https://wirundjetzt.org/wp-content/uploads/2022/01/gisa_sarina_simon_gemeinsam-heilsam-fb.jpg
END:VEVENT
BEGIN:VEVENT
DTSTART;VALUE=DATE:20220217
DTEND;VALUE=DATE:20220218
DTSTAMP:20260424T054636
CREATED:20220129T152126Z
LAST-MODIFIED:20220217T161942Z
UID:10000749-1645056000-1645142399@wirundjetzt.org
SUMMARY:Kongress gemeinsam – heilsam
DESCRIPTION:„gemeinsam heilsam“ beschäftigt sich mit folgenden Themen: \nOrganisation in Gemeinschaften: erstaunliches Zusammenwirken von Pflanzen-\, Tier- und Super-Organismen\naltes Wissen von ursprünglichen Kulturen\, Zusammenleben mit unterschiedlichen Werten und Zielen\nGemeinschaft aus anthropologischer und schamanischer Sicht\nKinder\, Erziehung\, Schulformen\, Familie\nArbeitsumfeld\, die Firma als Gemeinschaft\nalternative Lebensgemeinschaften\ngemeinschaftliches Wirtschaften\, Gemeinwohlökonomie\, Währungen und die Auswirkungen auf unsere Gesellschaft\, Modelle für neue Wertschöpfung \nDer Kongress bringt Antworten auf brennende Fragen unserer Zeit: \nWelche fundamentalen Säulen sorgen dafür\, dass Gemeinschaft funktioniert?\nWie sorgen erprobte Gemeinschaften für eine Balance zwischen Geben und Nehmen?\nWelchen Platz hat Individualität in einer Gemeinschaft?\nWelche Faktoren sind wichtig für eine wirtschaftlich erfolgreiche Gemeinschaft?\nWieviel Tradition und wieviel Anpassung braucht eine Gemeinschaft? \nHier kannst du dich anmelden: https://www.weltenwanderer.family
URL:https://wirundjetzt.org/event/kongress-gemeinsam-heilsam/2022-02-17/
LOCATION:online
CATEGORIES:Kongress
ATTACH;FMTTYPE=image/jpeg:https://wirundjetzt.org/wp-content/uploads/2022/01/gisa_sarina_simon_gemeinsam-heilsam-fb.jpg
END:VEVENT
BEGIN:VEVENT
DTSTART;VALUE=DATE:20220218
DTEND;VALUE=DATE:20220219
DTSTAMP:20260424T054636
CREATED:20220129T152126Z
LAST-MODIFIED:20220217T161942Z
UID:10000750-1645142400-1645228799@wirundjetzt.org
SUMMARY:Kongress gemeinsam – heilsam
DESCRIPTION:„gemeinsam heilsam“ beschäftigt sich mit folgenden Themen: \nOrganisation in Gemeinschaften: erstaunliches Zusammenwirken von Pflanzen-\, Tier- und Super-Organismen\naltes Wissen von ursprünglichen Kulturen\, Zusammenleben mit unterschiedlichen Werten und Zielen\nGemeinschaft aus anthropologischer und schamanischer Sicht\nKinder\, Erziehung\, Schulformen\, Familie\nArbeitsumfeld\, die Firma als Gemeinschaft\nalternative Lebensgemeinschaften\ngemeinschaftliches Wirtschaften\, Gemeinwohlökonomie\, Währungen und die Auswirkungen auf unsere Gesellschaft\, Modelle für neue Wertschöpfung \nDer Kongress bringt Antworten auf brennende Fragen unserer Zeit: \nWelche fundamentalen Säulen sorgen dafür\, dass Gemeinschaft funktioniert?\nWie sorgen erprobte Gemeinschaften für eine Balance zwischen Geben und Nehmen?\nWelchen Platz hat Individualität in einer Gemeinschaft?\nWelche Faktoren sind wichtig für eine wirtschaftlich erfolgreiche Gemeinschaft?\nWieviel Tradition und wieviel Anpassung braucht eine Gemeinschaft? \nHier kannst du dich anmelden: https://www.weltenwanderer.family
URL:https://wirundjetzt.org/event/kongress-gemeinsam-heilsam/2022-02-18/
LOCATION:online
CATEGORIES:Kongress
ATTACH;FMTTYPE=image/jpeg:https://wirundjetzt.org/wp-content/uploads/2022/01/gisa_sarina_simon_gemeinsam-heilsam-fb.jpg
END:VEVENT
BEGIN:VEVENT
DTSTART;VALUE=DATE:20220219
DTEND;VALUE=DATE:20220220
DTSTAMP:20260424T054636
CREATED:20220129T152126Z
LAST-MODIFIED:20220217T161942Z
UID:10000751-1645228800-1645315199@wirundjetzt.org
SUMMARY:Kongress gemeinsam – heilsam
DESCRIPTION:„gemeinsam heilsam“ beschäftigt sich mit folgenden Themen: \nOrganisation in Gemeinschaften: erstaunliches Zusammenwirken von Pflanzen-\, Tier- und Super-Organismen\naltes Wissen von ursprünglichen Kulturen\, Zusammenleben mit unterschiedlichen Werten und Zielen\nGemeinschaft aus anthropologischer und schamanischer Sicht\nKinder\, Erziehung\, Schulformen\, Familie\nArbeitsumfeld\, die Firma als Gemeinschaft\nalternative Lebensgemeinschaften\ngemeinschaftliches Wirtschaften\, Gemeinwohlökonomie\, Währungen und die Auswirkungen auf unsere Gesellschaft\, Modelle für neue Wertschöpfung \nDer Kongress bringt Antworten auf brennende Fragen unserer Zeit: \nWelche fundamentalen Säulen sorgen dafür\, dass Gemeinschaft funktioniert?\nWie sorgen erprobte Gemeinschaften für eine Balance zwischen Geben und Nehmen?\nWelchen Platz hat Individualität in einer Gemeinschaft?\nWelche Faktoren sind wichtig für eine wirtschaftlich erfolgreiche Gemeinschaft?\nWieviel Tradition und wieviel Anpassung braucht eine Gemeinschaft? \nHier kannst du dich anmelden: https://www.weltenwanderer.family
URL:https://wirundjetzt.org/event/kongress-gemeinsam-heilsam/2022-02-19/
LOCATION:online
CATEGORIES:Kongress
ATTACH;FMTTYPE=image/jpeg:https://wirundjetzt.org/wp-content/uploads/2022/01/gisa_sarina_simon_gemeinsam-heilsam-fb.jpg
END:VEVENT
BEGIN:VEVENT
DTSTART;VALUE=DATE:20220220
DTEND;VALUE=DATE:20220221
DTSTAMP:20260424T054636
CREATED:20220129T152126Z
LAST-MODIFIED:20220217T161942Z
UID:10000752-1645315200-1645401599@wirundjetzt.org
SUMMARY:Kongress gemeinsam – heilsam
DESCRIPTION:„gemeinsam heilsam“ beschäftigt sich mit folgenden Themen: \nOrganisation in Gemeinschaften: erstaunliches Zusammenwirken von Pflanzen-\, Tier- und Super-Organismen\naltes Wissen von ursprünglichen Kulturen\, Zusammenleben mit unterschiedlichen Werten und Zielen\nGemeinschaft aus anthropologischer und schamanischer Sicht\nKinder\, Erziehung\, Schulformen\, Familie\nArbeitsumfeld\, die Firma als Gemeinschaft\nalternative Lebensgemeinschaften\ngemeinschaftliches Wirtschaften\, Gemeinwohlökonomie\, Währungen und die Auswirkungen auf unsere Gesellschaft\, Modelle für neue Wertschöpfung \nDer Kongress bringt Antworten auf brennende Fragen unserer Zeit: \nWelche fundamentalen Säulen sorgen dafür\, dass Gemeinschaft funktioniert?\nWie sorgen erprobte Gemeinschaften für eine Balance zwischen Geben und Nehmen?\nWelchen Platz hat Individualität in einer Gemeinschaft?\nWelche Faktoren sind wichtig für eine wirtschaftlich erfolgreiche Gemeinschaft?\nWieviel Tradition und wieviel Anpassung braucht eine Gemeinschaft? \nHier kannst du dich anmelden: https://www.weltenwanderer.family
URL:https://wirundjetzt.org/event/kongress-gemeinsam-heilsam/2022-02-20/
LOCATION:online
CATEGORIES:Kongress
ATTACH;FMTTYPE=image/jpeg:https://wirundjetzt.org/wp-content/uploads/2022/01/gisa_sarina_simon_gemeinsam-heilsam-fb.jpg
END:VEVENT
BEGIN:VEVENT
DTSTART;TZID=Europe/Berlin:20220221T190000
DTEND;TZID=Europe/Berlin:20220221T203000
DTSTAMP:20260424T054636
CREATED:20220212T102717Z
LAST-MODIFIED:20220214T200104Z
UID:10000374-1645470000-1645475400@wirundjetzt.org
SUMMARY:wirundjetzt Themenabend Organisation Sommercamp Achberg
DESCRIPTION:Herzliche Einladung ins Orga Team! \nIhr habt Lust ein Sommercamp zu organisieren und euch mit euren Fähigkeiten einzubringen? \nIhr habt Zeit und Ideen und vielleicht sogar schon Erfahrungen bei der Organisation von Veranstaltungen und Festen? \nIhr wollt was lernen und eine schöne Zeit gemeinsam mit uns in Achberg haben? \nDann seid ihr hier genau richtig. \nWir freuen uns auf euch und auf eine gemeinsame Vorbereitungszeit und Durchführung. \nZoom-Link für das Meeting\nhttps://us02web.zoom.us/j/86388446686?pwd=bUsrN04rUE4wamxUUDMrZzJoSE1vUT09\n\nMeeting-ID: 863 8844 6686\nKenncode: 461133\nSchnelleinwahl mobil\nEinwahl nach aktuellem Standort +49 69 5050 0951 Deutschland\n\n\nInfos und Fragen bitte bei Jens Heidig melden: \njens.heidig@wirundjetzt.org \n  \nHier könnt ihr euch Berichte und Filme von den letzten Jahren anschauen! \nFilmclip 2018 \nBericht 2020 \nFilmclip 2021
URL:https://wirundjetzt.org/event/online-treffen-zur-vorbereitung-des-sommercamp-2022/
CATEGORIES:Arbeitstreffen
ATTACH;FMTTYPE=image/jpeg:https://wirundjetzt.org/wp-content/uploads/2020/08/20200823_132458.jpg
END:VEVENT
BEGIN:VEVENT
DTSTART;TZID=Europe/Berlin:20220225T200000
DTEND;TZID=Europe/Berlin:20220225T213000
DTSTAMP:20260424T054636
CREATED:20220214T215800Z
LAST-MODIFIED:20220217T073451Z
UID:10000765-1645819200-1645824600@wirundjetzt.org
SUMMARY:Karte von Morgen - alles Gute auf einer Karte
DESCRIPTION:Einführung und Anleitung\, wie nutze ich die Karte von Morgen?\nWie kartiere ich mein Projekt und mein Unternehmen?\nWie können wir in der Region\, gemeinsam an der Karte von Morgen arbeiten?Was gibt es für Möglichkeiten? \nAm Beispiel der Ökomodellregion Deggenhausertal\, werden wir gemeinsam mit Helmut Wolman von der Karte von Morgen einen Workshop durchführen\, der euch befähigt Regionalpilotin für die Karte von Morgen zu sein. \nWir werden gemeinsam Kartieren und für die Ökomodellregion Deggenhausertal eine Strategie erarbeiten\, was die nächsten Schritte sind. \nDabei werden wir die einzelnen Schritte beim Kartieren anschauen und im Austausch miteinander stehen\, wie alles funktioniert! \n\n\nWeitere Infos: https://blog.vonmorgen.org/regionalpilotin-werden/ \nAm 25.2. um 20.00 Uhr einfach mit dem Browser hier beitreten: \nhttps://blog.vonmorgen.org/Gruppenraum \nFür weiteren Austausch und Updates zur Karte von morgen bitte diesem Projekt beitreten: \nhttps://wechange.de/project/karte-von-morgen/ \nFür weitere Fragen und Infos bitte bei Simon Neitzel melden. \n\n\nMail: simon.neitzel@wirundjetzt.org \n 
URL:https://wirundjetzt.org/event/karte-von-morgen-alles-gute-auf-einer-karte/
CATEGORIES:Arbeitstreffen,online-meeting
ATTACH;FMTTYPE=image/png:https://wirundjetzt.org/wp-content/uploads/2022/02/Logo-KvM-screenshot.png
END:VEVENT
END:VCALENDAR