BEGIN:VCALENDAR
VERSION:2.0
PRODID:-//»wirundjetzt« - ECPv6.15.17.1//NONSGML v1.0//EN
CALSCALE:GREGORIAN
METHOD:PUBLISH
X-WR-CALNAME:»wirundjetzt«
X-ORIGINAL-URL:https://wirundjetzt.org
X-WR-CALDESC:Veranstaltungen für »wirundjetzt«
REFRESH-INTERVAL;VALUE=DURATION:PT1H
X-Robots-Tag:noindex
X-PUBLISHED-TTL:PT1H
BEGIN:VTIMEZONE
TZID:Europe/Berlin
BEGIN:DAYLIGHT
TZOFFSETFROM:+0100
TZOFFSETTO:+0200
TZNAME:CEST
DTSTART:20250330T010000
END:DAYLIGHT
BEGIN:STANDARD
TZOFFSETFROM:+0200
TZOFFSETTO:+0100
TZNAME:CET
DTSTART:20251026T010000
END:STANDARD
BEGIN:DAYLIGHT
TZOFFSETFROM:+0100
TZOFFSETTO:+0200
TZNAME:CEST
DTSTART:20260329T010000
END:DAYLIGHT
BEGIN:STANDARD
TZOFFSETFROM:+0200
TZOFFSETTO:+0100
TZNAME:CET
DTSTART:20261025T010000
END:STANDARD
BEGIN:DAYLIGHT
TZOFFSETFROM:+0100
TZOFFSETTO:+0200
TZNAME:CEST
DTSTART:20270328T010000
END:DAYLIGHT
BEGIN:STANDARD
TZOFFSETFROM:+0200
TZOFFSETTO:+0100
TZNAME:CET
DTSTART:20271031T010000
END:STANDARD
END:VTIMEZONE
BEGIN:VEVENT
DTSTART;TZID=Europe/Berlin:20260509T090000
DTEND;TZID=Europe/Berlin:20260509T150000
DTSTAMP:20260423T073404
CREATED:20260421T082138Z
LAST-MODIFIED:20260421T082417Z
UID:10001503-1778317200-1778338800@wirundjetzt.org
SUMMARY:Eröffnung des Überlinger Weltackers 2026
DESCRIPTION:„Vom Acker auf den Tisch“ – etwas Gutes für die Artenvielfalt\, das Klima\, die Bodenfruchtbarkeit tun und eine abwechslungsreiche\nLandschaft im Bodenseeraum gestalten – \nIn Zusammenarbeit mit einigen Bauernhöfen der WIR.Bio Power Bodensee und dem\nLeitmotiv „global denken\, lokal handeln“ veranstalten wir auf dem Weltacker einen Bauern-\nMarkt: Mit vielfältigen 100% regionalen & ökologischen Erzeugnissen von Höfen\, die\nSolidarität miteinander vorleben und sich auf Solidarität von uns freuen. Ihr dürft probieren\,\ngenießen\, einkaufen\, mit den Produzent:innen ins Gespräch kommen und euch daran\nfreuen\, was die regionale Landwirtschaft eigentlich noch alles leistet – neben der Produktion\nunserer Lebensmittel.\nNach einem Auftakt mit Musik der Schulband Brachenreuthe\, erwartet euch ein festliches\nRahmenprogramm mit feinen Kostproben lokaler Leckereien vom Feuer\, natürlich einer\n„Mitmach-Ecke“ für Klein und Groß sowie Informationen und inhaltliche Beiträge\, die\nPerspektiven erweitern und Zuversicht schenken. Weitere Infos unter: \nhttps://www.ueberlinger-weltacker.de/ \nEinladungWeltackerEröffnung2026
URL:https://wirundjetzt.org/event/eroeffung-des-ueberlinger-weltackers-2026/
CATEGORIES:Veranstaltung
END:VEVENT
END:VCALENDAR