BEGIN:VCALENDAR
VERSION:2.0
PRODID:-//»wirundjetzt« - ECPv6.15.17.1//NONSGML v1.0//EN
CALSCALE:GREGORIAN
METHOD:PUBLISH
X-WR-CALNAME:»wirundjetzt«
X-ORIGINAL-URL:https://wirundjetzt.org
X-WR-CALDESC:Veranstaltungen für »wirundjetzt«
REFRESH-INTERVAL;VALUE=DURATION:PT1H
X-Robots-Tag:noindex
X-PUBLISHED-TTL:PT1H
BEGIN:VTIMEZONE
TZID:Europe/Berlin
BEGIN:DAYLIGHT
TZOFFSETFROM:+0100
TZOFFSETTO:+0200
TZNAME:CEST
DTSTART:20160327T010000
END:DAYLIGHT
BEGIN:STANDARD
TZOFFSETFROM:+0200
TZOFFSETTO:+0100
TZNAME:CET
DTSTART:20161030T010000
END:STANDARD
BEGIN:DAYLIGHT
TZOFFSETFROM:+0100
TZOFFSETTO:+0200
TZNAME:CEST
DTSTART:20170326T010000
END:DAYLIGHT
BEGIN:STANDARD
TZOFFSETFROM:+0200
TZOFFSETTO:+0100
TZNAME:CET
DTSTART:20171029T010000
END:STANDARD
BEGIN:DAYLIGHT
TZOFFSETFROM:+0100
TZOFFSETTO:+0200
TZNAME:CEST
DTSTART:20180325T010000
END:DAYLIGHT
BEGIN:STANDARD
TZOFFSETFROM:+0200
TZOFFSETTO:+0100
TZNAME:CET
DTSTART:20181028T010000
END:STANDARD
END:VTIMEZONE
BEGIN:VEVENT
DTSTART;TZID=Europe/Berlin:20170924T103000
DTEND;TZID=Europe/Berlin:20170924T170000
DTSTAMP:20260424T103807
CREATED:20170915T084931Z
LAST-MODIFIED:20170915T091248Z
UID:10000019-1506249000-1506272400@wirundjetzt.org
SUMMARY:Vernetzungstreffen Wandeltreppe
DESCRIPTION:Vernetzungstreffen Wandeltreppe\n\nmit Exkursion zur Gemeinschaftsinitiative Rösslebündt  \nDie Wandeltreppe ladet alle Interessierten herzlich zu einer Wanderung von Krumbach nach Riefensberg ein. Das gemeinsame Ziel: die Gemeinsam-Landwirtschaften-Initiative von Kathrin Salzmann\, Laura Mathies und Stefan Schartlmüller. \nTreffpunkt:Krumbach\, Haltestelle Dorf\, 10:35 Uhr; Wanderzeit nach Riefensberg ca. 1 Stunde \nBusverbindungen nach Krumbach\,Ab Bregenz mit Landbus 25 um 9:50 Uhr Ankunft in Krumbach 10:31 UhrAb Dornbirn mit Landbus 40 um 9:33 Uhr – Umsteigen in Egg (Landbus 25)\, Ankunft in Krumbach um 10:24 Uhr \nFalls jemand lieber gleich ganz zum Hof fährt\, wäre das die Haltestelle Rüstenen in Riefensberg. \nRetour ab Haltestelle Rüstenen gibt`s einen Bus um 17:04 Uhr\, Ankunft Bregenz 18:06 Uhr \nSpeisen für das Mitbring-Buffet: Damit es sich leichter Wandern lässt\, werden Gepäck und die mitgebrachten Speisen mit dem Bus vom Treffpunkt zum Bauernhof gefahren. Was für ein Service! \nAnmeldung (erbeten) und weitere Infos: T: 0650/ 4712900 oder unter k.salzmann@gmx.at 
URL:https://wirundjetzt.org/event/vernetzungstreffen-wandeltreppe/
CATEGORIES:Gesprächsrunde,Vernetzungstreffen,Wanderung
ATTACH;FMTTYPE=image/png:https://wirundjetzt.org/wp-content/uploads/2017/09/wandeltreppe.png
END:VEVENT
END:VCALENDAR