BEGIN:VCALENDAR
VERSION:2.0
PRODID:-//»wirundjetzt« - ECPv6.15.17.1//NONSGML v1.0//EN
CALSCALE:GREGORIAN
METHOD:PUBLISH
X-ORIGINAL-URL:https://wirundjetzt.org
X-WR-CALDESC:Veranstaltungen für »wirundjetzt«
REFRESH-INTERVAL;VALUE=DURATION:PT1H
X-Robots-Tag:noindex
X-PUBLISHED-TTL:PT1H
BEGIN:VTIMEZONE
TZID:Europe/Berlin
BEGIN:DAYLIGHT
TZOFFSETFROM:+0100
TZOFFSETTO:+0200
TZNAME:CEST
DTSTART:20180325T010000
END:DAYLIGHT
BEGIN:STANDARD
TZOFFSETFROM:+0200
TZOFFSETTO:+0100
TZNAME:CET
DTSTART:20181028T010000
END:STANDARD
BEGIN:DAYLIGHT
TZOFFSETFROM:+0100
TZOFFSETTO:+0200
TZNAME:CEST
DTSTART:20190331T010000
END:DAYLIGHT
BEGIN:STANDARD
TZOFFSETFROM:+0200
TZOFFSETTO:+0100
TZNAME:CET
DTSTART:20191027T010000
END:STANDARD
BEGIN:DAYLIGHT
TZOFFSETFROM:+0100
TZOFFSETTO:+0200
TZNAME:CEST
DTSTART:20200329T010000
END:DAYLIGHT
BEGIN:STANDARD
TZOFFSETFROM:+0200
TZOFFSETTO:+0100
TZNAME:CET
DTSTART:20201025T010000
END:STANDARD
END:VTIMEZONE
BEGIN:VEVENT
DTSTART;TZID=Europe/Berlin:20190924T190000
DTEND;TZID=Europe/Berlin:20190924T210000
DTSTAMP:20260421T043941
CREATED:20190921T085907Z
LAST-MODIFIED:20190921T085908Z
UID:10000154-1569351600-1569358800@wirundjetzt.org
SUMMARY:Vortrag "Ursachen und Folgen des Klimawandels" mit David Nelles u. Christian Serrer in Altheim - Frickingen
DESCRIPTION:Vortrag "Ursachen und Folgen des Klimawandels" mit David Nelles u. Christian Serrer in Altheim - Frickingen						\n											\n						\n					\n					\n\n\n\n\nDie Autoren Nelles und Serres des Buches „Kleine Gase -große Wirkung“ sind in Altheim zu Gast und berichten über das selbstrecherchierte Thema Ursachen und Folgen des Klimawandels. \n Hier ein O-Ton der Autoren:\n \n„Da wir kein Buch finden konnten\, das den Klimawandel verständlich auf den Punkt bringt\, haben wir kurzerhand beschlossen\, es selbst zu schreiben!“ Mit der Unterstützung von über 100 renommierten Wissenschaftlern ist den beiden Studenten ein kleines Meisterwerk und ein echter Bestseller gelungen. So schaffen sie es auch in ihren Vorträgen\, in spannender Form und verständlichen Grafiken\, Hintergründe und Zusammenhänge des Klimawandels zu erklären. Keine der aktuell brennenden Fragen lassen die beiden unbeantwortet\, wie zum Beispiel: „Wie groß ist der Beitrag des Menschen tatsächlich? Müssen wir jedes Jahr Ernteausfälle befürchten? Was bedeutet der Klimawandel für unsere Gesundheit? Was kostet uns der Klimawandel?…“  \nEine gemeinsame Veranstaltung der Gemeinde Frickingen\, des Frickinger Energieteams und des Wirtschaftsrates. \nInformationen zum Buch: www.klimawandel-buch.de Bücher können am Bücherstand der Linzgau-Buchhandlung erworben werden.  \nEintritt frei.
URL:https://wirundjetzt.org/event/vortrag-ursachen-und-folgen-des-klimawandels-mit-david-nelles-u-christian-serrer-in-altheim-frickingen/
CATEGORIES:Vortrag
END:VEVENT
END:VCALENDAR