BEGIN:VCALENDAR
VERSION:2.0
PRODID:-//»wirundjetzt« - ECPv6.15.17.1//NONSGML v1.0//EN
CALSCALE:GREGORIAN
METHOD:PUBLISH
X-WR-CALNAME:»wirundjetzt«
X-ORIGINAL-URL:https://wirundjetzt.org
X-WR-CALDESC:Veranstaltungen für »wirundjetzt«
REFRESH-INTERVAL;VALUE=DURATION:PT1H
X-Robots-Tag:noindex
X-PUBLISHED-TTL:PT1H
BEGIN:VTIMEZONE
TZID:Europe/Berlin
BEGIN:DAYLIGHT
TZOFFSETFROM:+0100
TZOFFSETTO:+0200
TZNAME:CEST
DTSTART:20230326T010000
END:DAYLIGHT
BEGIN:STANDARD
TZOFFSETFROM:+0200
TZOFFSETTO:+0100
TZNAME:CET
DTSTART:20231029T010000
END:STANDARD
BEGIN:DAYLIGHT
TZOFFSETFROM:+0100
TZOFFSETTO:+0200
TZNAME:CEST
DTSTART:20240331T010000
END:DAYLIGHT
BEGIN:STANDARD
TZOFFSETFROM:+0200
TZOFFSETTO:+0100
TZNAME:CET
DTSTART:20241027T010000
END:STANDARD
BEGIN:DAYLIGHT
TZOFFSETFROM:+0100
TZOFFSETTO:+0200
TZNAME:CEST
DTSTART:20250330T010000
END:DAYLIGHT
BEGIN:STANDARD
TZOFFSETFROM:+0200
TZOFFSETTO:+0100
TZNAME:CET
DTSTART:20251026T010000
END:STANDARD
END:VTIMEZONE
BEGIN:VEVENT
DTSTART;TZID=Europe/Berlin:20240518T150000
DTEND;TZID=Europe/Berlin:20240518T150000
DTSTAMP:20260420T104258
CREATED:20240510T195457Z
LAST-MODIFIED:20240510T195457Z
UID:10001005-1716044400-1716044400@wirundjetzt.org
SUMMARY:Vortrag Gentechfreie Landschaft Überlingen
DESCRIPTION:Die Gentechfreie Landschaft Überlingen (seit 2004) stellt sich mit einer Vortrags- und Diskussionsveranstaltung vor. \nDie Rednerinnen und Redner sind:\nDr. Luise Zühl\, Biologin Fachgebiet Vollzug Gentechnikgesetz\, Bundesamt für Naturschutz (BfN) \nWerner Obser\, Landwirt Kreisvorsitzender\, Bundesverband Deutscher Milchviehhalter e.V. (BDM) \nHubert Hohler\, Senior Experte Gastronomie Klinik Buchinger-Wilhelmi \nCornelia Wiethaler\, Politologin NABU-Baden-Württemberg Mitglied im Landesvorstand \nHier ein link vom Deutschlandfunk: \nhttps://www.deutschlandfunk.de/ueberlingen-zehn-jahre-ohne-gentechnik-100.html \n2024-05-18 Gentechnik Überlingen St.Leonhard \nKontakt: C.Wiethaler\, gentechfrei@agravivendi.de
URL:https://wirundjetzt.org/event/vortrag-gentechfreie-landschaft-ueberlingen/
CATEGORIES:Vortrag
END:VEVENT
END:VCALENDAR