BEGIN:VCALENDAR
VERSION:2.0
PRODID:-//»wirundjetzt« - ECPv6.15.17.1//NONSGML v1.0//EN
CALSCALE:GREGORIAN
METHOD:PUBLISH
X-WR-CALNAME:»wirundjetzt«
X-ORIGINAL-URL:https://wirundjetzt.org
X-WR-CALDESC:Veranstaltungen für »wirundjetzt«
REFRESH-INTERVAL;VALUE=DURATION:PT1H
X-Robots-Tag:noindex
X-PUBLISHED-TTL:PT1H
BEGIN:VTIMEZONE
TZID:Europe/Berlin
BEGIN:DAYLIGHT
TZOFFSETFROM:+0100
TZOFFSETTO:+0200
TZNAME:CEST
DTSTART:20190331T010000
END:DAYLIGHT
BEGIN:STANDARD
TZOFFSETFROM:+0200
TZOFFSETTO:+0100
TZNAME:CET
DTSTART:20191027T010000
END:STANDARD
BEGIN:DAYLIGHT
TZOFFSETFROM:+0100
TZOFFSETTO:+0200
TZNAME:CEST
DTSTART:20200329T010000
END:DAYLIGHT
BEGIN:STANDARD
TZOFFSETFROM:+0200
TZOFFSETTO:+0100
TZNAME:CET
DTSTART:20201025T010000
END:STANDARD
BEGIN:DAYLIGHT
TZOFFSETFROM:+0100
TZOFFSETTO:+0200
TZNAME:CEST
DTSTART:20210328T010000
END:DAYLIGHT
BEGIN:STANDARD
TZOFFSETFROM:+0200
TZOFFSETTO:+0100
TZNAME:CET
DTSTART:20211031T010000
END:STANDARD
END:VTIMEZONE
BEGIN:VEVENT
DTSTART;TZID=Europe/Berlin:20200622T193000
DTEND;TZID=Europe/Berlin:20200622T213000
DTSTAMP:20260421T120339
CREATED:20200608T070730Z
LAST-MODIFIED:20200609T152959Z
UID:10000208-1592854200-1592861400@wirundjetzt.org
SUMMARY:Gemeinschaften - Zoom Meeting
DESCRIPTION:Austausch und Vernetzung						\n											\n						\n					\n					\n\n\n	Bei den letzten öffentlichen Zoom Meetings kam immer wieder das Thema Gemeinschaften auf. \nDafür möchten wir nun in diesem Call Raum geben. \nRaum für Impulse\, Austausch und Vernetzung. \nWilfried Flatz von Nena e.V. wird einen Impuls zu Finanzierungsmodellen geben und aus seinen Erfahrungen berichten. \nAndere "Experten" sind herzlich willkommen sich einzubringen. \nWenn Du Interesse an dem Thema hast\, dann laden wir dich hiermit herzlich ein. \nSei dabei und vernetze dich mit gleich gesinnten. \nTermin: 22.06. \nUhrzeit: 19.30 bis 21.30 \nZoom Link: https://us02web.zoom.us/j/87377955980?pwd=bm5XR0lDYVBHUjVPa0ZmVUM4dDFyUT09 \n  \nHier eine Übersicht von Gemeinschaften in der Bodenseeregion - und es werden ständig mehr Pojekte gegründet und Initiativen machen sich auf den Weg. \nhttps://wirundjetzt.org/netzwerk/netzwerkpartner/ \nDort findet ihr unter dem Punkt Gemeinschaften viele inspirierende Projekte in der Region! \nWir freuen uns auf dich. \nMit herzlichen Grüßen \nSarina und Simon
URL:https://wirundjetzt.org/event/gemeinschaften-zoom-meeting/
CATEGORIES:Dialog,Gesprächsrunde,Nachhaltigkeit,Vernetzungstreffen,Wandel
END:VEVENT
END:VCALENDAR