BEGIN:VCALENDAR
VERSION:2.0
PRODID:-//»wirundjetzt« - ECPv6.15.17.1//NONSGML v1.0//EN
CALSCALE:GREGORIAN
METHOD:PUBLISH
X-ORIGINAL-URL:https://wirundjetzt.org
X-WR-CALDESC:Veranstaltungen für »wirundjetzt«
REFRESH-INTERVAL;VALUE=DURATION:PT1H
X-Robots-Tag:noindex
X-PUBLISHED-TTL:PT1H
BEGIN:VTIMEZONE
TZID:Europe/Berlin
BEGIN:DAYLIGHT
TZOFFSETFROM:+0100
TZOFFSETTO:+0200
TZNAME:CEST
DTSTART:20190331T010000
END:DAYLIGHT
BEGIN:STANDARD
TZOFFSETFROM:+0200
TZOFFSETTO:+0100
TZNAME:CET
DTSTART:20191027T010000
END:STANDARD
BEGIN:DAYLIGHT
TZOFFSETFROM:+0100
TZOFFSETTO:+0200
TZNAME:CEST
DTSTART:20200329T010000
END:DAYLIGHT
BEGIN:STANDARD
TZOFFSETFROM:+0200
TZOFFSETTO:+0100
TZNAME:CET
DTSTART:20201025T010000
END:STANDARD
BEGIN:DAYLIGHT
TZOFFSETFROM:+0100
TZOFFSETTO:+0200
TZNAME:CEST
DTSTART:20210328T010000
END:DAYLIGHT
BEGIN:STANDARD
TZOFFSETFROM:+0200
TZOFFSETTO:+0100
TZNAME:CET
DTSTART:20211031T010000
END:STANDARD
END:VTIMEZONE
BEGIN:VEVENT
DTSTART;TZID=Europe/Berlin:20201125T150000
DTEND;TZID=Europe/Berlin:20201125T180000
DTSTAMP:20260423T061454
CREATED:20201116T103234Z
LAST-MODIFIED:20201116T103235Z
UID:10000657-1606316400-1606327200@wirundjetzt.org
SUMMARY:Online-Veranstaltung: Art of Hosting - ein ImpulsWorkshop
DESCRIPTION:Online-Veranstaltung: Art of Hosting - ein ImpulsWorkshop						\n											\n						\n					\n					\n\n\n	Brücken bauen in einer sich spaltenden Gesellschaft\nDie Gesellschaft spaltet sich zunehmend. Wie können wir kreativ und respektvoll zukunftsweisende Diskurse führen und Gräben überwinden? Wie gelingt es\, Brücken zu bauen? \nDiese Fragen suchen einen besonderen Dialograum:\nArt of Hosting ist eine geeignete Methode und Haltung für ein kollegiales Miteinander\, Lernen und Entwickeln von Inspiration\, Ideen und Projekten - weil längst jede Position und jeder Blickwinkel zur Lösung unserer gesellschaftspolitischen Probleme zählt. \nEs wurde ein AoH-Impuls-Workshop entwickelt wozu herzlich eingeladen wird\, miteinander zu diskutieren. \nLernt dabei die Gastlichkeit im Dialogischen eines Art of Hosting-Prozesses kennen! \n  \nReferentinnen/Referenten\nVanessa Edmeier\nHochrheinkommission\, Waldshut-Tiengen \nDr.in Martina Handler\nÖsterreichische Gesellschaft für Umwelt & Technik\, Wien\nwww.partizipation.at \nDaniel Oppold\nInstitute for Advanced Sustainability Studies e.V. (IASS)\, Potsdam \nRobert Pakleppa\n"wesentlich sein" - Führungskräfte- & TeamCoach wesentlich sein\,\, Lindau\nwww.robertpakleppa.de \nSusann Schäfer\nStaatsministerium Baden-Württemberg\, Stabsstelle der Staatsrätin für Zivilgesellschaft und Bürgerbeteiligung\, Stuttgart \nDr. Thomas Uhlendahl\nBüro memoU\, Freiburg\ninfo@memo-u.de \n  \nMehr Informationen und Anmeldung hier:\nhttps://www.ev-akademie-boll.de/tagung/331920.html
URL:https://wirundjetzt.org/event/online-veranstaltung-art-of-hosting-ein-impulsworkshop/
CATEGORIES:online-meeting
END:VEVENT
END:VCALENDAR