BEGIN:VCALENDAR
VERSION:2.0
PRODID:-//»wirundjetzt« - ECPv6.15.17.1//NONSGML v1.0//EN
CALSCALE:GREGORIAN
METHOD:PUBLISH
X-ORIGINAL-URL:https://wirundjetzt.org
X-WR-CALDESC:Veranstaltungen für »wirundjetzt«
REFRESH-INTERVAL;VALUE=DURATION:PT1H
X-Robots-Tag:noindex
X-PUBLISHED-TTL:PT1H
BEGIN:VTIMEZONE
TZID:Europe/Berlin
BEGIN:DAYLIGHT
TZOFFSETFROM:+0100
TZOFFSETTO:+0200
TZNAME:CEST
DTSTART:20180325T010000
END:DAYLIGHT
BEGIN:STANDARD
TZOFFSETFROM:+0200
TZOFFSETTO:+0100
TZNAME:CET
DTSTART:20181028T010000
END:STANDARD
BEGIN:DAYLIGHT
TZOFFSETFROM:+0100
TZOFFSETTO:+0200
TZNAME:CEST
DTSTART:20190331T010000
END:DAYLIGHT
BEGIN:STANDARD
TZOFFSETFROM:+0200
TZOFFSETTO:+0100
TZNAME:CET
DTSTART:20191027T010000
END:STANDARD
BEGIN:DAYLIGHT
TZOFFSETFROM:+0100
TZOFFSETTO:+0200
TZNAME:CEST
DTSTART:20200329T010000
END:DAYLIGHT
BEGIN:STANDARD
TZOFFSETFROM:+0200
TZOFFSETTO:+0100
TZNAME:CET
DTSTART:20201025T010000
END:STANDARD
END:VTIMEZONE
BEGIN:VEVENT
DTSTART;TZID=Europe/Berlin:20190925T090000
DTEND;TZID=Europe/Berlin:20190925T150000
DTSTAMP:20260425T031102
CREATED:20190912T101001Z
LAST-MODIFIED:20190912T101002Z
UID:10000547-1569402000-1569423600@wirundjetzt.org
SUMMARY:1. Schüler-Klimagipfel in Friedrichshafen
DESCRIPTION:1. Schüler-Klimagipfel in Friedrichshafen						\n											\n						\n					\n					\n\n\n	Erstmals findet in Baden-Württemberg ein Schüler-Klimagipfel für Jugendliche aus den 9. und 10. Klassen statt. \nEr gibt Einblicke in die Klimaforschung und die Auswirkungen des Klimawandels – weltweit und in der Region -. Im Mittelpunkte stehen Lösungen und der Aufruf zur Mitgestaltung der Klimazukunft. \nWeitere Informationen : \n  \nhttps://www.bodenseekreis.de/de/umwelt-landnutzung/energie-klimaschutz/schuelerklimagipfel/
URL:https://wirundjetzt.org/event/1-schueler-klimagipfel-in-friedrichshafen/
CATEGORIES:Konferenz
END:VEVENT
END:VCALENDAR