BEGIN:VCALENDAR
VERSION:2.0
PRODID:-//»wirundjetzt« - ECPv6.15.17.1//NONSGML v1.0//EN
CALSCALE:GREGORIAN
METHOD:PUBLISH
X-ORIGINAL-URL:https://wirundjetzt.org
X-WR-CALDESC:Veranstaltungen für »wirundjetzt«
REFRESH-INTERVAL;VALUE=DURATION:PT1H
X-Robots-Tag:noindex
X-PUBLISHED-TTL:PT1H
BEGIN:VTIMEZONE
TZID:Europe/Berlin
BEGIN:DAYLIGHT
TZOFFSETFROM:+0100
TZOFFSETTO:+0200
TZNAME:CEST
DTSTART:20200329T010000
END:DAYLIGHT
BEGIN:STANDARD
TZOFFSETFROM:+0200
TZOFFSETTO:+0100
TZNAME:CET
DTSTART:20201025T010000
END:STANDARD
BEGIN:DAYLIGHT
TZOFFSETFROM:+0100
TZOFFSETTO:+0200
TZNAME:CEST
DTSTART:20210328T010000
END:DAYLIGHT
BEGIN:STANDARD
TZOFFSETFROM:+0200
TZOFFSETTO:+0100
TZNAME:CET
DTSTART:20211031T010000
END:STANDARD
BEGIN:DAYLIGHT
TZOFFSETFROM:+0100
TZOFFSETTO:+0200
TZNAME:CEST
DTSTART:20220327T010000
END:DAYLIGHT
BEGIN:STANDARD
TZOFFSETFROM:+0200
TZOFFSETTO:+0100
TZNAME:CET
DTSTART:20221030T010000
END:STANDARD
END:VTIMEZONE
BEGIN:VEVENT
DTSTART;TZID=Europe/Berlin:20210213T170000
DTEND;TZID=Europe/Berlin:20210213T183000
DTSTAMP:20260425T015835
CREATED:20210207T112033Z
LAST-MODIFIED:20210207T112745Z
UID:10000263-1613235600-1613241000@wirundjetzt.org
SUMMARY:Samenfest - Online-Workshop – Gärtnern auf kleinem Raum
DESCRIPTION:Wir gärtnern nun erst recht! Das jährliche Rapunzel SamenFest hat längst Kultstatus erreicht mit Saatgutbörse\, Fachvorträgen und jeder Menge guten Laune. Dieses Jahr findet das 9. SamenFest in Form eines Online-Workshops mit Livestream statt: Bio-Gärtnermeister Christian Herb erklärt für Einsteiger und Fortgeschrittene alles rund um den eigenen Garten auf kleinstem Raum.\nOb Urban Gardening auf der Dachterrasse\, einem kleinen Innenhof oder dem Balkon\, ob in Pflanzkübel und Kisten oder auch nur auf der Fensterbank ؘ– schon die kleinste Anbaufläche reicht\, um zusammen mit Lust auf selbst gezogene Pflanzen und ein wenig Kreativität ganz viel Farbe und Frische ins Leben zu bringen. Frischer\, regionaler und saisonaler geht Bio-Gemüse nicht!\nUnd das können wir alle. Denn gärtnerische Vorkenntnisse sind dafür nicht zwingend notwendig. Bio-Gärtner Christian Herb zeigt im Live-Workshop alles\, was Sie wissen müssen\, um selbst Ihren kleinen Gemüsegarten zum Blühen zu bringen.\nTipps und Tricks von Bio-Gärtner Christian Herb\nLive-Workshop: Urban Gardening – Gärtnern auf kleinstem Raum. So geht’s!\nTipps & Tricks für den Start zum eigenen Gemüse- und Obstanbau\nMit Bio-Gärtnermeister Christian Herb\nSamstag\, 13. Februar 2021\, 17 Uhr\nKostenfrei und ohne Anmeldung \nYoutube Livestream
URL:https://wirundjetzt.org/event/samenfest-online-workshop-gaertnern-auf-kleinem-raum/
LOCATION:online
CATEGORIES:Vortrag,Workshop
ATTACH;FMTTYPE=image/jpeg:https://wirundjetzt.org/wp-content/uploads/2021/02/urban-gardening-live-workshop.jpg
ORGANIZER;CN="Rapunzel Naturkost":MAILTO:info@rapunzel.de
END:VEVENT
END:VCALENDAR