BEGIN:VCALENDAR
VERSION:2.0
PRODID:-//»wirundjetzt« - ECPv6.15.17.1//NONSGML v1.0//EN
CALSCALE:GREGORIAN
METHOD:PUBLISH
X-WR-CALNAME:»wirundjetzt«
X-ORIGINAL-URL:https://wirundjetzt.org
X-WR-CALDESC:Veranstaltungen für »wirundjetzt«
REFRESH-INTERVAL;VALUE=DURATION:PT1H
X-Robots-Tag:noindex
X-PUBLISHED-TTL:PT1H
BEGIN:VTIMEZONE
TZID:Europe/Berlin
BEGIN:DAYLIGHT
TZOFFSETFROM:+0100
TZOFFSETTO:+0200
TZNAME:CEST
DTSTART:20170326T010000
END:DAYLIGHT
BEGIN:STANDARD
TZOFFSETFROM:+0200
TZOFFSETTO:+0100
TZNAME:CET
DTSTART:20171029T010000
END:STANDARD
BEGIN:DAYLIGHT
TZOFFSETFROM:+0100
TZOFFSETTO:+0200
TZNAME:CEST
DTSTART:20180325T010000
END:DAYLIGHT
BEGIN:STANDARD
TZOFFSETFROM:+0200
TZOFFSETTO:+0100
TZNAME:CET
DTSTART:20181028T010000
END:STANDARD
BEGIN:DAYLIGHT
TZOFFSETFROM:+0100
TZOFFSETTO:+0200
TZNAME:CEST
DTSTART:20190331T010000
END:DAYLIGHT
BEGIN:STANDARD
TZOFFSETFROM:+0200
TZOFFSETTO:+0100
TZNAME:CET
DTSTART:20191027T010000
END:STANDARD
END:VTIMEZONE
BEGIN:VEVENT
DTSTART;TZID=Europe/Berlin:20180317T100000
DTEND;TZID=Europe/Berlin:20180317T150000
DTSTAMP:20260425T164943
CREATED:20180129T190115Z
LAST-MODIFIED:20180311T084540Z
UID:10000231-1521280800-1521298800@wirundjetzt.org
SUMMARY:2. Oberschwäbisches Saatgut-Festival - Bad Schussenried
DESCRIPTION:Tag des offenen Gartens in Salem						\n											\n						\n					\n					\n\n\n	Wir treffen uns zum Kennenlernen des Samengartens und zum Austausch mit anderen Saatgut-Interessent(in)en. \nIhr werdet um 12:00 Uhr mit einem musikalischen Spaziergang durch den Garten empfangen. Anschließend gibt es Pizza\, Eis und Kaffee und Kuchen; alles in Bioqualität.\nNach Bedarf bieten wir Führungen an und wollen Raum schaffen\, um sich über die verschiedenen Pflanzen\, Bearbeitungstechniken und vieles mehr unterhalten zu können.\nAuch der Streichelzoo darf nicht fehlen\, auf den sich jetzt schon unsere Schafe und Schweinchen freuen. \nParkmöglichkeiten befinden sich an der Abzweigung des Feldwegs zum Samengarten und sind beschildert. \nAnfahrt: \n\n\nSie sehen gerade einen Platzhalterinhalt von Standard. Um auf den eigentlichen Inhalt zuzugreifen\, klicken Sie auf den Button unten. Bitte beachten Sie\, dass dabei Daten an Drittanbieter weitergegeben werden. \n Inhalt entsperren Erforderlichen Service akzeptieren und Inhalte entsperren \n Weitere Informationen
URL:https://wirundjetzt.org/event/2-oberschwaebisches-saatgut-festival/
CATEGORIES:Festival,Kultur,Nachhaltigkeit,Ökologie,Vortrag
ATTACH;FMTTYPE=image/jpeg:https://wirundjetzt.org/wp-content/uploads/2018/01/26814840_1785240564839568_3608688721486296000_n.jpg
END:VEVENT
END:VCALENDAR