BEGIN:VCALENDAR
VERSION:2.0
PRODID:-//»wirundjetzt« - ECPv6.15.17.1//NONSGML v1.0//EN
CALSCALE:GREGORIAN
METHOD:PUBLISH
X-ORIGINAL-URL:https://wirundjetzt.org
X-WR-CALDESC:Veranstaltungen für »wirundjetzt«
REFRESH-INTERVAL;VALUE=DURATION:PT1H
X-Robots-Tag:noindex
X-PUBLISHED-TTL:PT1H
BEGIN:VTIMEZONE
TZID:Europe/Berlin
BEGIN:DAYLIGHT
TZOFFSETFROM:+0100
TZOFFSETTO:+0200
TZNAME:CEST
DTSTART:20190331T010000
END:DAYLIGHT
BEGIN:STANDARD
TZOFFSETFROM:+0200
TZOFFSETTO:+0100
TZNAME:CET
DTSTART:20191027T010000
END:STANDARD
BEGIN:DAYLIGHT
TZOFFSETFROM:+0100
TZOFFSETTO:+0200
TZNAME:CEST
DTSTART:20200329T010000
END:DAYLIGHT
BEGIN:STANDARD
TZOFFSETFROM:+0200
TZOFFSETTO:+0100
TZNAME:CET
DTSTART:20201025T010000
END:STANDARD
BEGIN:DAYLIGHT
TZOFFSETFROM:+0100
TZOFFSETTO:+0200
TZNAME:CEST
DTSTART:20210328T010000
END:DAYLIGHT
BEGIN:STANDARD
TZOFFSETFROM:+0200
TZOFFSETTO:+0100
TZNAME:CET
DTSTART:20211031T010000
END:STANDARD
END:VTIMEZONE
BEGIN:VEVENT
DTSTART;VALUE=DATE:20201124
DTEND;VALUE=DATE:20201126
DTSTAMP:20260420T215216
CREATED:20201122T073411Z
LAST-MODIFIED:20201122T073412Z
UID:10000658-1606176000-1606348799@wirundjetzt.org
SUMMARY:online :  „Sicherheit neu denken“ der Friedensregion Bodensee
DESCRIPTION:online :  „Sicherheit neu denken“ der Friedensregion Bodensee						\n											\n						\n					\n					\n\n\n	Wie kann das Szenario von „Sicherheit neu denken“ konkret und wirksam 2021 in Überlingen und Umgebung  umgesetzt werden? \nStatt die analogen Veranstaltungen wegen Corona einfach nur abzusagen\, haben wir uns entschieden\, diese immer drängender werdenden Themen online durchzuführen! \nDi 24. Nov.\,    17-19 Uhr online \n               „Verantwortung  neu denken – von der militärischen zur zivilen Konfliktlösung.“ \nSzenario der evang. Landeskirchen in Deutschland. \nVortrag und Gespräch mit  Ralf Becker\, Projektkoordinator der Badischen Landeskirche. \n  \n  \nMi 25.Nov. \,    9-16 Uhr  online \n\n Überlinger „Frieden-Stifter-Tag“\n\nThema: Wie können wir das Szenario konkret 2021 in Überlingen und Umgebung  umsetzen? \n- Workshop mit  Ralf Becker. \n               Anmeldung bis 22.11. erbeten über  FriedenStifterTag@posteo.de \nSiehe Infos  auf www.friedensregion-bodensee.de \n  \n \n  \n  \nBitte meldet Euch bis zum 22.11.2020  über die Mail-Adresse FriedenStifterTag@posteo.de an\, damit wir Euch die Zugangsdaten mailen können. \nEine Aufzeichnung wird später von dort abrufbar sein. \n 
URL:https://wirundjetzt.org/event/online-sicherheit-neu-denken-der-friedensregion-bodensee/
CATEGORIES:zoommeeting
END:VEVENT
END:VCALENDAR