BEGIN:VCALENDAR
VERSION:2.0
PRODID:-//»wirundjetzt« - ECPv6.15.17.1//NONSGML v1.0//EN
CALSCALE:GREGORIAN
METHOD:PUBLISH
X-ORIGINAL-URL:https://wirundjetzt.org
X-WR-CALDESC:Veranstaltungen für »wirundjetzt«
REFRESH-INTERVAL;VALUE=DURATION:PT1H
X-Robots-Tag:noindex
X-PUBLISHED-TTL:PT1H
BEGIN:VTIMEZONE
TZID:Europe/Berlin
BEGIN:DAYLIGHT
TZOFFSETFROM:+0100
TZOFFSETTO:+0200
TZNAME:CEST
DTSTART:20240331T010000
END:DAYLIGHT
BEGIN:STANDARD
TZOFFSETFROM:+0200
TZOFFSETTO:+0100
TZNAME:CET
DTSTART:20241027T010000
END:STANDARD
BEGIN:DAYLIGHT
TZOFFSETFROM:+0100
TZOFFSETTO:+0200
TZNAME:CEST
DTSTART:20250330T010000
END:DAYLIGHT
BEGIN:STANDARD
TZOFFSETFROM:+0200
TZOFFSETTO:+0100
TZNAME:CET
DTSTART:20251026T010000
END:STANDARD
BEGIN:DAYLIGHT
TZOFFSETFROM:+0100
TZOFFSETTO:+0200
TZNAME:CEST
DTSTART:20260329T010000
END:DAYLIGHT
BEGIN:STANDARD
TZOFFSETFROM:+0200
TZOFFSETTO:+0100
TZNAME:CET
DTSTART:20261025T010000
END:STANDARD
END:VTIMEZONE
BEGIN:VEVENT
DTSTART;TZID=Europe/Berlin:20250412T100000
DTEND;TZID=Europe/Berlin:20250412T130000
DTSTAMP:20260423T030407
CREATED:20250312T191443Z
LAST-MODIFIED:20250312T193039Z
UID:10001354-1744452000-1744462800@wirundjetzt.org
SUMMARY:Müllsammel-Spaziergang im Deggenhausertal
DESCRIPTION:Deggenhausertal\nMüllsammel-Spaziergang im Deggenhausertal\nSauberes D-Tal !\n\nWann:   Sa 12.04.2024\, 10.00 – 13.00 Uhr\nTreffpunkt:  Vor dem Eingang des Rathauses\, Rathausplatz 1\, 88693 Deggenhausertal-Wittenhofen.\nDie Mitmach-Region Deggenhausertal ruft zu einem Müllsammel-Spaziergang im Deggenhausertal auf.\nAm Beginn des Müllsammel-Spaziergangs wird bekannt gegeben\, wo Müll gesammelt werden soll und wo dann die Müllsäcke abgegeben werden können. \nDie Teilnehmer werden gebeten\, eigenes Material zum Müll sammeln mitzubringen. Dies wären: 1- 2 feste Müllsäcke\, Handschuhe\, ein 10 l Eimer (optional)\, Greifgabeln (wer hat). \nDie Müll-Sammelaktion findet bei jedem Wetter statt. \n 
URL:https://wirundjetzt.org/event/muellsammel-spaziergang-im-deggenhausertal/
LOCATION:Vor dem Rathaus in Wittenhofen
CATEGORIES:Mitmach-Region Deggenhausertal,Projekt der Mitmach-Region Deggenhausertal,»wirundjetzt«-Veranstaltung
END:VEVENT
BEGIN:VEVENT
DTSTART;TZID=Europe/Berlin:20250424T190000
DTEND;TZID=Europe/Berlin:20250424T210000
DTSTAMP:20260423T030407
CREATED:20241106T171332Z
LAST-MODIFIED:20241106T171332Z
UID:10001303-1745521200-1745528400@wirundjetzt.org
SUMMARY:Tauschtreffen von Talente Bodensee-Allgäu\, Regionaltreffen Wangen
DESCRIPTION:Donnerstag\, 24. April 2025 19:00 Uhr  Tauschtreffen von TALBO in Wangen\, Speisesaal der Talanderschule \n\n\nDer Tauschring Talente Allgäu-Bodenseebietet eine Plattform zum Austausch von Dienstleistungen und Waren.\nMitmachen können alle\, die die Grundsätze akzeptieren\, egal welchen Alters und mit welchen Fähigkeiten.\nDer Tausch wird ohne gesetzliche Zahlungsmittel durchgeführt\, jedoch auf entsprechenden Konten transparent dokumentiert.\nDie Verrechnungseinheit ist ein Talent.\nTalente Allgäu Bodensee basiert auf: \n\ngelebter Menschlichkeit\neiner Gemeinschaft von Menschen\, Organisationen\, Institutionen und Unternehmen\,\ndie lokale Nachbarschaftshilfe fördern\nRegionalität\, Nachhaltigkeit\nAustausch von Erfahrung und Wissen\nreparieren statt wegwerfen
URL:https://wirundjetzt.org/event/tauschtreffen-von-talente-bodensee-allgaeu-regionaltreffen-wangen-10/
LOCATION:Talanderschule\, Christian-Fopp-Str. 4\, Wangen\, 88239\, Deutschland
CATEGORIES:Tauschtreffen
END:VEVENT
END:VCALENDAR