BEGIN:VCALENDAR
VERSION:2.0
PRODID:-//»wirundjetzt« - ECPv6.15.17.1//NONSGML v1.0//EN
CALSCALE:GREGORIAN
METHOD:PUBLISH
X-ORIGINAL-URL:https://wirundjetzt.org
X-WR-CALDESC:Veranstaltungen für »wirundjetzt«
REFRESH-INTERVAL;VALUE=DURATION:PT1H
X-Robots-Tag:noindex
X-PUBLISHED-TTL:PT1H
BEGIN:VTIMEZONE
TZID:Europe/Berlin
BEGIN:DAYLIGHT
TZOFFSETFROM:+0100
TZOFFSETTO:+0200
TZNAME:CEST
DTSTART:20180325T010000
END:DAYLIGHT
BEGIN:STANDARD
TZOFFSETFROM:+0200
TZOFFSETTO:+0100
TZNAME:CET
DTSTART:20181028T010000
END:STANDARD
BEGIN:DAYLIGHT
TZOFFSETFROM:+0100
TZOFFSETTO:+0200
TZNAME:CEST
DTSTART:20190331T010000
END:DAYLIGHT
BEGIN:STANDARD
TZOFFSETFROM:+0200
TZOFFSETTO:+0100
TZNAME:CET
DTSTART:20191027T010000
END:STANDARD
BEGIN:DAYLIGHT
TZOFFSETFROM:+0100
TZOFFSETTO:+0200
TZNAME:CEST
DTSTART:20200329T010000
END:DAYLIGHT
BEGIN:STANDARD
TZOFFSETFROM:+0200
TZOFFSETTO:+0100
TZNAME:CET
DTSTART:20201025T010000
END:STANDARD
END:VTIMEZONE
BEGIN:VEVENT
DTSTART;TZID=Europe/Berlin:20191119T160000
DTEND;TZID=Europe/Berlin:20191119T220000
DTSTAMP:20260425T040628
CREATED:20191104T103442Z
LAST-MODIFIED:20191104T103443Z
UID:10000576-1574179200-1574200800@wirundjetzt.org
SUMMARY:Bürgerdialog: “Welt:Bürger gefragt!” in Ravensburg
DESCRIPTION:Bürgerdialog: “Welt:Bürger gefragt!” in Ravensburg						\n											\n						\n					\n					\n\n\n\n\nFreut Euch auf einen anregenden Abend und nutztdie Möglichkeit\, eigene Erfahrungen\, Fragen und Forderungen mit zahlreichen lokalen Akteuren auszutauschen und sich gegenüber Vertreter*innen aus der Politik Gehör zu verschaffen.\nRund 30 Impulsgeber*innen\, Infostände und spannende Gäste zeichnen ein aktuelles Bild der Eine-Welt-Aktivitäten in unserer Region und laden ein\, das zivilgesellschaftliche Engagement hier weiter zu vernetzen und zu stärken.\n\nDas genaue Programm und alle Themen entnehmt bitte der beigefügten Einladung.\n  \nEZDialog_Regionalkonferenz_November_web-1
URL:https://wirundjetzt.org/event/buergerdialog-weltbuerger-gefragt-in-ravensburg/
CATEGORIES:Konferenz
END:VEVENT
BEGIN:VEVENT
DTSTART;TZID=Europe/Berlin:20191128T183000
DTEND;TZID=Europe/Berlin:20191128T193000
DTSTAMP:20260425T040628
CREATED:20191028T113606Z
LAST-MODIFIED:20191028T113606Z
UID:10000572-1574965800-1574969400@wirundjetzt.org
SUMMARY:2. Klimademo in Markdorf
DESCRIPTION:2. Klimademo in Markdorf						\n											\n						\n					\n					\n\n\n\n\nNachtumzug in Markdorf am Vorabend des globalen Streiktages.
URL:https://wirundjetzt.org/event/2-klimademo-in-markdorf/
CATEGORIES:demo
END:VEVENT
BEGIN:VEVENT
DTSTART;TZID=Europe/Berlin:20191129T140000
DTEND;TZID=Europe/Berlin:20191129T160000
DTSTAMP:20260425T040628
CREATED:20191125T191344Z
LAST-MODIFIED:20191125T191346Z
UID:10000170-1575036000-1575043200@wirundjetzt.org
SUMMARY:CIRCLE-Termin - Infoveranstaltung des internationalen Forums für Nachhaltigkeit in Wangen
DESCRIPTION:CIRCLE-Termin - Infoveranstaltung des internationalen Forums für Nachhaltigkeit in Wangen						\n											\n						\n					\n					\n\n\n\n\nDer IFN Internationalen Forum der Nachhaltigkeit bietet eine unabhängige Plattform für die Vernetzung und den Wissensaustausch rund um das Thema nachhaltige Entwicklung. \nExklusive Informationen von ausgesuchten Wissensträgern aus den unterschiedlichsten Bereichen und Erfahrungen von innovativen Unternehmen werden weitergeben\, für die das Thema Nachhaltigkeit schon fester Bestandteil der Firmenstrategie ist. \nEure Planung\, Promotion sowie Durchführung von Events zum Thema Nachhaltigkeit werden von IFN unterstützt\,  damit wird eine bessere Wahrnehmung und Sichtbarkeit Eurer Aktivitäten in der Öffentlichkeit gefördert. \nNutz diese Chance für Euer Unternehmen und startet noch stärker als bisher mit Nachhaltigkeit in die Zukunft! \nNutzt das Netzwerk von aktuell bereits 3.000 Aktivpartnern. \nDas Internationale Forum der Nachhaltigkeit unterstützt\, begleitet\, fördert und vernetzt Unternehmen in seinen Nachhaltigkeitsaktivitäten. \nDas Internationale Forum der Nachhaltigkeit fördert mit den Mitgliedsbeiträgen seiner Aktivpartner / Donatoren weltweite Nachhaltigkeitsprojekte. \n  \nwww.ifn.eco
URL:https://wirundjetzt.org/event/circle-termin-infoveranstaltung-des-internationalen-forums-fuer-nachhaltigkeit-in-wangen/
CATEGORIES:Infoabend,Nachhaltigkeit
END:VEVENT
END:VCALENDAR