BEGIN:VCALENDAR
VERSION:2.0
PRODID:-//»wirundjetzt« - ECPv6.15.17.1//NONSGML v1.0//EN
CALSCALE:GREGORIAN
METHOD:PUBLISH
X-ORIGINAL-URL:https://wirundjetzt.org
X-WR-CALDESC:Veranstaltungen für »wirundjetzt«
REFRESH-INTERVAL;VALUE=DURATION:PT1H
X-Robots-Tag:noindex
X-PUBLISHED-TTL:PT1H
BEGIN:VTIMEZONE
TZID:Europe/Berlin
BEGIN:DAYLIGHT
TZOFFSETFROM:+0100
TZOFFSETTO:+0200
TZNAME:CEST
DTSTART:20190331T010000
END:DAYLIGHT
BEGIN:STANDARD
TZOFFSETFROM:+0200
TZOFFSETTO:+0100
TZNAME:CET
DTSTART:20191027T010000
END:STANDARD
BEGIN:DAYLIGHT
TZOFFSETFROM:+0100
TZOFFSETTO:+0200
TZNAME:CEST
DTSTART:20200329T010000
END:DAYLIGHT
BEGIN:STANDARD
TZOFFSETFROM:+0200
TZOFFSETTO:+0100
TZNAME:CET
DTSTART:20201025T010000
END:STANDARD
BEGIN:DAYLIGHT
TZOFFSETFROM:+0100
TZOFFSETTO:+0200
TZNAME:CEST
DTSTART:20210328T010000
END:DAYLIGHT
BEGIN:STANDARD
TZOFFSETFROM:+0200
TZOFFSETTO:+0100
TZNAME:CET
DTSTART:20211031T010000
END:STANDARD
END:VTIMEZONE
BEGIN:VEVENT
DTSTART;TZID=Europe/Berlin:20200401T193000
DTEND;TZID=Europe/Berlin:20200401T193000
DTSTAMP:20260422T003603
CREATED:20200202T191340Z
LAST-MODIFIED:20200202T191341Z
UID:10000596-1585769400-1585769400@wirundjetzt.org
SUMMARY:Mehr Wildnis wagen - ein Garten als Insektenparadies in Ravensburg
DESCRIPTION:Mehr Wildnis wagen - ein Garten als Insektenparadies in Ravensburg						\n											\n						\n					\n					\n\n\n\n\nWie viele Tierarten kann man eigentlich in einem Garten finden? Das war die Ausgangsfrage\, die zu einer jahrelangen intensiven Auseinandersetzung mit der heimischen Fauna und den Bedingungen für ein artenreiches Grundstück führte. Lennart Bendixen zeigt nun die interessantesten Lebensweisen und Situationen\, die er im extensiv gepflegten\, totholzreichen Garten in Mohrkirch (Angeln) beobachtet und fotografiert hat und beleuchtet diese mit ökologischen Hintergründen. Den Schwerpunkt bilden hierbei die kleinen und eher unbekannten Tierarten\, die oftmals gar nicht wahrgenommen werden. \nTeil 2 des Abends: Ausführliche Erläuterung wie man selbst im Garten erfolgreich eine Blühfläche anlegt. \n\n\nReferent: Lennart Bendixen
URL:https://wirundjetzt.org/event/mehr-wildnis-wagen-ein-garten-als-insektenparadies-in-ravensburg/
CATEGORIES:Vortrag
END:VEVENT
END:VCALENDAR