BEGIN:VCALENDAR
VERSION:2.0
PRODID:-//»wirundjetzt« - ECPv6.15.17.1//NONSGML v1.0//EN
CALSCALE:GREGORIAN
METHOD:PUBLISH
X-WR-CALNAME:»wirundjetzt«
X-ORIGINAL-URL:https://wirundjetzt.org
X-WR-CALDESC:Veranstaltungen für »wirundjetzt«
REFRESH-INTERVAL;VALUE=DURATION:PT1H
X-Robots-Tag:noindex
X-PUBLISHED-TTL:PT1H
BEGIN:VTIMEZONE
TZID:Europe/Berlin
BEGIN:DAYLIGHT
TZOFFSETFROM:+0100
TZOFFSETTO:+0200
TZNAME:CEST
DTSTART:20240331T010000
END:DAYLIGHT
BEGIN:STANDARD
TZOFFSETFROM:+0200
TZOFFSETTO:+0100
TZNAME:CET
DTSTART:20241027T010000
END:STANDARD
BEGIN:DAYLIGHT
TZOFFSETFROM:+0100
TZOFFSETTO:+0200
TZNAME:CEST
DTSTART:20250330T010000
END:DAYLIGHT
BEGIN:STANDARD
TZOFFSETFROM:+0200
TZOFFSETTO:+0100
TZNAME:CET
DTSTART:20251026T010000
END:STANDARD
BEGIN:DAYLIGHT
TZOFFSETFROM:+0100
TZOFFSETTO:+0200
TZNAME:CEST
DTSTART:20260329T010000
END:DAYLIGHT
BEGIN:STANDARD
TZOFFSETFROM:+0200
TZOFFSETTO:+0100
TZNAME:CET
DTSTART:20261025T010000
END:STANDARD
END:VTIMEZONE
BEGIN:VEVENT
DTSTART;TZID=Europe/Berlin:20250926T180000
DTEND;TZID=Europe/Berlin:20250926T213000
DTSTAMP:20260422T090941
CREATED:20250726T161503Z
LAST-MODIFIED:20250924T123957Z
UID:10001388-1758909600-1758922200@wirundjetzt.org
SUMMARY:Karte der Verbundenheit für das Deggenhausertal
DESCRIPTION:Karte der Verbundenheit für das Deggenhausertal\nTreffen am Freitag\, 26.09.2025 im Feuerwehrgerätehaus in 88693 Deggenhausertal-Wittenhofen\, Schulweg 9\, 18.00 – 21.30 Uhr.\nGemeinsam das Geheimnis unseres Tales erforschen! \nEine Veranstaltung mit Impulsen von Susanne Fischer-Rizzi. \nIm Deggenhausertal wohnen viele Familien schon über Generationen\, haben vieles bewegt\, entwickelt und viel(e) Geschichte(n) erlebt und geschrieben. Andere sind mit frischem Blick und vielfältiger Expertise zugezogen. Wenn wir gemeinsam all das Wissen über die Geschichte\, die Tiere\, die Pflanzen\, den Boden und die Besonderheiten unseres Tales zusammentragen\, entsteht eine Karte der Verbundenheit. \nAuf Grundlage der Wanderkarte 1:25000 von unserer Gemeinde\, werden wir in 4 Themen arbeiten:  \n1.Tiere\n2. Pflanzen\, Historie/Geschichte\n3. Heilige Orte\n4. Mythen/Legenden/Sagen.  \nFür jedes Thema wird es einen Tisch geben\, der moderiert wird. \nUnser Tal – unsere Schatzkarte.\nWir freuen uns\, diesen Schatz gemeinsam mit allen Gästen zu heben. Sei dabei\, Dein Wissen ist wichtig. \nAnsprechpartnerin:     Andrea Wolter\,   E-Mail: wolterin@web.de \nHerzlichen Dank für die Unterstützung und Förderung des Projekts “Mitmach-Region Deggenhausertal – eine ModellRegion” durch die Postcode Lotterie und unsere Partner. \n   
URL:https://wirundjetzt.org/event/karte-der-verbundenheit-fuer-das-deggenhausertal/
LOCATION:Feuerwehrgerätehaus in Wittenhofen\, Deutschland
CATEGORIES:Mitmach-Region Deggenhausertal,Projekt der Mitmach-Region Deggenhausertal
END:VEVENT
END:VCALENDAR