BEGIN:VCALENDAR
VERSION:2.0
PRODID:-//»wirundjetzt« - ECPv6.15.17.1//NONSGML v1.0//EN
CALSCALE:GREGORIAN
METHOD:PUBLISH
X-ORIGINAL-URL:https://wirundjetzt.org
X-WR-CALDESC:Veranstaltungen für »wirundjetzt«
REFRESH-INTERVAL;VALUE=DURATION:PT1H
X-Robots-Tag:noindex
X-PUBLISHED-TTL:PT1H
BEGIN:VTIMEZONE
TZID:Europe/Berlin
BEGIN:DAYLIGHT
TZOFFSETFROM:+0100
TZOFFSETTO:+0200
TZNAME:CEST
DTSTART:20200329T010000
END:DAYLIGHT
BEGIN:STANDARD
TZOFFSETFROM:+0200
TZOFFSETTO:+0100
TZNAME:CET
DTSTART:20201025T010000
END:STANDARD
BEGIN:DAYLIGHT
TZOFFSETFROM:+0100
TZOFFSETTO:+0200
TZNAME:CEST
DTSTART:20210328T010000
END:DAYLIGHT
BEGIN:STANDARD
TZOFFSETFROM:+0200
TZOFFSETTO:+0100
TZNAME:CET
DTSTART:20211031T010000
END:STANDARD
BEGIN:DAYLIGHT
TZOFFSETFROM:+0100
TZOFFSETTO:+0200
TZNAME:CEST
DTSTART:20220327T010000
END:DAYLIGHT
BEGIN:STANDARD
TZOFFSETFROM:+0200
TZOFFSETTO:+0100
TZNAME:CET
DTSTART:20221030T010000
END:STANDARD
END:VTIMEZONE
BEGIN:VEVENT
DTSTART;TZID=Europe/Berlin:20210128T190000
DTEND;TZID=Europe/Berlin:20210128T200000
DTSTAMP:20260423T183525
CREATED:20210115T094922Z
LAST-MODIFIED:20210115T095605Z
UID:10000648-1611860400-1611864000@wirundjetzt.org
SUMMARY:online: BWL und das Gemeinwohl – der leichte Einstieg über das Online Unternehmensplanspiel "Elecctrify©”
DESCRIPTION:Können wir angesichts der aktuellen Krisen zuschauen und einfach so weitermachen? \nWie können Unternehmen unternehmerisch erfolgreich handeln und gleichzeitig die Nachhaltigkeit sichern? \nAn dem Infoabend soll gezeigt werden\, dass und wie betriebswirtschaftliche Instrumente in Kombination mit den Werten der Gemeinwohl-Ökonmie helfen\, die richtigen Entscheidungen zu treffen. \n\n\n\n\n\n\n\n\nDer Infoabend soll eine Einführung und Vorschau geben auf eine webinar-Reihe von 7 Abenden im Zeitraum von 2 bis max. 6 Wochen. Es werden die Teilnehmenden in der webinar-Reihe die Möglichkeit haben\, sich auf einem virtuellen\, realitätsnahen Markt handlungsorientiert in der Geschäftsführung eines Herstellers von E-Bikes zu beweisen. \n\n\n\n\nDen zertifizierten GWÖ-Berater Thomas Henne (Dipl. Kfm.)\, Friedrichshafen und Peter Frank (Dipl. Betriebswirt\, FH)\, Tübingen zeichnet eine langjährige Berufserfahrung in verschiedenen Funktionen der Unternehmens-steuerung aus. Sie geben einen Einblick in die Idee und Inhalte des Unternehmensplanspiels in Kombination mit den Anforderungen an eine nachhaltige Unternehmensführung. \n\n\n\n\nDas Angebot richtet sich an interessierte Unternehmen und ihre Mitarbeitenden. \n\n\n\n\n\n\n\n\n\n\n\n\nWeitere Infos und Anmeldung unter: \n\n\n\n\nmail@good-economy.eu \n\n\nSie sehen gerade einen Platzhalterinhalt von Standard. Um auf den eigentlichen Inhalt zuzugreifen\, klicken Sie auf den Button unten. Bitte beachten Sie\, dass dabei Daten an Drittanbieter weitergegeben werden. \n Inhalt entsperren Erforderlichen Service akzeptieren und Inhalte entsperren \n Weitere Informationen \n\n\nEinladung_InfoAbend_GWÖ\n\n\n\n 
URL:https://wirundjetzt.org/event/online-bwl-und-das-gemeinwohl-der-leichte-einstieg-ueber-das-online-unternehmensplanspiel-elecctrify/
CATEGORIES:zoommeeting
END:VEVENT
END:VCALENDAR