BEGIN:VCALENDAR
VERSION:2.0
PRODID:-//»wirundjetzt« - ECPv6.15.17.1//NONSGML v1.0//EN
CALSCALE:GREGORIAN
METHOD:PUBLISH
X-WR-CALNAME:»wirundjetzt«
X-ORIGINAL-URL:https://wirundjetzt.org
X-WR-CALDESC:Veranstaltungen für »wirundjetzt«
REFRESH-INTERVAL;VALUE=DURATION:PT1H
X-Robots-Tag:noindex
X-PUBLISHED-TTL:PT1H
BEGIN:VTIMEZONE
TZID:Europe/Berlin
BEGIN:DAYLIGHT
TZOFFSETFROM:+0100
TZOFFSETTO:+0200
TZNAME:CEST
DTSTART:20160327T010000
END:DAYLIGHT
BEGIN:STANDARD
TZOFFSETFROM:+0200
TZOFFSETTO:+0100
TZNAME:CET
DTSTART:20161030T010000
END:STANDARD
BEGIN:DAYLIGHT
TZOFFSETFROM:+0100
TZOFFSETTO:+0200
TZNAME:CEST
DTSTART:20170326T010000
END:DAYLIGHT
BEGIN:STANDARD
TZOFFSETFROM:+0200
TZOFFSETTO:+0100
TZNAME:CET
DTSTART:20171029T010000
END:STANDARD
BEGIN:DAYLIGHT
TZOFFSETFROM:+0100
TZOFFSETTO:+0200
TZNAME:CEST
DTSTART:20180325T010000
END:DAYLIGHT
BEGIN:STANDARD
TZOFFSETFROM:+0200
TZOFFSETTO:+0100
TZNAME:CET
DTSTART:20181028T010000
END:STANDARD
END:VTIMEZONE
BEGIN:VEVENT
DTSTART;TZID=Europe/Berlin:20171211T170000
DTEND;TZID=Europe/Berlin:20171211T210000
DTSTAMP:20260423T182414
CREATED:20171121T174715Z
LAST-MODIFIED:20171121T175238Z
UID:10000030-1513011600-1513026000@wirundjetzt.org
SUMMARY:erreichbar
DESCRIPTION:erreichbar\n\n\n \nwirundjetzt treffen der aktiven\n\n\n\n\n\n\nVon 17.00 Uhr bis 21.00 Uhr wollen wir mit euch zusammen planen\, Ideen schmieden und Projekte umsetzen. Wir wollen regelmäßig zusammen sein und konkret an den Projekten und Ideen Arbeiten und uns austauschen. Dazu laden wir euch herzlich ein.Wir sind in 88697 Bermatingen\, Rathausplatz 3\, im Büro von Oliver Endrikat (Sedat GmbH). \n  \n\n\n\n\n\n\n\neinmal im Monat erreichbar!
URL:https://wirundjetzt.org/event/erreichbar/
LOCATION:Vorarlberg
CATEGORIES:Vernetzungstreffen,»wirundjetzt«-Veranstaltung
ATTACH;FMTTYPE=image/jpeg:https://wirundjetzt.org/wp-content/uploads/2017/06/Hackschnitzel-Jump-DSC_3103-.jpg
END:VEVENT
END:VCALENDAR