BEGIN:VCALENDAR
VERSION:2.0
PRODID:-//»wirundjetzt« - ECPv6.15.17.1//NONSGML v1.0//EN
CALSCALE:GREGORIAN
METHOD:PUBLISH
X-WR-CALNAME:»wirundjetzt«
X-ORIGINAL-URL:https://wirundjetzt.org
X-WR-CALDESC:Veranstaltungen für »wirundjetzt«
REFRESH-INTERVAL;VALUE=DURATION:PT1H
X-Robots-Tag:noindex
X-PUBLISHED-TTL:PT1H
BEGIN:VTIMEZONE
TZID:Europe/Berlin
BEGIN:DAYLIGHT
TZOFFSETFROM:+0100
TZOFFSETTO:+0200
TZNAME:CEST
DTSTART:20210328T010000
END:DAYLIGHT
BEGIN:STANDARD
TZOFFSETFROM:+0200
TZOFFSETTO:+0100
TZNAME:CET
DTSTART:20211031T010000
END:STANDARD
BEGIN:DAYLIGHT
TZOFFSETFROM:+0100
TZOFFSETTO:+0200
TZNAME:CEST
DTSTART:20220327T010000
END:DAYLIGHT
BEGIN:STANDARD
TZOFFSETFROM:+0200
TZOFFSETTO:+0100
TZNAME:CET
DTSTART:20221030T010000
END:STANDARD
BEGIN:DAYLIGHT
TZOFFSETFROM:+0100
TZOFFSETTO:+0200
TZNAME:CEST
DTSTART:20230326T010000
END:DAYLIGHT
BEGIN:STANDARD
TZOFFSETFROM:+0200
TZOFFSETTO:+0100
TZNAME:CET
DTSTART:20231029T010000
END:STANDARD
END:VTIMEZONE
BEGIN:VEVENT
DTSTART;TZID=Europe/Berlin:20220506T143000
DTEND;TZID=Europe/Berlin:20220506T170000
DTSTAMP:20260420T164821
CREATED:20220503T143825Z
LAST-MODIFIED:20220503T143825Z
UID:10000411-1651847400-1651856400@wirundjetzt.org
SUMMARY:Exkursion zum Haslachhof - Deggenhausertal
DESCRIPTION:Wir laden Sie herzlich zu der nächsten Exkursion am Freitag\, den 6. Mai um 14:30 bis 17.00 Uhr ein. \nAktueller Film der Gemeinschaft Haslachhof\n  \nDiesmal besuchen wir den Haslachhof\, ein Gemeinschaftsprojekt mitten im Deggenhausertal. Die Menschen dieser Gemeinschaft sind sehr an Ökologie und Nachhaltigkeit interessiert. \nNach einer Führung und Zeit für Austausch gibt es die Möglichkeit an einem Raclette-Stand vor Ort für das leibliche Wohl zu sorgen und im Gespräch zu sein.\nAm Haslachhof geht es um einfaches Leben. Um Verbindung mit der Erde\, unseren menschlichen Bedürfnissen\, um Reduktion von Unnötigem und auch um die Besinnung aufs Wesentliche. Wir lieben es\, uns an kleinen Dingen zu freuen\, die Kraft der Dankbarkeit in den Alltag zu holen und durch lebendige Gemeinschaft und Verbindung mit Menschen in Einfachheit den Moment zu leben. \nWer Lust und Laune hat\, dieses nachhaltige Projekt in unserem schönen D-Tal kennenzulernen\, der melde sich bitte unter folgender Mailadresse bis zum 5. Mai an: \nAnmeldung: simon.neitzel@wirundjetzt.org \nInfos zur Gemeinschaft: https://www.gemeinschafthaslachhof.de/
URL:https://wirundjetzt.org/event/exkursion-zum-haslachhof-deggenhausertal/
CATEGORIES:Exkursion,»wirundjetzt«-Veranstaltung
END:VEVENT
END:VCALENDAR