BEGIN:VCALENDAR
VERSION:2.0
PRODID:-//»wirundjetzt« - ECPv6.15.17.1//NONSGML v1.0//EN
CALSCALE:GREGORIAN
METHOD:PUBLISH
X-WR-CALNAME:»wirundjetzt«
X-ORIGINAL-URL:https://wirundjetzt.org
X-WR-CALDESC:Veranstaltungen für »wirundjetzt«
REFRESH-INTERVAL;VALUE=DURATION:PT1H
X-Robots-Tag:noindex
X-PUBLISHED-TTL:PT1H
BEGIN:VTIMEZONE
TZID:Europe/Berlin
BEGIN:DAYLIGHT
TZOFFSETFROM:+0100
TZOFFSETTO:+0200
TZNAME:CEST
DTSTART:20210328T010000
END:DAYLIGHT
BEGIN:STANDARD
TZOFFSETFROM:+0200
TZOFFSETTO:+0100
TZNAME:CET
DTSTART:20211031T010000
END:STANDARD
BEGIN:DAYLIGHT
TZOFFSETFROM:+0100
TZOFFSETTO:+0200
TZNAME:CEST
DTSTART:20220327T010000
END:DAYLIGHT
BEGIN:STANDARD
TZOFFSETFROM:+0200
TZOFFSETTO:+0100
TZNAME:CET
DTSTART:20221030T010000
END:STANDARD
BEGIN:DAYLIGHT
TZOFFSETFROM:+0100
TZOFFSETTO:+0200
TZNAME:CEST
DTSTART:20230326T010000
END:DAYLIGHT
BEGIN:STANDARD
TZOFFSETFROM:+0200
TZOFFSETTO:+0100
TZNAME:CET
DTSTART:20231029T010000
END:STANDARD
END:VTIMEZONE
BEGIN:VEVENT
DTSTART;TZID=Europe/Berlin:20220329T143000
DTEND;TZID=Europe/Berlin:20220329T170000
DTSTAMP:20260420T105318
CREATED:20220310T191621Z
LAST-MODIFIED:20220322T125506Z
UID:10000772-1648564200-1648573200@wirundjetzt.org
SUMMARY:Exkursion Hof Sinnenberg - Ökomodellregion Deggenhausertal
DESCRIPTION:Unsere nächste Exkursion im Rahmen der Ökomodellregion Deggenhauser Tal führt uns zum Hof Sinnenberg. \nDort werden wir verschiedene zukunftsweisende landwirtschaftliche und gärtnerische Ansätze wie Permakultur\, Regenerative (aufbauende) Landwirtschaft\, Agroforstwirtschaft\, Holistic Grazing (ganzheitliches Weidemanagement) und No-Dig-Gardening (nicht umgraben) kennen lernen.\nDas Projekt ist noch im Entstehen. \nAuf 12 Hektar Land werden vielfältige Lebensräume geschaffen und gleichzeitig die Versorgung mit Lebensmitteln langfristig sichergestellt. Wir erfahren welche Tiere bereits den Hof besiedeln und welche Aufgaben sie im Gesamtgefüge haben. \nEbenso besichtigen wir die Gemüse-Anbauflächen. \nBei der Exkursion können folgende eigene Hof-Produkte gekauft werden: \nHühnereier vom Zweinutzungshuhn\nJunghenneneier (die allerersten Eier im Leben eines Huhns) vom Zweinutzungshuhn\nApfelsaft\nApfel-Birnen-Saft\n4 Sorten Eier-Nudeln – hergestellt mit unseren Eiern von der Überlinger Nudelmanufaktur\nSchrumpel-Äpfel aus Keller-Kühlung (keine kontrollierte Sauerstoff-/Kohlendioxid-Lagerung).\nSuppenhühner\, tiefgekühlt\nKnoblauch\nSpinat\nRukkola\nPostelein\nAsia-Salat\nGrünkohl\nThymian\nFrühlingszwiebeln\nKohlrabi Superschmelz\nRote Bete\nRosa Bete\n\nAnmeldung und weitere Infos bei Simon Neitzel \nsimon.neitzel@wirundjetzt.org \nweitere Infos zur Ökomodellregion Deggenhausertal hier
URL:https://wirundjetzt.org/event/exkursion-hof-sinnenberg-oekomodellregion-deggenhausertal/
CATEGORIES:Exkursion,Führung
END:VEVENT
END:VCALENDAR