BEGIN:VCALENDAR
VERSION:2.0
PRODID:-//»wirundjetzt« - ECPv6.15.17.1//NONSGML v1.0//EN
CALSCALE:GREGORIAN
METHOD:PUBLISH
X-ORIGINAL-URL:https://wirundjetzt.org
X-WR-CALDESC:Veranstaltungen für »wirundjetzt«
REFRESH-INTERVAL;VALUE=DURATION:PT1H
X-Robots-Tag:noindex
X-PUBLISHED-TTL:PT1H
BEGIN:VTIMEZONE
TZID:Europe/Berlin
BEGIN:DAYLIGHT
TZOFFSETFROM:+0100
TZOFFSETTO:+0200
TZNAME:CEST
DTSTART:20190331T010000
END:DAYLIGHT
BEGIN:STANDARD
TZOFFSETFROM:+0200
TZOFFSETTO:+0100
TZNAME:CET
DTSTART:20191027T010000
END:STANDARD
BEGIN:DAYLIGHT
TZOFFSETFROM:+0100
TZOFFSETTO:+0200
TZNAME:CEST
DTSTART:20200329T010000
END:DAYLIGHT
BEGIN:STANDARD
TZOFFSETFROM:+0200
TZOFFSETTO:+0100
TZNAME:CET
DTSTART:20201025T010000
END:STANDARD
BEGIN:DAYLIGHT
TZOFFSETFROM:+0100
TZOFFSETTO:+0200
TZNAME:CEST
DTSTART:20210328T010000
END:DAYLIGHT
BEGIN:STANDARD
TZOFFSETFROM:+0200
TZOFFSETTO:+0100
TZNAME:CET
DTSTART:20211031T010000
END:STANDARD
END:VTIMEZONE
BEGIN:VEVENT
DTSTART;TZID=Europe/Berlin:20200727T190000
DTEND;TZID=Europe/Berlin:20200727T210000
DTSTAMP:20260424T073355
CREATED:20200707T104112Z
LAST-MODIFIED:20200707T130422Z
UID:10000626-1595876400-1595883600@wirundjetzt.org
SUMMARY:Treffen Gemeinwohlökonomie in Friedrichshafen
DESCRIPTION:Treffen Gemeinwohlökonomie in Friedrichshafen						\n											\n						\n					\n					\n\n\n	Nach langer Pause gibt es wiederein GWÖ-Treffen in der Buchhandlung Fiederer und dann gleich mit großem Programm: \nSchwerpunktthema: Soziokratie / Systemisches Konsensieren \n  \nThomas Henne wird eine Einführung in die Soziokratie und das Systemisches Konsensieren geben. Gäste sind wie immer gerne willkommen. \nWer sich einbringen möchte\, darf mir gerne Themenvorschläge für die Agenda zuschicken. \nBitte Mundschutz nicht vergessen. Es werden die Stühle mit Abstand gestellt\, so dass während des Abends den Mundschutz abgenommen werden kann (wenn alle damit einverstanden sind).
URL:https://wirundjetzt.org/event/treffen-gemeinwohloekonomie-in-friedrichshafen/
CATEGORIES:Arbeitstreffen
END:VEVENT
END:VCALENDAR