BEGIN:VCALENDAR
VERSION:2.0
PRODID:-//»wirundjetzt« - ECPv6.15.17.1//NONSGML v1.0//EN
CALSCALE:GREGORIAN
METHOD:PUBLISH
X-WR-CALNAME:»wirundjetzt«
X-ORIGINAL-URL:https://wirundjetzt.org
X-WR-CALDESC:Veranstaltungen für »wirundjetzt«
REFRESH-INTERVAL;VALUE=DURATION:PT1H
X-Robots-Tag:noindex
X-PUBLISHED-TTL:PT1H
BEGIN:VTIMEZONE
TZID:Europe/Berlin
BEGIN:DAYLIGHT
TZOFFSETFROM:+0100
TZOFFSETTO:+0200
TZNAME:CEST
DTSTART:20230326T010000
END:DAYLIGHT
BEGIN:STANDARD
TZOFFSETFROM:+0200
TZOFFSETTO:+0100
TZNAME:CET
DTSTART:20231029T010000
END:STANDARD
BEGIN:DAYLIGHT
TZOFFSETFROM:+0100
TZOFFSETTO:+0200
TZNAME:CEST
DTSTART:20240331T010000
END:DAYLIGHT
BEGIN:STANDARD
TZOFFSETFROM:+0200
TZOFFSETTO:+0100
TZNAME:CET
DTSTART:20241027T010000
END:STANDARD
BEGIN:DAYLIGHT
TZOFFSETFROM:+0100
TZOFFSETTO:+0200
TZNAME:CEST
DTSTART:20250330T010000
END:DAYLIGHT
BEGIN:STANDARD
TZOFFSETFROM:+0200
TZOFFSETTO:+0100
TZNAME:CET
DTSTART:20251026T010000
END:STANDARD
END:VTIMEZONE
BEGIN:VEVENT
DTSTART;TZID=Europe/Berlin:20240723T200000
DTEND;TZID=Europe/Berlin:20240723T223000
DTSTAMP:20260423T230252
CREATED:20240629T102033Z
LAST-MODIFIED:20240710T200446Z
UID:10001024-1721764800-1721773800@wirundjetzt.org
SUMMARY:Filmabend "VANDANA SHIVA - EIN LEBEN FÜR DIE ERDE"
DESCRIPTION:Filmabend „VANDANA SHIVA – EIN LEBEN FÜR DIE ERDE“\nIm Rahmen des Projektes „Mitmach-Region Deggenhausertal“ sind Filmabende und Exkursionen geplant. Die Exkursionen passen thematisch zu den Filmen und finden zeitnah nach dem Film statt. \n  \nFilm „VANDANA SHIVA – EIN LEBEN FÜR DIE ERDE“ \nOrt:   Feuerwehrgerätehaus in 88693 Deggenhausertal-Wittenhofen\, Schulweg 9 \nZeit:  Di\, 23. Juli 2024\, 20.00 – 22.30 Uhr\, Einlass ab 19.30 Uhr \n  \nWie wurde Vandana Shiva\, die eigensinnige Tochter eines Waldschützers aus dem Himalaya\, eine ernstzunehmende Rivalin von Agrarkonzernen wie Monsanto? „VANDANA SHIVA – EIN LEBEN FÜR DIE ERDE“ erzählt die bemerkenswerte Lebensgeschichte der Öko-Aktivistin Dr. Vandana Shiva\, wie sie sich den Großkonzernen der industriellen Landwirtschaft entgegenstellte und in der Bewegung für Biodiversität und ökologischer Landwirtschaft zur Ikone wurde. \n„Wer Waffen verkauft\, kontrolliert Armeen – wer Nahrung verkauft\, kontrolliert die Gesellschaft – aber wer das Saatgut kontrolliert\, kontrolliert das Leben auf der Erde“. \nDie kleine\, alte Inderin namens Vandana Shiva\, wie sie sich selbstironisch nennt\, stellt Saatgut her und setzt sich für dessen Schutz ein\, auch um „genmanipulierte Nahrung zu bekämpfen“. Dabei legt sie sich mit mächtigen Playern an und trifft Aussagen wie: „Patente auf Saatgut sind der erbärmliche Versuch einer Saatgut-Diktatur“ und „Industrielle Landwirtschaft ist die größte zerstörerische Kraft auf unserem Planeten“. Sie weiß\, dass sie sich Feinde macht: „Jeder der sich gegen Großkonzerne stellt\, gerät unter Beschuss“. \nVandana Shiva sagt\, dass „der Krieg gegen die Erde in den Köpfen der Menschen anfängt“ und will gleichzeitig ermutigen und ermächtigen: „Wir haben Macht – Wir werden der Wandel sein\, den wir sehen wollen“. Sie sieht Kleinbauern als Lösung und regenerative Landwirtschaft als eine der großen Bewegungen unserer Zeit. \n  \nNach dem Film laden wir zu einer Diskussionsrunde ein. \nEintritt frei\,  Spenden für das Projekt „Mitmach-Region Deggenhausertal“ sind willkommen. \n  \nHier ist der Trailer zum Film: \nVANDANA SHIVA – EIN LEBEN FÜR DIE ERDE | Trailer deutsch 
URL:https://wirundjetzt.org/event/filmabend-vandana-shiva-ein-leben-fuer-die-erde/
LOCATION:Feuerwehrgerätehaus in Wittenhofen\, Deutschland
CATEGORIES:Film,Projekt der Mitmach-Region Deggenhausertal
END:VEVENT
END:VCALENDAR