BEGIN:VCALENDAR
VERSION:2.0
PRODID:-//»wirundjetzt« - ECPv6.15.17.1//NONSGML v1.0//EN
CALSCALE:GREGORIAN
METHOD:PUBLISH
X-ORIGINAL-URL:https://wirundjetzt.org
X-WR-CALDESC:Veranstaltungen für »wirundjetzt«
REFRESH-INTERVAL;VALUE=DURATION:PT1H
X-Robots-Tag:noindex
X-PUBLISHED-TTL:PT1H
BEGIN:VTIMEZONE
TZID:Europe/Berlin
BEGIN:DAYLIGHT
TZOFFSETFROM:+0100
TZOFFSETTO:+0200
TZNAME:CEST
DTSTART:20180325T010000
END:DAYLIGHT
BEGIN:STANDARD
TZOFFSETFROM:+0200
TZOFFSETTO:+0100
TZNAME:CET
DTSTART:20181028T010000
END:STANDARD
BEGIN:DAYLIGHT
TZOFFSETFROM:+0100
TZOFFSETTO:+0200
TZNAME:CEST
DTSTART:20190331T010000
END:DAYLIGHT
BEGIN:STANDARD
TZOFFSETFROM:+0200
TZOFFSETTO:+0100
TZNAME:CET
DTSTART:20191027T010000
END:STANDARD
BEGIN:DAYLIGHT
TZOFFSETFROM:+0100
TZOFFSETTO:+0200
TZNAME:CEST
DTSTART:20200329T010000
END:DAYLIGHT
BEGIN:STANDARD
TZOFFSETFROM:+0200
TZOFFSETTO:+0100
TZNAME:CET
DTSTART:20201025T010000
END:STANDARD
END:VTIMEZONE
BEGIN:VEVENT
DTSTART;TZID=Europe/Berlin:20191112T200000
DTEND;TZID=Europe/Berlin:20191112T200000
DTSTAMP:20260421T133806
CREATED:20191110T081335Z
LAST-MODIFIED:20191110T081336Z
UID:10000562-1573588800-1573588800@wirundjetzt.org
SUMMARY:Film "Aus Liebe zum Überleben" in Markdorf
DESCRIPTION:Film "Aus Liebe zum Überleben" in Markdorf						\n											\n						\n					\n					\n\n\n	Im Rahmen des Projekts "Garten Eden - Beete für Jede/n" der Evang.\nKirchengemeinde Markdorf wird am Dienstag\, 12. November\, 20.00\nUhr\, im Haus im Weinberg der Film *AUS LIEBE ZUM ÜBERLEBEN gezeigt.\n*AUS LIEBE ZUM ÜBERLEBEN\nReise zu acht mutigen Bio-Landwirten: Dienstag\, 12. November\, 20.00 Uhr\,\nHaus im Weinberg* \nDer Kino-Dokumentarfilm “Aus Liebe zum Überleben” greift gleich mehrere\naktuelle Zukunftsthemen auf\, die in der Öffentlichkeit stark diskutiert\nwerden: \n*     Wie kann das Insekten- und Vögelsterben gestoppt werden?\n*     Welche Art der Landwirtschaft kann den Klimawandel abbremsen?\n*     Was für Lebensmittel sind die gesünderen?\n*     Welche Landwirtschaft respektiert am ehesten und artgerecht das\nLeben der Tiere? \nDer bekannte Dokumentarfilmer Bertram Verhaag begibt sich in seinem Film\nauf eine Reise zu acht mutigen Menschen\, die sich abgewendet haben von\nKonventionen\, Agrargiften und unmenschlichen Arbeitsweisen und die sich\neiner Landwirtschaft zugewendet haben\, die ohne Gifte und ohne\nZerstörung der Bodenfruchtbarkeit auskommt. \nJeder der gezeigten Protagonisten erzählt seine ganz persönliche\nGeschichte von Äckern und von gesundem Boden\, für den man sich vor\nlauter Ehrfurcht seinen besten Anzug anziehen müsste\, denn er ist unsere\nLebensgrundlage. Sie erzählen von Regenwürmern\, Kuhhörnern und von in\nder Erde wühlenden Schweinen. \nWas den Film aber ausmacht\, ist der Mut\, den jede/r erfährt\, wenn man\ndiesen außergewöhnlichen Menschen zusieht: Mut\, für eine andere Art der\nLandwirtschaft einzustehen. Mut\, auf sein Herz zu vertrauen - trotz\nGegenwind… \n*Link zum Trailer:*https://youtu.be/eVZ8OaGI-Qw
URL:https://wirundjetzt.org/event/film-aus-liebe-zum-ueberleben-in-markdorf/
CATEGORIES:Film
END:VEVENT
END:VCALENDAR