BEGIN:VCALENDAR
VERSION:2.0
PRODID:-//»wirundjetzt« - ECPv6.15.17.1//NONSGML v1.0//EN
CALSCALE:GREGORIAN
METHOD:PUBLISH
X-ORIGINAL-URL:https://wirundjetzt.org
X-WR-CALDESC:Veranstaltungen für »wirundjetzt«
REFRESH-INTERVAL;VALUE=DURATION:PT1H
X-Robots-Tag:noindex
X-PUBLISHED-TTL:PT1H
BEGIN:VTIMEZONE
TZID:Europe/Berlin
BEGIN:DAYLIGHT
TZOFFSETFROM:+0100
TZOFFSETTO:+0200
TZNAME:CEST
DTSTART:20190331T010000
END:DAYLIGHT
BEGIN:STANDARD
TZOFFSETFROM:+0200
TZOFFSETTO:+0100
TZNAME:CET
DTSTART:20191027T010000
END:STANDARD
BEGIN:DAYLIGHT
TZOFFSETFROM:+0100
TZOFFSETTO:+0200
TZNAME:CEST
DTSTART:20200329T010000
END:DAYLIGHT
BEGIN:STANDARD
TZOFFSETFROM:+0200
TZOFFSETTO:+0100
TZNAME:CET
DTSTART:20201025T010000
END:STANDARD
BEGIN:DAYLIGHT
TZOFFSETFROM:+0100
TZOFFSETTO:+0200
TZNAME:CEST
DTSTART:20210328T010000
END:DAYLIGHT
BEGIN:STANDARD
TZOFFSETFROM:+0200
TZOFFSETTO:+0100
TZNAME:CET
DTSTART:20211031T010000
END:STANDARD
END:VTIMEZONE
BEGIN:VEVENT
DTSTART;VALUE=DATE:20200103
DTEND;VALUE=DATE:20200107
DTSTAMP:20260420T225146
CREATED:20191028T114651Z
LAST-MODIFIED:20191028T114652Z
UID:10000573-1578009600-1578355199@wirundjetzt.org
SUMMARY:44. Naturschutztage am Bodensee
DESCRIPTION:44. Naturschutztage am Bodensee						\n											\n						\n					\n					\n\n\n\n\nIm taufrischen Jahr 2020 laden BUND und NABU traditionell am Dreikönigswochenende zur größten regelmäßigen Fortbildungs- und Informationsveranstaltung im deutschsprachigen Raum für Naturschutzaktive und Umweltinteressierte. \nDas bieten die 44. Naturschutztage am Bodensee vom 3. bis zum 6. Januar 2020: \nVier Tage vernetzen\, austauschen\, Vorträge hören und Exkursionen besuchen\nDie Natur in der Umgebung erleben\nEntspannte Atmosphäre im Tagungs- und Kulturzentrum Milchwerk in Radolfzell\nAbschlusstag mit Diskussion über den Rückkehrer Wolf \nDie Themenschwerpunkte sind: \n1. Tag: „Klimaschutz von heute bis 2030“\n2. Tag: „Landwirtschaft global bis regional“\n3. Tag: „Nachhaltiger Konsum“\nFreitag- und Samstagnachmittag: Seminare\, Exkursionen und Workshops von NABU\, BUND und Externen\n4. Tag: „Naturschutz fern und nah“ \n  \nNaturschutztage_2020_Flyer-1
URL:https://wirundjetzt.org/event/44-naturschutztage-am-bodensee/
CATEGORIES:Konferenz,Symposium
END:VEVENT
BEGIN:VEVENT
DTSTART;TZID=Europe/Berlin:20200130T190000
DTEND;TZID=Europe/Berlin:20200130T190000
DTSTAMP:20260420T225146
CREATED:20200116T204300Z
LAST-MODIFIED:20200116T204301Z
UID:10000586-1580410800-1580410800@wirundjetzt.org
SUMMARY:Infoabend „Artenschwund in unserer Region“ in Ravensburg
DESCRIPTION:Infoabend „Artenschwund in unserer Region“ in Ravensburg						\n											\n						\n					\n					\n\n\n\n\nDer dramatische Rückgang von Vögeln und Insekten ist seit dem kontrovers diskutierten Volksbegehren „Rettet die Bienen“ in aller Munde. Auch wenn nicht immer Einigkeit darin besteht\, wie dieses Artensterben aufgehalten werden kann\, so ist doch Allen klar: Ein „Weiter so\, wie bisher“ ist ausgeschlossen. Der BUND\, NABU und der Landschaftserhaltungsverband (LEV) laden alle Interessierten herzlich zum Infoabend „Artenschwund in unserer Region“ in den Schwörsaal Ravensburg ein. \nDort werden die renommierten Wissenschaftler Erwin Rennwald und Prof.Dr. Gernot Segelbacher uns zum Artenschwund bei Vögeln und Insekten informieren und spannende Hintergründe zum Artensterben präsentieren. \nNeben den Wissenschaftlern werden an dem Abend auch Blanka Rundel von der Stadt Ravensburg\, Stefan Maenner von den Bodensee-Obstbauern\, Sabine Brandt vom NABU und Marco Eberle vom Landesbauernverband zu Wort kommen und in kurzen Statements präsentieren\, wie sie dem Artenschwund künftig entgegentreten wollen. Zusätzlich wird Moritz Ott\, Biodiversitätsmanager des Landkreises Ravensburg und Leiter der Initiative “Blühender Landkreis” Spannendes aus der Region berichten. Im Anschluss an die Statements und Vorträge hat das Publikum die Möglichkeit\, Fragen an das Podium zu richten. \n 
URL:https://wirundjetzt.org/event/infoabend-artenschwund-in-unserer-region-in-ravensburg/
CATEGORIES:Infoabend
END:VEVENT
END:VCALENDAR