BEGIN:VCALENDAR
VERSION:2.0
PRODID:-//»wirundjetzt« - ECPv6.15.17.1//NONSGML v1.0//EN
CALSCALE:GREGORIAN
METHOD:PUBLISH
X-WR-CALNAME:»wirundjetzt«
X-ORIGINAL-URL:https://wirundjetzt.org
X-WR-CALDESC:Veranstaltungen für »wirundjetzt«
REFRESH-INTERVAL;VALUE=DURATION:PT1H
X-Robots-Tag:noindex
X-PUBLISHED-TTL:PT1H
BEGIN:VTIMEZONE
TZID:Europe/Berlin
BEGIN:DAYLIGHT
TZOFFSETFROM:+0100
TZOFFSETTO:+0200
TZNAME:CEST
DTSTART:20170326T010000
END:DAYLIGHT
BEGIN:STANDARD
TZOFFSETFROM:+0200
TZOFFSETTO:+0100
TZNAME:CET
DTSTART:20171029T010000
END:STANDARD
BEGIN:DAYLIGHT
TZOFFSETFROM:+0100
TZOFFSETTO:+0200
TZNAME:CEST
DTSTART:20180325T010000
END:DAYLIGHT
BEGIN:STANDARD
TZOFFSETFROM:+0200
TZOFFSETTO:+0100
TZNAME:CET
DTSTART:20181028T010000
END:STANDARD
BEGIN:DAYLIGHT
TZOFFSETFROM:+0100
TZOFFSETTO:+0200
TZNAME:CEST
DTSTART:20190331T010000
END:DAYLIGHT
BEGIN:STANDARD
TZOFFSETFROM:+0200
TZOFFSETTO:+0100
TZNAME:CET
DTSTART:20191027T010000
END:STANDARD
END:VTIMEZONE
BEGIN:VEVENT
DTSTART;TZID=Europe/Berlin:20180314T180000
DTEND;TZID=Europe/Berlin:20180314T210000
DTSTAMP:20260419T184544
CREATED:20180211T201903Z
LAST-MODIFIED:20180311T083938Z
UID:10000053-1521050400-1521061200@wirundjetzt.org
SUMMARY:Phoenixzeit FILM + Infoabend Nr 1 Markdorf
DESCRIPTION:Phoenixzeit FILM + Infoabend Nr 2\n\n	Die PHÖNIXZEIT Bodensee startet 2018 mit ihrem ersten Durchlauf\, nachdem sie in Potsdam jetzt seit 15 Jahren erfolgreich angeboten wird. Nach der Vorstellung wird es Zeit geben für Gespräche\, Fragen & Informationen zur Phönixzeit.  \n\n\n\n          		\n					 \n									\n						\n								Was ist die Phönixzeit?\n				Die Phönixzeit ist eine Entdeckungsreise für Jungen zwischen 13 und 15 Jahren im Übergang vom Kind zum jungen Mann\n​Das Alter von 13 bis 15 Jahren bringt viele neue Herausforderungen für Jungen und ihre Eltern.\nEs geht um den Abschied vom Kindsein und um Orientierung in der Welt der Erwachsenen. \nDieser Übergangsprozess vom Kind zum jungen Mann zieht sich über mehrere Jahre hin. Mit der Phoenixzeit  wollen wir den Jungen und seine Eltern dabei unterstützen und begleiten.\n\n​	\n	\n    Der Trailer zur Phoenixzeit / Manne e.V. Potsdam from Manne e.V. on Vimeo.      Sie sehen gerade einen Platzhalterinhalt von Vimeo. Um auf den eigentlichen Inhalt zuzugreifen\, klicken Sie auf die Schaltfläche unten. Bitte beachten Sie\, dass dabei Daten an Drittanbieter weitergegeben werden.  Mehr Informationen   Inhalt entsperren Erforderlichen Service akzeptieren und Inhalte entsperren
URL:https://wirundjetzt.org/event/phoenixzeit-film-infoabend-nr-1/
CATEGORIES:Aktionen,Film,Gesprächsrunde,Infoabend
ATTACH;FMTTYPE=image/png:https://wirundjetzt.org/wp-content/uploads/2018/02/Unbenannt.PNGdaasgas.png
END:VEVENT
BEGIN:VEVENT
DTSTART;TZID=Europe/Berlin:20180317T100000
DTEND;TZID=Europe/Berlin:20180317T180000
DTSTAMP:20260419T184544
CREATED:20180211T183013Z
LAST-MODIFIED:20180311T090034Z
UID:10000240-1521280800-1521309600@wirundjetzt.org
SUMMARY:Wochenende der Offenen Jurte - Lebe deine Natur - Markdorf
DESCRIPTION:Phoenixzeit FILM + Infoabend Nr 2\n\n	Die PHÖNIXZEIT Bodensee startet 2018 mit ihrem ersten Durchlauf\, nachdem sie in Potsdam jetzt seit 15 Jahren erfolgreich angeboten wird. Nach der Vorstellung wird es Zeit geben für Gespräche\, Fragen & Informationen zur Phönixzeit.  \n\n\n\n          		\n					 \n									\n						\n								Was ist die Phönixzeit?\n				Die Phönixzeit ist eine Entdeckungsreise für Jungen zwischen 13 und 15 Jahren im Übergang vom Kind zum jungen Mann\n​Das Alter von 13 bis 15 Jahren bringt viele neue Herausforderungen für Jungen und ihre Eltern.\nEs geht um den Abschied vom Kindsein und um Orientierung in der Welt der Erwachsenen. \nDieser Übergangsprozess vom Kind zum jungen Mann zieht sich über mehrere Jahre hin. Mit der Phoenixzeit  wollen wir den Jungen und seine Eltern dabei unterstützen und begleiten.\n\n​	\n	\n    Der Trailer zur Phoenixzeit / Manne e.V. Potsdam from Manne e.V. on Vimeo.      Sie sehen gerade einen Platzhalterinhalt von Vimeo. Um auf den eigentlichen Inhalt zuzugreifen\, klicken Sie auf die Schaltfläche unten. Bitte beachten Sie\, dass dabei Daten an Drittanbieter weitergegeben werden.  Mehr Informationen   Inhalt entsperren Erforderlichen Service akzeptieren und Inhalte entsperren
URL:https://wirundjetzt.org/event/wochenende-der-offenen-jurte-lebe-deine-natur/
CATEGORIES:Aktionen,gemeinschaft,Kultur,Workshop
ATTACH;FMTTYPE=image/png:https://wirundjetzt.org/wp-content/uploads/2018/02/Unbenannt-2.png
END:VEVENT
BEGIN:VEVENT
DTSTART;TZID=Europe/Berlin:20180318T100000
DTEND;TZID=Europe/Berlin:20180318T180000
DTSTAMP:20260419T184544
CREATED:20180211T184840Z
LAST-MODIFIED:20180311T084427Z
UID:10000244-1521367200-1521396000@wirundjetzt.org
SUMMARY:Wochenende der Offenen Jurte - Lebe deine Natur - Markdorf
DESCRIPTION:Phoenixzeit FILM + Infoabend Nr 2\n\n	Die PHÖNIXZEIT Bodensee startet 2018 mit ihrem ersten Durchlauf\, nachdem sie in Potsdam jetzt seit 15 Jahren erfolgreich angeboten wird. Nach der Vorstellung wird es Zeit geben für Gespräche\, Fragen & Informationen zur Phönixzeit.  \n\n\n\n          		\n					 \n									\n						\n								Was ist die Phönixzeit?\n				Die Phönixzeit ist eine Entdeckungsreise für Jungen zwischen 13 und 15 Jahren im Übergang vom Kind zum jungen Mann\n​Das Alter von 13 bis 15 Jahren bringt viele neue Herausforderungen für Jungen und ihre Eltern.\nEs geht um den Abschied vom Kindsein und um Orientierung in der Welt der Erwachsenen. \nDieser Übergangsprozess vom Kind zum jungen Mann zieht sich über mehrere Jahre hin. Mit der Phoenixzeit  wollen wir den Jungen und seine Eltern dabei unterstützen und begleiten.\n\n​	\n	\n    Der Trailer zur Phoenixzeit / Manne e.V. Potsdam from Manne e.V. on Vimeo.      Sie sehen gerade einen Platzhalterinhalt von Vimeo. Um auf den eigentlichen Inhalt zuzugreifen\, klicken Sie auf die Schaltfläche unten. Bitte beachten Sie\, dass dabei Daten an Drittanbieter weitergegeben werden.  Mehr Informationen   Inhalt entsperren Erforderlichen Service akzeptieren und Inhalte entsperren
URL:https://wirundjetzt.org/event/wochenende-der-offenen-jurte-lebe-deine-natur-2/
CATEGORIES:Aktionen,gemeinschaft,Kultur,Workshop
ATTACH;FMTTYPE=image/png:https://wirundjetzt.org/wp-content/uploads/2018/02/Unbenannt-2.png
END:VEVENT
END:VCALENDAR